Workbook

Sheet 変換
B1: 和暦・年齢・入学卒業年の変換
B2: 黄色いセルに入れると、下の結果が変わります。元号は「元号表」シートから引いています。
B3: 1. 西暦から和暦・干支・満年齢を出す
B4: 西暦（1868〜2048） | C4: 2027 | D4: 例: 2027。明治元年（1868）から令和30年（2048）まで
B5: 基準年（年齢を出す年） | C5: 2027 | D5: 年齢を出したい年。既定は2027（対応表・PDFの年齢はこの年の値）
B6: 元年の書き方（元年／1年） | C6: 元年 | D6: 「元年」か「1年」を選ぶ
B8: 結果
B9: 和暦 | C9: =IF(IF(ISNUMBER($C$4),AND($C$4>=1868,$C$4<=2048,$C$4=INT($C$4)),FALSE),IF(AND(COUNTIF('元号表'!$B$3:$B$12,"<="&$C$4)>1,$C$4=INDEX('元号表'!$B$3:$B$12,COUNTIF('元号表'!$B$3:$B$12,"<="&$C$4))),INDEX('元号表'!$A$3:$A$12,COUNTIF('元号表'!$B$3:$B$12,"<="&$C$4)-1)&($C$4-INDEX('元号表'!$B$3:$B$12,COUNTIF('元号表'!$B$3:$B$12,"<="&$C$4)-1)+1)&"年・"&INDEX('元号表'!$A$3:$A$12,COUNTIF('元号表'!$B$3:$B$12,"<="&$C$4))&IF(AND($C$4=INDEX('元号表'!$B$3:$B$12,COUNTIF('元号表'!$B$3:$B$12,"<="&$C$4)),$C$6="元年"),"元年",($C$4-INDEX('元号表'!$B$3:$B$12,COUNTIF('元号表'!$B$3:$B$12,"<="&$C$4))+1)&"年"),INDEX('元号表'!$A$3:$A$12,COUNTIF('元号表'!$B$3:$B$12,"<="&$C$4))&IF(AND($C$4=INDEX('元号表'!$B$3:$B$12,COUNTIF('元号表'!$B$3:$B$12,"<="&$C$4)),$C$6="元年"),"元年",($C$4-INDEX('元号表'!$B$3:$B$12,COUNTIF('元号表'!$B$3:$B$12,"<="&$C$4))+1)&"年")),"1868〜2048の整数で入れてください") -> 令和9年 | D9: 年の途中で改元された年（1912・1926・1989・2019）は両方の元号を出します（月日は出しません）
B10: 干支（十二支） | C10: =IF(IF(ISNUMBER($C$4),AND($C$4>=1868,$C$4<=2048,$C$4=INT($C$4)),FALSE),CHOOSE(MOD($C$4-4,12)+1,"子（ね）","丑（うし）","寅（とら）","卯（う）","辰（たつ）","巳（み）","午（うま）","未（ひつじ）","申（さる）","酉（とり）","戌（いぬ）","亥（い）"),"") -> 未（ひつじ） | D10: 西暦から機械的に決まる対応です
B11: 満年齢（誕生日前） | C11: =IF(IF(ISNUMBER($C$4),AND($C$4>=1868,$C$4<=2048,$C$4=INT($C$4)),FALSE),IF($C$5-$C$4-1<0,"－",$C$5-$C$4-1),"") -> － | D11: 基準年−西暦−1。基準年の誕生日を迎える前の満年齢（まだ生まれていない年は「－」）
B12: 満年齢（誕生日後） | C12: =IF(IF(ISNUMBER($C$4),AND($C$4>=1868,$C$4<=2048,$C$4=INT($C$4)),FALSE),IF($C$5-$C$4<0,"－",$C$5-$C$4),"") -> 0 | D12: 基準年−西暦。基準年の誕生日を迎えた後（当日を含む）の満年齢
B14: 2. 生まれた年月日から小学校の入学・卒業年を出す
B15: 生まれ年（西暦） | C15: 2000 | D15: 例: 2000
B16: 生まれ月 | C16: 5 | D16: 1〜12
B17: 生まれ日 | C17: 3 | D17: 1〜31
B18: 生まれ年の和暦 | C18: =IF(IF(ISNUMBER($C$15),AND($C$15>=1868,$C$15<=2048,$C$15=INT($C$15)),FALSE),IF(AND(COUNTIF('元号表'!$B$3:$B$12,"<="&$C$15)>1,$C$15=INDEX('元号表'!$B$3:$B$12,COUNTIF('元号表'!$B$3:$B$12,"<="&$C$15))),INDEX('元号表'!$A$3:$A$12,COUNTIF('元号表'!$B$3:$B$12,"<="&$C$15)-1)&($C$15-INDEX('元号表'!$B$3:$B$12,COUNTIF('元号表'!$B$3:$B$12,"<="&$C$15)-1)+1)&"年・"&INDEX('元号表'!$A$3:$A$12,COUNTIF('元号表'!$B$3:$B$12,"<="&$C$15))&IF(AND($C$15=INDEX('元号表'!$B$3:$B$12,COUNTIF('元号表'!$B$3:$B$12,"<="&$C$15)),$C$6="元年"),"元年",($C$15-INDEX('元号表'!$B$3:$B$12,COUNTIF('元号表'!$B$3:$B$12,"<="&$C$15))+1)&"年"),INDEX('元号表'!$A$3:$A$12,COUNTIF('元号表'!$B$3:$B$12,"<="&$C$15))&IF(AND($C$15=INDEX('元号表'!$B$3:$B$12,COUNTIF('元号表'!$B$3:$B$12,"<="&$C$15)),$C$6="元年"),"元年",($C$15-INDEX('元号表'!$B$3:$B$12,COUNTIF('元号表'!$B$3:$B$12,"<="&$C$15))+1)&"年")),"1868〜2048の整数で入れてください") -> 平成12年 | D18: 1912・1926・1989・2019年生まれは両方の元号が出ます
B19: 学年の区分 | C19: =IF(IF(AND(ISNUMBER($C$15),ISNUMBER($C$16),ISNUMBER($C$17)),AND($C$15>=1868,$C$15=INT($C$15),$C$16>=1,$C$16<=12,$C$16=INT($C$16),$C$17>=1,$C$17=INT($C$17),$C$17<=DAY(DATE($C$15,$C$16+1,0))),FALSE),IF(OR($C$16<4,AND($C$16=4,$C$17=1)),"1月1日〜4月1日生まれ（早生まれ）","4月2日〜12月31日生まれ"),"生まれ年・月・日を入れてください") -> 4月2日〜12月31日生まれ | D19: 4月1日生まれは1月1日〜4月1日側（早生まれ）。学校教育法17条の「満6歳に達した日の翌日以後の最初の学年の初め」
B20: 小学校 入学 | C20: =IF(IF(AND(ISNUMBER($C$15),ISNUMBER($C$16),ISNUMBER($C$17)),AND($C$15>=1868,$C$15=INT($C$15),$C$16>=1,$C$16<=12,$C$16=INT($C$16),$C$17>=1,$C$17=INT($C$17),$C$17<=DAY(DATE($C$15,$C$16+1,0))),FALSE),(($C$15+IF(OR($C$16<4,AND($C$16=4,$C$17=1)),6,7))+0)&"年4月","生まれ年・月・日を入れてください") -> 2007年4月 | D20: その年の4月
B21: 小学校 卒業 | C21: =IF(IF(AND(ISNUMBER($C$15),ISNUMBER($C$16),ISNUMBER($C$17)),AND($C$15>=1868,$C$15=INT($C$15),$C$16>=1,$C$16<=12,$C$16=INT($C$16),$C$17>=1,$C$17=INT($C$17),$C$17<=DAY(DATE($C$15,$C$16+1,0))),FALSE),(($C$15+IF(OR($C$16<4,AND($C$16=4,$C$17=1)),6,7))+6)&"年3月","生まれ年・月・日を入れてください") -> 2013年3月 | D21: 入学の6年後の3月
B22: 中学校 卒業 | C22: =IF(IF(AND(ISNUMBER($C$15),ISNUMBER($C$16),ISNUMBER($C$17)),AND($C$15>=1868,$C$15=INT($C$15),$C$16>=1,$C$16<=12,$C$16=INT($C$16),$C$17>=1,$C$17=INT($C$17),$C$17<=DAY(DATE($C$15,$C$16+1,0))),FALSE),(($C$15+IF(OR($C$16<4,AND($C$16=4,$C$17=1)),6,7))+9)&"年3月","生まれ年・月・日を入れてください") -> 2016年3月 | D22: 入学の9年後の3月
B23: 高等学校 卒業 | C23: =IF(IF(AND(ISNUMBER($C$15),ISNUMBER($C$16),ISNUMBER($C$17)),AND($C$15>=1868,$C$15=INT($C$15),$C$16>=1,$C$16<=12,$C$16=INT($C$16),$C$17>=1,$C$17=INT($C$17),$C$17<=DAY(DATE($C$15,$C$16+1,0))),FALSE),(($C$15+IF(OR($C$16<4,AND($C$16=4,$C$17=1)),6,7))+12)&"年3月","生まれ年・月・日を入れてください") -> 2019年3月 | D23: 入学の12年後の3月
B24: 大学 卒業（現役4年制） | C24: =IF(IF(AND(ISNUMBER($C$15),ISNUMBER($C$16),ISNUMBER($C$17)),AND($C$15>=1868,$C$15=INT($C$15),$C$16>=1,$C$16<=12,$C$16=INT($C$16),$C$17>=1,$C$17=INT($C$17),$C$17<=DAY(DATE($C$15,$C$16+1,0))),FALSE),(($C$15+IF(OR($C$16<4,AND($C$16=4,$C$17=1)),6,7))+16)&"年3月","生まれ年・月・日を入れてください") -> 2023年3月 | D24: 入学の16年後の3月。浪人・留年・早期入学・私立の特例は含みません

Sheet 対応表
A1: 和暦西暦早見表 大正元年（1912）〜令和20年（2038）
A2: 西暦 | B2: 和暦 | C2: 干支 | D2: ="満年齢（"&'変換'!$C$5&"年の誕生日前）" -> 満年齢（2027年の誕生日前） | E2: ="満年齢（"&'変換'!$C$5&"年の誕生日後）" -> 満年齢（2027年の誕生日後）
A3: 1912 | B3: 明治45年・大正元年 | C3: 子（ね） | D3: =IF('変換'!$C$5-A3-1<0,"－",'変換'!$C$5-A3-1) -> 114 | E3: =IF('変換'!$C$5-A3<0,"－",'変換'!$C$5-A3) -> 115
A4: 1913 | B4: 大正2年 | C4: 丑（うし） | D4: =IF('変換'!$C$5-A4-1<0,"－",'変換'!$C$5-A4-1) -> 113 | E4: =IF('変換'!$C$5-A4<0,"－",'変換'!$C$5-A4) -> 114
A5: 1914 | B5: 大正3年 | C5: 寅（とら） | D5: =IF('変換'!$C$5-A5-1<0,"－",'変換'!$C$5-A5-1) -> 112 | E5: =IF('変換'!$C$5-A5<0,"－",'変換'!$C$5-A5) -> 113
A6: 1915 | B6: 大正4年 | C6: 卯（う） | D6: =IF('変換'!$C$5-A6-1<0,"－",'変換'!$C$5-A6-1) -> 111 | E6: =IF('変換'!$C$5-A6<0,"－",'変換'!$C$5-A6) -> 112
A7: 1916 | B7: 大正5年 | C7: 辰（たつ） | D7: =IF('変換'!$C$5-A7-1<0,"－",'変換'!$C$5-A7-1) -> 110 | E7: =IF('変換'!$C$5-A7<0,"－",'変換'!$C$5-A7) -> 111
A8: 1917 | B8: 大正6年 | C8: 巳（み） | D8: =IF('変換'!$C$5-A8-1<0,"－",'変換'!$C$5-A8-1) -> 109 | E8: =IF('変換'!$C$5-A8<0,"－",'変換'!$C$5-A8) -> 110
A9: 1918 | B9: 大正7年 | C9: 午（うま） | D9: =IF('変換'!$C$5-A9-1<0,"－",'変換'!$C$5-A9-1) -> 108 | E9: =IF('変換'!$C$5-A9<0,"－",'変換'!$C$5-A9) -> 109
A10: 1919 | B10: 大正8年 | C10: 未（ひつじ） | D10: =IF('変換'!$C$5-A10-1<0,"－",'変換'!$C$5-A10-1) -> 107 | E10: =IF('変換'!$C$5-A10<0,"－",'変換'!$C$5-A10) -> 108
A11: 1920 | B11: 大正9年 | C11: 申（さる） | D11: =IF('変換'!$C$5-A11-1<0,"－",'変換'!$C$5-A11-1) -> 106 | E11: =IF('変換'!$C$5-A11<0,"－",'変換'!$C$5-A11) -> 107
A12: 1921 | B12: 大正10年 | C12: 酉（とり） | D12: =IF('変換'!$C$5-A12-1<0,"－",'変換'!$C$5-A12-1) -> 105 | E12: =IF('変換'!$C$5-A12<0,"－",'変換'!$C$5-A12) -> 106
A13: 1922 | B13: 大正11年 | C13: 戌（いぬ） | D13: =IF('変換'!$C$5-A13-1<0,"－",'変換'!$C$5-A13-1) -> 104 | E13: =IF('変換'!$C$5-A13<0,"－",'変換'!$C$5-A13) -> 105
A14: 1923 | B14: 大正12年 | C14: 亥（い） | D14: =IF('変換'!$C$5-A14-1<0,"－",'変換'!$C$5-A14-1) -> 103 | E14: =IF('変換'!$C$5-A14<0,"－",'変換'!$C$5-A14) -> 104
... A129: 2038 | B129: 令和20年 | C129: 午（うま） | D129: =IF('変換'!$C$5-A129-1<0,"－",'変換'!$C$5-A129-1) -> － | E129: =IF('変換'!$C$5-A129<0,"－",'変換'!$C$5-A129) -> －
A130: 平成元年は1989年1月8日、令和元年は2019年5月1日からです（元号を改める政令）。昭和・大正・明治の改元の月日は載せていません。

Sheet 学年表
A1: 入学・卒業年の早見表 生まれ年 1996〜2026（小学校入学は満6歳に達した日の翌日以後の最初の4月）
A2: 生まれ年 | B2: 和暦 | C2: 4月2日〜12月31日生まれ | H2: 1月1日〜4月1日生まれ（早生まれ）
C3: 小学校入学 | D3: 小学校卒業 | E3: 中学校卒業 | F3: 高校卒業 | G3: 大学卒業 | H3: 小学校入学 | I3: 小学校卒業 | J3: 中学校卒業 | K3: 高校卒業 | L3: 大学卒業
A4: 1996 | B4: 平成8年 | C4: 2003年4月 | D4: 2009年3月 | E4: 2012年3月 | F4: 2015年3月 | G4: 2019年3月 | H4: 2002年4月 | I4: 2008年3月 | J4: 2011年3月 | K4: 2014年3月 | L4: 2018年3月
A5: 1997 | B5: 平成9年 | C5: 2004年4月 | D5: 2010年3月 | E5: 2013年3月 | F5: 2016年3月 | G5: 2020年3月 | H5: 2003年4月 | I5: 2009年3月 | J5: 2012年3月 | K5: 2015年3月 | L5: 2019年3月
A6: 1998 | B6: 平成10年 | C6: 2005年4月 | D6: 2011年3月 | E6: 2014年3月 | F6: 2017年3月 | G6: 2021年3月 | H6: 2004年4月 | I6: 2010年3月 | J6: 2013年3月 | K6: 2016年3月 | L6: 2020年3月
A7: 1999 | B7: 平成11年 | C7: 2006年4月 | D7: 2012年3月 | E7: 2015年3月 | F7: 2018年3月 | G7: 2022年3月 | H7: 2005年4月 | I7: 2011年3月 | J7: 2014年3月 | K7: 2017年3月 | L7: 2021年3月
A8: 2000 | B8: 平成12年 | C8: 2007年4月 | D8: 2013年3月 | E8: 2016年3月 | F8: 2019年3月 | G8: 2023年3月 | H8: 2006年4月 | I8: 2012年3月 | J8: 2015年3月 | K8: 2018年3月 | L8: 2022年3月
A9: 2001 | B9: 平成13年 | C9: 2008年4月 | D9: 2014年3月 | E9: 2017年3月 | F9: 2020年3月 | G9: 2024年3月 | H9: 2007年4月 | I9: 2013年3月 | J9: 2016年3月 | K9: 2019年3月 | L9: 2023年3月
A10: 2002 | B10: 平成14年 | C10: 2009年4月 | D10: 2015年3月 | E10: 2018年3月 | F10: 2021年3月 | G10: 2025年3月 | H10: 2008年4月 | I10: 2014年3月 | J10: 2017年3月 | K10: 2020年3月 | L10: 2024年3月
A11: 2003 | B11: 平成15年 | C11: 2010年4月 | D11: 2016年3月 | E11: 2019年3月 | F11: 2022年3月 | G11: 2026年3月 | H11: 2009年4月 | I11: 2015年3月 | J11: 2018年3月 | K11: 2021年3月 | L11: 2025年3月
A12: 2004 | B12: 平成16年 | C12: 2011年4月 | D12: 2017年3月 | E12: 2020年3月 | F12: 2023年3月 | G12: 2027年3月 | H12: 2010年4月 | I12: 2016年3月 | J12: 2019年3月 | K12: 2022年3月 | L12: 2026年3月
A13: 2005 | B13: 平成17年 | C13: 2012年4月 | D13: 2018年3月 | E13: 2021年3月 | F13: 2024年3月 | G13: 2028年3月 | H13: 2011年4月 | I13: 2017年3月 | J13: 2020年3月 | K13: 2023年3月 | L13: 2027年3月
A14: 2006 | B14: 平成18年 | C14: 2013年4月 | D14: 2019年3月 | E14: 2022年3月 | F14: 2025年3月 | G14: 2029年3月 | H14: 2012年4月 | I14: 2018年3月 | J14: 2021年3月 | K14: 2024年3月 | L14: 2028年3月
A15: 2007 | B15: 平成19年 | C15: 2014年4月 | D15: 2020年3月 | E15: 2023年3月 | F15: 2026年3月 | G15: 2030年3月 | H15: 2013年4月 | I15: 2019年3月 | J15: 2022年3月 | K15: 2025年3月 | L15: 2029年3月
... A34: 2026 | B34: 令和8年 | C34: 2033年4月 | D34: 2039年3月 | E34: 2042年3月 | F34: 2045年3月 | G34: 2049年3月 | H34: 2032年4月 | I34: 2038年3月 | J34: 2041年3月 | K34: 2044年3月 | L34: 2048年3月
A35: 4月1日生まれは3月31日に満6歳になるので、右側（1月1日〜4月1日生まれ）です。卒業はいずれもその年の3月です。
A36: 大学卒業は現役の4年制の目安です。浪人・留年・早期入学・私立の特例は含みません。網掛けは年の途中で改元した年（併記）です。

Sheet 元号表
A1: 元号表（変換シートはここを見て和暦を出します）
A2: 元号 | B2: 元年の西暦 | C2: 元年の始まり（確認済みのもの） | D2: メモ
A3: 明治 | B3: 1868 | C3: 年のみ（月日は載せていません） | D3: 明治6年（1873）1月1日から新暦（グレゴリオ暦）。明治5年（1872）までは旧暦なので、変換シートの明治元〜5年は参考値
A4: 大正 | B4: 1912 | C4: 年のみ（月日は載せていません） | D4: 1912年は「明治45年・大正元年」の1行で出す
A5: 昭和 | B5: 1926 | C5: 年のみ（月日は載せていません） | D5: 1926年は「大正15年・昭和元年」の1行で出す
A6: 平成 | B6: 1989 | C6: 1989年1月8日 | D6: 元号を改める政令（昭和64年政令第1号）。1989年は「昭和64年・平成元年」
A7: 令和 | B7: 2019 | C7: 2019年5月1日 | D7: 元号を改める政令（平成31年政令第143号）。2019年は「平成31年・令和元年」
A14: 将来、元号が改まったら、空いている行に「元号」と「元年の西暦」を足します（古い順に並べる）。変換シートの和暦・対応表の年齢はこの表から数えるので、数式は直しません。ただし対応表の和暦の列は値で入っているので、必要な年を書き足します。

Sheet 使い方
A1: 使い方
A2: このファイルのシート
A3: 変換 | B3: 西暦を入れると和暦・干支・満年齢を出します。生まれた年月日を入れると、小学校の入学年と卒業年を出します。黄色いセルだけに入れます。
A4: 対応表 | B4: 大正元年（1912）〜令和20年（2038）の127年分の表です。印刷用（A4縦・2ページ）に整えてあります。年齢の列は、変換シートの「基準年」を変えると変わります（既定は2027）。
A5: 学年表 | B5: 生まれ年1996〜2026の入学・卒業年の表です（A4横・1ページ）。4月2日〜12月31日生まれと、1月1日〜4月1日生まれ（早生まれ）に分けてあります。
A6: 元号表 | B6: 変換シートが和暦を出すときに見る表です。元号を改める政令で日付を確認できたのは平成と令和だけなので、昭和・大正・明治は年だけを載せています。
A7: 元年の数え方
A8: 計算の目安 | B8: 令和＝西暦−2018、平成＝西暦−1988、昭和＝西暦−1925、大正＝西暦−1911、明治＝西暦−1867。年の途中で改元された年（1912・1926・1989・2019）は両方の元号を併記しています。
A9: 年齢の数え方
A10: 満年齢 | B10: 表の「誕生日前」は 基準年−生まれ年−1、「誕生日後」は 基準年−生まれ年 です。法律の上では、年齢は誕生日の前日の終了時に1つ加わります（年齢計算ニ関スル法律・民法143条2項）。
A11: 学年の決まり
A12: 小学校の入学 | B12: 満6歳に達した日の翌日以後の最初の学年の初め（学校教育法17条）。4月2日〜翌4月1日生まれが同じ学年で、4月1日生まれは3月31日に満6歳になるので早生まれ側です。
A13: 入学・卒業の式 | B13: 生まれ年Y。4月2日〜12月31日生まれは小学校入学がY+7年4月、1月1日〜4月1日生まれはY+6年4月。卒業はいずれもその年の3月で、小学校が入学+6、中学校が+9、高校が+12、大学（現役4年制）が+16です。
A14: 注意
A15: 明治5年以前 | B15: 明治6年（1873）1月1日から新暦（グレゴリオ暦）になりました。変換シートの明治元〜5年（1868〜1872）は、旧暦の年と新暦の年がずれるので参考値です。
A16: 確かめたこと | B16: 計算は LibreOffice で再計算して、全年・全日付で別に作った計算と一致することを確かめてあります。Excel と Google スプレッドシートの実機では開いていません。使う関数は IF・AND・OR・ISNUMBER・INT・COUNTIF・INDEX・CHOOSE・MOD・DATE・DAY です。
A17: 出典 | B17: 元号を改める政令（令和: 平成31年政令第143号／平成: 昭和64年政令第1号）、元号法、学校教育法17条、年齢計算ニ関スル法律、民法143条（e-Gov法令検索）。国立国会図書館「日本の暦」。
