Workbook

Sheet 年間カレンダー
A1: 別紙 年間カレンダー（1年単位の変形労働時間制）
A2: 黄色のセルに入力します。区分表と判定のシートは自動で計算します。
A4: 対象期間の開始日
A5: 対象期間の終了日 | B5: =IF(ISNUMBER(B4),EDATE(B4,12)-1,"") | D5: ← 1年のときは自動で入ります。1年未満のときは日付を入れ直します。
A6: 対象期間の暦日数 | B6: =IF(AND(ISNUMBER(B4),ISNUMBER(B5)),B5-B4+1,"")
A7: 特定期間（開始）
A8: 特定期間（終了） | D8: ← 特定期間を定めないときは空欄
A10: 日ごとの勤務（区分・始業・終業・休憩を入力）
A11: 日付 | B11: 曜日 | C11: 区分 | D11: 始業 | E11: 終業 | F11: 休憩（分） | G11: 労働時間 | H11: 週 | I11: 連続労働日数 | J11: 特定期間
A12: =IF(ISNUMBER($B$4),IF(ISNUMBER($B$5),IF($B$4+0<=$B$5,$B$4+0,""),""),"") | B12: =IF(A12="","",CHOOSE(WEEKDAY(A12),"日","月","火","水","木","金","土")) | G12: =IF(OR(A12="",C12<>"労働日"),0,MAX(0,MOD(E12-D12,1)*24-F12/60)) -> 0 | H12: =IF(A12="","",INT((A12-$B$4)/7)+1) | I12: =IF(AND(A12<>"",C12="労働日"),0+1,0) -> 0 | J12: =IF(AND(A12<>"",ISNUMBER($B$7),ISNUMBER($B$8)),IF(AND(A12>=$B$7,A12<=$B$8),1,0),0) -> 0
A13: =IF(ISNUMBER($B$4),IF(ISNUMBER($B$5),IF($B$4+1<=$B$5,$B$4+1,""),""),"") | B13: =IF(A13="","",CHOOSE(WEEKDAY(A13),"日","月","火","水","木","金","土")) | G13: =IF(OR(A13="",C13<>"労働日"),0,MAX(0,MOD(E13-D13,1)*24-F13/60)) -> 0 | H13: =IF(A13="","",INT((A13-$B$4)/7)+1) | I13: =IF(AND(A13<>"",C13="労働日"),I12+1,0) -> 0 | J13: =IF(AND(A13<>"",ISNUMBER($B$7),ISNUMBER($B$8)),IF(AND(A13>=$B$7,A13<=$B$8),1,0),0) -> 0
A14: =IF(ISNUMBER($B$4),IF(ISNUMBER($B$5),IF($B$4+2<=$B$5,$B$4+2,""),""),"") | B14: =IF(A14="","",CHOOSE(WEEKDAY(A14),"日","月","火","水","木","金","土")) | G14: =IF(OR(A14="",C14<>"労働日"),0,MAX(0,MOD(E14-D14,1)*24-F14/60)) -> 0 | H14: =IF(A14="","",INT((A14-$B$4)/7)+1) | I14: =IF(AND(A14<>"",C14="労働日"),I13+1,0) -> 0 | J14: =IF(AND(A14<>"",ISNUMBER($B$7),ISNUMBER($B$8)),IF(AND(A14>=$B$7,A14<=$B$8),1,0),0) -> 0
A15: =IF(ISNUMBER($B$4),IF(ISNUMBER($B$5),IF($B$4+3<=$B$5,$B$4+3,""),""),"") | B15: =IF(A15="","",CHOOSE(WEEKDAY(A15),"日","月","火","水","木","金","土")) | G15: =IF(OR(A15="",C15<>"労働日"),0,MAX(0,MOD(E15-D15,1)*24-F15/60)) -> 0 | H15: =IF(A15="","",INT((A15-$B$4)/7)+1) | I15: =IF(AND(A15<>"",C15="労働日"),I14+1,0) -> 0 | J15: =IF(AND(A15<>"",ISNUMBER($B$7),ISNUMBER($B$8)),IF(AND(A15>=$B$7,A15<=$B$8),1,0),0) -> 0
A16: =IF(ISNUMBER($B$4),IF(ISNUMBER($B$5),IF($B$4+4<=$B$5,$B$4+4,""),""),"") | B16: =IF(A16="","",CHOOSE(WEEKDAY(A16),"日","月","火","水","木","金","土")) | G16: =IF(OR(A16="",C16<>"労働日"),0,MAX(0,MOD(E16-D16,1)*24-F16/60)) -> 0 | H16: =IF(A16="","",INT((A16-$B$4)/7)+1) | I16: =IF(AND(A16<>"",C16="労働日"),I15+1,0) -> 0 | J16: =IF(AND(A16<>"",ISNUMBER($B$7),ISNUMBER($B$8)),IF(AND(A16>=$B$7,A16<=$B$8),1,0),0) -> 0
A17: =IF(ISNUMBER($B$4),IF(ISNUMBER($B$5),IF($B$4+5<=$B$5,$B$4+5,""),""),"") | B17: =IF(A17="","",CHOOSE(WEEKDAY(A17),"日","月","火","水","木","金","土")) | G17: =IF(OR(A17="",C17<>"労働日"),0,MAX(0,MOD(E17-D17,1)*24-F17/60)) -> 0 | H17: =IF(A17="","",INT((A17-$B$4)/7)+1) | I17: =IF(AND(A17<>"",C17="労働日"),I16+1,0) -> 0 | J17: =IF(AND(A17<>"",ISNUMBER($B$7),ISNUMBER($B$8)),IF(AND(A17>=$B$7,A17<=$B$8),1,0),0) -> 0
A18: =IF(ISNUMBER($B$4),IF(ISNUMBER($B$5),IF($B$4+6<=$B$5,$B$4+6,""),""),"") | B18: =IF(A18="","",CHOOSE(WEEKDAY(A18),"日","月","火","水","木","金","土")) | G18: =IF(OR(A18="",C18<>"労働日"),0,MAX(0,MOD(E18-D18,1)*24-F18/60)) -> 0 | H18: =IF(A18="","",INT((A18-$B$4)/7)+1) | I18: =IF(AND(A18<>"",C18="労働日"),I17+1,0) -> 0 | J18: =IF(AND(A18<>"",ISNUMBER($B$7),ISNUMBER($B$8)),IF(AND(A18>=$B$7,A18<=$B$8),1,0),0) -> 0
A19: =IF(ISNUMBER($B$4),IF(ISNUMBER($B$5),IF($B$4+7<=$B$5,$B$4+7,""),""),"") | B19: =IF(A19="","",CHOOSE(WEEKDAY(A19),"日","月","火","水","木","金","土")) | G19: =IF(OR(A19="",C19<>"労働日"),0,MAX(0,MOD(E19-D19,1)*24-F19/60)) -> 0 | H19: =IF(A19="","",INT((A19-$B$4)/7)+1) | I19: =IF(AND(A19<>"",C19="労働日"),I18+1,0) -> 0 | J19: =IF(AND(A19<>"",ISNUMBER($B$7),ISNUMBER($B$8)),IF(AND(A19>=$B$7,A19<=$B$8),1,0),0) -> 0
A20: =IF(ISNUMBER($B$4),IF(ISNUMBER($B$5),IF($B$4+8<=$B$5,$B$4+8,""),""),"") | B20: =IF(A20="","",CHOOSE(WEEKDAY(A20),"日","月","火","水","木","金","土")) | G20: =IF(OR(A20="",C20<>"労働日"),0,MAX(0,MOD(E20-D20,1)*24-F20/60)) -> 0 | H20: =IF(A20="","",INT((A20-$B$4)/7)+1) | I20: =IF(AND(A20<>"",C20="労働日"),I19+1,0) -> 0 | J20: =IF(AND(A20<>"",ISNUMBER($B$7),ISNUMBER($B$8)),IF(AND(A20>=$B$7,A20<=$B$8),1,0),0) -> 0
A21: =IF(ISNUMBER($B$4),IF(ISNUMBER($B$5),IF($B$4+9<=$B$5,$B$4+9,""),""),"") | B21: =IF(A21="","",CHOOSE(WEEKDAY(A21),"日","月","火","水","木","金","土")) | G21: =IF(OR(A21="",C21<>"労働日"),0,MAX(0,MOD(E21-D21,1)*24-F21/60)) -> 0 | H21: =IF(A21="","",INT((A21-$B$4)/7)+1) | I21: =IF(AND(A21<>"",C21="労働日"),I20+1,0) -> 0 | J21: =IF(AND(A21<>"",ISNUMBER($B$7),ISNUMBER($B$8)),IF(AND(A21>=$B$7,A21<=$B$8),1,0),0) -> 0
A22: =IF(ISNUMBER($B$4),IF(ISNUMBER($B$5),IF($B$4+10<=$B$5,$B$4+10,""),""),"") | B22: =IF(A22="","",CHOOSE(WEEKDAY(A22),"日","月","火","水","木","金","土")) | G22: =IF(OR(A22="",C22<>"労働日"),0,MAX(0,MOD(E22-D22,1)*24-F22/60)) -> 0 | H22: =IF(A22="","",INT((A22-$B$4)/7)+1) | I22: =IF(AND(A22<>"",C22="労働日"),I21+1,0) -> 0 | J22: =IF(AND(A22<>"",ISNUMBER($B$7),ISNUMBER($B$8)),IF(AND(A22>=$B$7,A22<=$B$8),1,0),0) -> 0
A23: =IF(ISNUMBER($B$4),IF(ISNUMBER($B$5),IF($B$4+11<=$B$5,$B$4+11,""),""),"") | B23: =IF(A23="","",CHOOSE(WEEKDAY(A23),"日","月","火","水","木","金","土")) | G23: =IF(OR(A23="",C23<>"労働日"),0,MAX(0,MOD(E23-D23,1)*24-F23/60)) -> 0 | H23: =IF(A23="","",INT((A23-$B$4)/7)+1) | I23: =IF(AND(A23<>"",C23="労働日"),I22+1,0) -> 0 | J23: =IF(AND(A23<>"",ISNUMBER($B$7),ISNUMBER($B$8)),IF(AND(A23>=$B$7,A23<=$B$8),1,0),0) -> 0
A24: =IF(ISNUMBER($B$4),IF(ISNUMBER($B$5),IF($B$4+12<=$B$5,$B$4+12,""),""),"") | B24: =IF(A24="","",CHOOSE(WEEKDAY(A24),"日","月","火","水","木","金","土")) | G24: =IF(OR(A24="",C24<>"労働日"),0,MAX(0,MOD(E24-D24,1)*24-F24/60)) -> 0 | H24: =IF(A24="","",INT((A24-$B$4)/7)+1) | I24: =IF(AND(A24<>"",C24="労働日"),I23+1,0) -> 0 | J24: =IF(AND(A24<>"",ISNUMBER($B$7),ISNUMBER($B$8)),IF(AND(A24>=$B$7,A24<=$B$8),1,0),0) -> 0
A25: =IF(ISNUMBER($B$4),IF(ISNUMBER($B$5),IF($B$4+13<=$B$5,$B$4+13,""),""),"") | B25: =IF(A25="","",CHOOSE(WEEKDAY(A25),"日","月","火","水","木","金","土")) | G25: =IF(OR(A25="",C25<>"労働日"),0,MAX(0,MOD(E25-D25,1)*24-F25/60)) -> 0 | H25: =IF(A25="","",INT((A25-$B$4)/7)+1) | I25: =IF(AND(A25<>"",C25="労働日"),I24+1,0) -> 0 | J25: =IF(AND(A25<>"",ISNUMBER($B$7),ISNUMBER($B$8)),IF(AND(A25>=$B$7,A25<=$B$8),1,0),0) -> 0
A26: =IF(ISNUMBER($B$4),IF(ISNUMBER($B$5),IF($B$4+14<=$B$5,$B$4+14,""),""),"") | B26: =IF(A26="","",CHOOSE(WEEKDAY(A26),"日","月","火","水","木","金","土")) | G26: =IF(OR(A26="",C26<>"労働日"),0,MAX(0,MOD(E26-D26,1)*24-F26/60)) -> 0 | H26: =IF(A26="","",INT((A26-$B$4)/7)+1) | I26: =IF(AND(A26<>"",C26="労働日"),I25+1,0) -> 0 | J26: =IF(AND(A26<>"",ISNUMBER($B$7),ISNUMBER($B$8)),IF(AND(A26>=$B$7,A26<=$B$8),1,0),0) -> 0
A27: =IF(ISNUMBER($B$4),IF(ISNUMBER($B$5),IF($B$4+15<=$B$5,$B$4+15,""),""),"") | B27: =IF(A27="","",CHOOSE(WEEKDAY(A27),"日","月","火","水","木","金","土")) | G27: =IF(OR(A27="",C27<>"労働日"),0,MAX(0,MOD(E27-D27,1)*24-F27/60)) -> 0 | H27: =IF(A27="","",INT((A27-$B$4)/7)+1) | I27: =IF(AND(A27<>"",C27="労働日"),I26+1,0) -> 0 | J27: =IF(AND(A27<>"",ISNUMBER($B$7),ISNUMBER($B$8)),IF(AND(A27>=$B$7,A27<=$B$8),1,0),0) -> 0
A28: =IF(ISNUMBER($B$4),IF(ISNUMBER($B$5),IF($B$4+16<=$B$5,$B$4+16,""),""),"") | B28: =IF(A28="","",CHOOSE(WEEKDAY(A28),"日","月","火","水","木","金","土")) | G28: =IF(OR(A28="",C28<>"労働日"),0,MAX(0,MOD(E28-D28,1)*24-F28/60)) -> 0 | H28: =IF(A28="","",INT((A28-$B$4)/7)+1) | I28: =IF(AND(A28<>"",C28="労働日"),I27+1,0) -> 0 | J28: =IF(AND(A28<>"",ISNUMBER($B$7),ISNUMBER($B$8)),IF(AND(A28>=$B$7,A28<=$B$8),1,0),0) -> 0
A29: =IF(ISNUMBER($B$4),IF(ISNUMBER($B$5),IF($B$4+17<=$B$5,$B$4+17,""),""),"") | B29: =IF(A29="","",CHOOSE(WEEKDAY(A29),"日","月","火","水","木","金","土")) | G29: =IF(OR(A29="",C29<>"労働日"),0,MAX(0,MOD(E29-D29,1)*24-F29/60)) -> 0 | H29: =IF(A29="","",INT((A29-$B$4)/7)+1) | I29: =IF(AND(A29<>"",C29="労働日"),I28+1,0) -> 0 | J29: =IF(AND(A29<>"",ISNUMBER($B$7),ISNUMBER($B$8)),IF(AND(A29>=$B$7,A29<=$B$8),1,0),0) -> 0
A30: =IF(ISNUMBER($B$4),IF(ISNUMBER($B$5),IF($B$4+18<=$B$5,$B$4+18,""),""),"") | B30: =IF(A30="","",CHOOSE(WEEKDAY(A30),"日","月","火","水","木","金","土")) | G30: =IF(OR(A30="",C30<>"労働日"),0,MAX(0,MOD(E30-D30,1)*24-F30/60)) -> 0 | H30: =IF(A30="","",INT((A30-$B$4)/7)+1) | I30: =IF(AND(A30<>"",C30="労働日"),I29+1,0) -> 0 | J30: =IF(AND(A30<>"",ISNUMBER($B$7),ISNUMBER($B$8)),IF(AND(A30>=$B$7,A30<=$B$8),1,0),0) -> 0
A31: =IF(ISNUMBER($B$4),IF(ISNUMBER($B$5),IF($B$4+19<=$B$5,$B$4+19,""),""),"") | B31: =IF(A31="","",CHOOSE(WEEKDAY(A31),"日","月","火","水","木","金","土")) | G31: =IF(OR(A31="",C31<>"労働日"),0,MAX(0,MOD(E31-D31,1)*24-F31/60)) -> 0 | H31: =IF(A31="","",INT((A31-$B$4)/7)+1) | I31: =IF(AND(A31<>"",C31="労働日"),I30+1,0) -> 0 | J31: =IF(AND(A31<>"",ISNUMBER($B$7),ISNUMBER($B$8)),IF(AND(A31>=$B$7,A31<=$B$8),1,0),0) -> 0
A32: =IF(ISNUMBER($B$4),IF(ISNUMBER($B$5),IF($B$4+20<=$B$5,$B$4+20,""),""),"") | B32: =IF(A32="","",CHOOSE(WEEKDAY(A32),"日","月","火","水","木","金","土")) | G32: =IF(OR(A32="",C32<>"労働日"),0,MAX(0,MOD(E32-D32,1)*24-F32/60)) -> 0 | H32: =IF(A32="","",INT((A32-$B$4)/7)+1) | I32: =IF(AND(A32<>"",C32="労働日"),I31+1,0) -> 0 | J32: =IF(AND(A32<>"",ISNUMBER($B$7),ISNUMBER($B$8)),IF(AND(A32>=$B$7,A32<=$B$8),1,0),0) -> 0
A33: =IF(ISNUMBER($B$4),IF(ISNUMBER($B$5),IF($B$4+21<=$B$5,$B$4+21,""),""),"") | B33: =IF(A33="","",CHOOSE(WEEKDAY(A33),"日","月","火","水","木","金","土")) | G33: =IF(OR(A33="",C33<>"労働日"),0,MAX(0,MOD(E33-D33,1)*24-F33/60)) -> 0 | H33: =IF(A33="","",INT((A33-$B$4)/7)+1) | I33: =IF(AND(A33<>"",C33="労働日"),I32+1,0) -> 0 | J33: =IF(AND(A33<>"",ISNUMBER($B$7),ISNUMBER($B$8)),IF(AND(A33>=$B$7,A33<=$B$8),1,0),0) -> 0
A34: =IF(ISNUMBER($B$4),IF(ISNUMBER($B$5),IF($B$4+22<=$B$5,$B$4+22,""),""),"") | B34: =IF(A34="","",CHOOSE(WEEKDAY(A34),"日","月","火","水","木","金","土")) | G34: =IF(OR(A34="",C34<>"労働日"),0,MAX(0,MOD(E34-D34,1)*24-F34/60)) -> 0 | H34: =IF(A34="","",INT((A34-$B$4)/7)+1) | I34: =IF(AND(A34<>"",C34="労働日"),I33+1,0) -> 0 | J34: =IF(AND(A34<>"",ISNUMBER($B$7),ISNUMBER($B$8)),IF(AND(A34>=$B$7,A34<=$B$8),1,0),0) -> 0
A35: =IF(ISNUMBER($B$4),IF(ISNUMBER($B$5),IF($B$4+23<=$B$5,$B$4+23,""),""),"") | B35: =IF(A35="","",CHOOSE(WEEKDAY(A35),"日","月","火","水","木","金","土")) | G35: =IF(OR(A35="",C35<>"労働日"),0,MAX(0,MOD(E35-D35,1)*24-F35/60)) -> 0 | H35: =IF(A35="","",INT((A35-$B$4)/7)+1) | I35: =IF(AND(A35<>"",C35="労働日"),I34+1,0) -> 0 | J35: =IF(AND(A35<>"",ISNUMBER($B$7),ISNUMBER($B$8)),IF(AND(A35>=$B$7,A35<=$B$8),1,0),0) -> 0
A36: =IF(ISNUMBER($B$4),IF(ISNUMBER($B$5),IF($B$4+24<=$B$5,$B$4+24,""),""),"") | B36: =IF(A36="","",CHOOSE(WEEKDAY(A36),"日","月","火","水","木","金","土")) | G36: =IF(OR(A36="",C36<>"労働日"),0,MAX(0,MOD(E36-D36,1)*24-F36/60)) -> 0 | H36: =IF(A36="","",INT((A36-$B$4)/7)+1) | I36: =IF(AND(A36<>"",C36="労働日"),I35+1,0) -> 0 | J36: =IF(AND(A36<>"",ISNUMBER($B$7),ISNUMBER($B$8)),IF(AND(A36>=$B$7,A36<=$B$8),1,0),0) -> 0
A37: =IF(ISNUMBER($B$4),IF(ISNUMBER($B$5),IF($B$4+25<=$B$5,$B$4+25,""),""),"") | B37: =IF(A37="","",CHOOSE(WEEKDAY(A37),"日","月","火","水","木","金","土")) | G37: =IF(OR(A37="",C37<>"労働日"),0,MAX(0,MOD(E37-D37,1)*24-F37/60)) -> 0 | H37: =IF(A37="","",INT((A37-$B$4)/7)+1) | I37: =IF(AND(A37<>"",C37="労働日"),I36+1,0) -> 0 | J37: =IF(AND(A37<>"",ISNUMBER($B$7),ISNUMBER($B$8)),IF(AND(A37>=$B$7,A37<=$B$8),1,0),0) -> 0
A38: =IF(ISNUMBER($B$4),IF(ISNUMBER($B$5),IF($B$4+26<=$B$5,$B$4+26,""),""),"") | B38: =IF(A38="","",CHOOSE(WEEKDAY(A38),"日","月","火","水","木","金","土")) | G38: =IF(OR(A38="",C38<>"労働日"),0,MAX(0,MOD(E38-D38,1)*24-F38/60)) -> 0 | H38: =IF(A38="","",INT((A38-$B$4)/7)+1) | I38: =IF(AND(A38<>"",C38="労働日"),I37+1,0) -> 0 | J38: =IF(AND(A38<>"",ISNUMBER($B$7),ISNUMBER($B$8)),IF(AND(A38>=$B$7,A38<=$B$8),1,0),0) -> 0
A39: =IF(ISNUMBER($B$4),IF(ISNUMBER($B$5),IF($B$4+27<=$B$5,$B$4+27,""),""),"") | B39: =IF(A39="","",CHOOSE(WEEKDAY(A39),"日","月","火","水","木","金","土")) | G39: =IF(OR(A39="",C39<>"労働日"),0,MAX(0,MOD(E39-D39,1)*24-F39/60)) -> 0 | H39: =IF(A39="","",INT((A39-$B$4)/7)+1) | I39: =IF(AND(A39<>"",C39="労働日"),I38+1,0) -> 0 | J39: =IF(AND(A39<>"",ISNUMBER($B$7),ISNUMBER($B$8)),IF(AND(A39>=$B$7,A39<=$B$8),1,0),0) -> 0
A40: =IF(ISNUMBER($B$4),IF(ISNUMBER($B$5),IF($B$4+28<=$B$5,$B$4+28,""),""),"") | B40: =IF(A40="","",CHOOSE(WEEKDAY(A40),"日","月","火","水","木","金","土")) | G40: =IF(OR(A40="",C40<>"労働日"),0,MAX(0,MOD(E40-D40,1)*24-F40/60)) -> 0 | H40: =IF(A40="","",INT((A40-$B$4)/7)+1) | I40: =IF(AND(A40<>"",C40="労働日"),I39+1,0) -> 0 | J40: =IF(AND(A40<>"",ISNUMBER($B$7),ISNUMBER($B$8)),IF(AND(A40>=$B$7,A40<=$B$8),1,0),0) -> 0
A41: =IF(ISNUMBER($B$4),IF(ISNUMBER($B$5),IF($B$4+29<=$B$5,$B$4+29,""),""),"") | B41: =IF(A41="","",CHOOSE(WEEKDAY(A41),"日","月","火","水","木","金","土")) | G41: =IF(OR(A41="",C41<>"労働日"),0,MAX(0,MOD(E41-D41,1)*24-F41/60)) -> 0 | H41: =IF(A41="","",INT((A41-$B$4)/7)+1) | I41: =IF(AND(A41<>"",C41="労働日"),I40+1,0) -> 0 | J41: =IF(AND(A41<>"",ISNUMBER($B$7),ISNUMBER($B$8)),IF(AND(A41>=$B$7,A41<=$B$8),1,0),0) -> 0
A42: =IF(ISNUMBER($B$4),IF(ISNUMBER($B$5),IF($B$4+30<=$B$5,$B$4+30,""),""),"") | B42: =IF(A42="","",CHOOSE(WEEKDAY(A42),"日","月","火","水","木","金","土")) | G42: =IF(OR(A42="",C42<>"労働日"),0,MAX(0,MOD(E42-D42,1)*24-F42/60)) -> 0 | H42: =IF(A42="","",INT((A42-$B$4)/7)+1) | I42: =IF(AND(A42<>"",C42="労働日"),I41+1,0) -> 0 | J42: =IF(AND(A42<>"",ISNUMBER($B$7),ISNUMBER($B$8)),IF(AND(A42>=$B$7,A42<=$B$8),1,0),0) -> 0
A43: =IF(ISNUMBER($B$4),IF(ISNUMBER($B$5),IF($B$4+31<=$B$5,$B$4+31,""),""),"") | B43: =IF(A43="","",CHOOSE(WEEKDAY(A43),"日","月","火","水","木","金","土")) | G43: =IF(OR(A43="",C43<>"労働日"),0,MAX(0,MOD(E43-D43,1)*24-F43/60)) -> 0 | H43: =IF(A43="","",INT((A43-$B$4)/7)+1) | I43: =IF(AND(A43<>"",C43="労働日"),I42+1,0) -> 0 | J43: =IF(AND(A43<>"",ISNUMBER($B$7),ISNUMBER($B$8)),IF(AND(A43>=$B$7,A43<=$B$8),1,0),0) -> 0
A44: =IF(ISNUMBER($B$4),IF(ISNUMBER($B$5),IF($B$4+32<=$B$5,$B$4+32,""),""),"") | B44: =IF(A44="","",CHOOSE(WEEKDAY(A44),"日","月","火","水","木","金","土")) | G44: =IF(OR(A44="",C44<>"労働日"),0,MAX(0,MOD(E44-D44,1)*24-F44/60)) -> 0 | H44: =IF(A44="","",INT((A44-$B$4)/7)+1) | I44: =IF(AND(A44<>"",C44="労働日"),I43+1,0) -> 0 | J44: =IF(AND(A44<>"",ISNUMBER($B$7),ISNUMBER($B$8)),IF(AND(A44>=$B$7,A44<=$B$8),1,0),0) -> 0
A45: =IF(ISNUMBER($B$4),IF(ISNUMBER($B$5),IF($B$4+33<=$B$5,$B$4+33,""),""),"") | B45: =IF(A45="","",CHOOSE(WEEKDAY(A45),"日","月","火","水","木","金","土")) | G45: =IF(OR(A45="",C45<>"労働日"),0,MAX(0,MOD(E45-D45,1)*24-F45/60)) -> 0 | H45: =IF(A45="","",INT((A45-$B$4)/7)+1) | I45: =IF(AND(A45<>"",C45="労働日"),I44+1,0) -> 0 | J45: =IF(AND(A45<>"",ISNUMBER($B$7),ISNUMBER($B$8)),IF(AND(A45>=$B$7,A45<=$B$8),1,0),0) -> 0
A46: =IF(ISNUMBER($B$4),IF(ISNUMBER($B$5),IF($B$4+34<=$B$5,$B$4+34,""),""),"") | B46: =IF(A46="","",CHOOSE(WEEKDAY(A46),"日","月","火","水","木","金","土")) | G46: =IF(OR(A46="",C46<>"労働日"),0,MAX(0,MOD(E46-D46,1)*24-F46/60)) -> 0 | H46: =IF(A46="","",INT((A46-$B$4)/7)+1) | I46: =IF(AND(A46<>"",C46="労働日"),I45+1,0) -> 0 | J46: =IF(AND(A46<>"",ISNUMBER($B$7),ISNUMBER($B$8)),IF(AND(A46>=$B$7,A46<=$B$8),1,0),0) -> 0
A47: =IF(ISNUMBER($B$4),IF(ISNUMBER($B$5),IF($B$4+35<=$B$5,$B$4+35,""),""),"") | B47: =IF(A47="","",CHOOSE(WEEKDAY(A47),"日","月","火","水","木","金","土")) | G47: =IF(OR(A47="",C47<>"労働日"),0,MAX(0,MOD(E47-D47,1)*24-F47/60)) -> 0 | H47: =IF(A47="","",INT((A47-$B$4)/7)+1) | I47: =IF(AND(A47<>"",C47="労働日"),I46+1,0) -> 0 | J47: =IF(AND(A47<>"",ISNUMBER($B$7),ISNUMBER($B$8)),IF(AND(A47>=$B$7,A47<=$B$8),1,0),0) -> 0
A48: =IF(ISNUMBER($B$4),IF(ISNUMBER($B$5),IF($B$4+36<=$B$5,$B$4+36,""),""),"") | B48: =IF(A48="","",CHOOSE(WEEKDAY(A48),"日","月","火","水","木","金","土")) | G48: =IF(OR(A48="",C48<>"労働日"),0,MAX(0,MOD(E48-D48,1)*24-F48/60)) -> 0 | H48: =IF(A48="","",INT((A48-$B$4)/7)+1) | I48: =IF(AND(A48<>"",C48="労働日"),I47+1,0) -> 0 | J48: =IF(AND(A48<>"",ISNUMBER($B$7),ISNUMBER($B$8)),IF(AND(A48>=$B$7,A48<=$B$8),1,0),0) -> 0
A49: =IF(ISNUMBER($B$4),IF(ISNUMBER($B$5),IF($B$4+37<=$B$5,$B$4+37,""),""),"") | B49: =IF(A49="","",CHOOSE(WEEKDAY(A49),"日","月","火","水","木","金","土")) | G49: =IF(OR(A49="",C49<>"労働日"),0,MAX(0,MOD(E49-D49,1)*24-F49/60)) -> 0 | H49: =IF(A49="","",INT((A49-$B$4)/7)+1) | I49: =IF(AND(A49<>"",C49="労働日"),I48+1,0) -> 0 | J49: =IF(AND(A49<>"",ISNUMBER($B$7),ISNUMBER($B$8)),IF(AND(A49>=$B$7,A49<=$B$8),1,0),0) -> 0
A50: =IF(ISNUMBER($B$4),IF(ISNUMBER($B$5),IF($B$4+38<=$B$5,$B$4+38,""),""),"") | B50: =IF(A50="","",CHOOSE(WEEKDAY(A50),"日","月","火","水","木","金","土")) | G50: =IF(OR(A50="",C50<>"労働日"),0,MAX(0,MOD(E50-D50,1)*24-F50/60)) -> 0 | H50: =IF(A50="","",INT((A50-$B$4)/7)+1) | I50: =IF(AND(A50<>"",C50="労働日"),I49+1,0) -> 0 | J50: =IF(AND(A50<>"",ISNUMBER($B$7),ISNUMBER($B$8)),IF(AND(A50>=$B$7,A50<=$B$8),1,0),0) -> 0
A51: =IF(ISNUMBER($B$4),IF(ISNUMBER($B$5),IF($B$4+39<=$B$5,$B$4+39,""),""),"") | B51: =IF(A51="","",CHOOSE(WEEKDAY(A51),"日","月","火","水","木","金","土")) | G51: =IF(OR(A51="",C51<>"労働日"),0,MAX(0,MOD(E51-D51,1)*24-F51/60)) -> 0 | H51: =IF(A51="","",INT((A51-$B$4)/7)+1) | I51: =IF(AND(A51<>"",C51="労働日"),I50+1,0) -> 0 | J51: =IF(AND(A51<>"",ISNUMBER($B$7),ISNUMBER($B$8)),IF(AND(A51>=$B$7,A51<=$B$8),1,0),0) -> 0
A52: =IF(ISNUMBER($B$4),IF(ISNUMBER($B$5),IF($B$4+40<=$B$5,$B$4+40,""),""),"") | B52: =IF(A52="","",CHOOSE(WEEKDAY(A52),"日","月","火","水","木","金","土")) | G52: =IF(OR(A52="",C52<>"労働日"),0,MAX(0,MOD(E52-D52,1)*24-F52/60)) -> 0 | H52: =IF(A52="","",INT((A52-$B$4)/7)+1) | I52: =IF(AND(A52<>"",C52="労働日"),I51+1,0) -> 0 | J52: =IF(AND(A52<>"",ISNUMBER($B$7),ISNUMBER($B$8)),IF(AND(A52>=$B$7,A52<=$B$8),1,0),0) -> 0
A53: =IF(ISNUMBER($B$4),IF(ISNUMBER($B$5),IF($B$4+41<=$B$5,$B$4+41,""),""),"") | B53: =IF(A53="","",CHOOSE(WEEKDAY(A53),"日","月","火","水","木","金","土")) | G53: =IF(OR(A53="",C53<>"労働日"),0,MAX(0,MOD(E53-D53,1)*24-F53/60)) -> 0 | H53: =IF(A53="","",INT((A53-$B$4)/7)+1) | I53: =IF(AND(A53<>"",C53="労働日"),I52+1,0) -> 0 | J53: =IF(AND(A53<>"",ISNUMBER($B$7),ISNUMBER($B$8)),IF(AND(A53>=$B$7,A53<=$B$8),1,0),0) -> 0
A54: =IF(ISNUMBER($B$4),IF(ISNUMBER($B$5),IF($B$4+42<=$B$5,$B$4+42,""),""),"") | B54: =IF(A54="","",CHOOSE(WEEKDAY(A54),"日","月","火","水","木","金","土")) | G54: =IF(OR(A54="",C54<>"労働日"),0,MAX(0,MOD(E54-D54,1)*24-F54/60)) -> 0 | H54: =IF(A54="","",INT((A54-$B$4)/7)+1) | I54: =IF(AND(A54<>"",C54="労働日"),I53+1,0) -> 0 | J54: =IF(AND(A54<>"",ISNUMBER($B$7),ISNUMBER($B$8)),IF(AND(A54>=$B$7,A54<=$B$8),1,0),0) -> 0
A55: =IF(ISNUMBER($B$4),IF(ISNUMBER($B$5),IF($B$4+43<=$B$5,$B$4+43,""),""),"") | B55: =IF(A55="","",CHOOSE(WEEKDAY(A55),"日","月","火","水","木","金","土")) | G55: =IF(OR(A55="",C55<>"労働日"),0,MAX(0,MOD(E55-D55,1)*24-F55/60)) -> 0 | H55: =IF(A55="","",INT((A55-$B$4)/7)+1) | I55: =IF(AND(A55<>"",C55="労働日"),I54+1,0) -> 0 | J55: =IF(AND(A55<>"",ISNUMBER($B$7),ISNUMBER($B$8)),IF(AND(A55>=$B$7,A55<=$B$8),1,0),0) -> 0
A56: =IF(ISNUMBER($B$4),IF(ISNUMBER($B$5),IF($B$4+44<=$B$5,$B$4+44,""),""),"") | B56: =IF(A56="","",CHOOSE(WEEKDAY(A56),"日","月","火","水","木","金","土")) | G56: =IF(OR(A56="",C56<>"労働日"),0,MAX(0,MOD(E56-D56,1)*24-F56/60)) -> 0 | H56: =IF(A56="","",INT((A56-$B$4)/7)+1) | I56: =IF(AND(A56<>"",C56="労働日"),I55+1,0) -> 0 | J56: =IF(AND(A56<>"",ISNUMBER($B$7),ISNUMBER($B$8)),IF(AND(A56>=$B$7,A56<=$B$8),1,0),0) -> 0
A57: =IF(ISNUMBER($B$4),IF(ISNUMBER($B$5),IF($B$4+45<=$B$5,$B$4+45,""),""),"") | B57: =IF(A57="","",CHOOSE(WEEKDAY(A57),"日","月","火","水","木","金","土")) | G57: =IF(OR(A57="",C57<>"労働日"),0,MAX(0,MOD(E57-D57,1)*24-F57/60)) -> 0 | H57: =IF(A57="","",INT((A57-$B$4)/7)+1) | I57: =IF(AND(A57<>"",C57="労働日"),I56+1,0) -> 0 | J57: =IF(AND(A57<>"",ISNUMBER($B$7),ISNUMBER($B$8)),IF(AND(A57>=$B$7,A57<=$B$8),1,0),0) -> 0
A58: =IF(ISNUMBER($B$4),IF(ISNUMBER($B$5),IF($B$4+46<=$B$5,$B$4+46,""),""),"") | B58: =IF(A58="","",CHOOSE(WEEKDAY(A58),"日","月","火","水","木","金","土")) | G58: =IF(OR(A58="",C58<>"労働日"),0,MAX(0,MOD(E58-D58,1)*24-F58/60)) -> 0 | H58: =IF(A58="","",INT((A58-$B$4)/7)+1) | I58: =IF(AND(A58<>"",C58="労働日"),I57+1,0) -> 0 | J58: =IF(AND(A58<>"",ISNUMBER($B$7),ISNUMBER($B$8)),IF(AND(A58>=$B$7,A58<=$B$8),1,0),0) -> 0
A59: =IF(ISNUMBER($B$4),IF(ISNUMBER($B$5),IF($B$4+47<=$B$5,$B$4+47,""),""),"") | B59: =IF(A59="","",CHOOSE(WEEKDAY(A59),"日","月","火","水","木","金","土")) | G59: =IF(OR(A59="",C59<>"労働日"),0,MAX(0,MOD(E59-D59,1)*24-F59/60)) -> 0 | H59: =IF(A59="","",INT((A59-$B$4)/7)+1) | I59: =IF(AND(A59<>"",C59="労働日"),I58+1,0) -> 0 | J59: =IF(AND(A59<>"",ISNUMBER($B$7),ISNUMBER($B$8)),IF(AND(A59>=$B$7,A59<=$B$8),1,0),0) -> 0
A60: =IF(ISNUMBER($B$4),IF(ISNUMBER($B$5),IF($B$4+48<=$B$5,$B$4+48,""),""),"") | B60: =IF(A60="","",CHOOSE(WEEKDAY(A60),"日","月","火","水","木","金","土")) | G60: =IF(OR(A60="",C60<>"労働日"),0,MAX(0,MOD(E60-D60,1)*24-F60/60)) -> 0 | H60: =IF(A60="","",INT((A60-$B$4)/7)+1) | I60: =IF(AND(A60<>"",C60="労働日"),I59+1,0) -> 0 | J60: =IF(AND(A60<>"",ISNUMBER($B$7),ISNUMBER($B$8)),IF(AND(A60>=$B$7,A60<=$B$8),1,0),0) -> 0
A61: =IF(ISNUMBER($B$4),IF(ISNUMBER($B$5),IF($B$4+49<=$B$5,$B$4+49,""),""),"") | B61: =IF(A61="","",CHOOSE(WEEKDAY(A61),"日","月","火","水","木","金","土")) | G61: =IF(OR(A61="",C61<>"労働日"),0,MAX(0,MOD(E61-D61,1)*24-F61/60)) -> 0 | H61: =IF(A61="","",INT((A61-$B$4)/7)+1) | I61: =IF(AND(A61<>"",C61="労働日"),I60+1,0) -> 0 | J61: =IF(AND(A61<>"",ISNUMBER($B$7),ISNUMBER($B$8)),IF(AND(A61>=$B$7,A61<=$B$8),1,0),0) -> 0
A62: =IF(ISNUMBER($B$4),IF(ISNUMBER($B$5),IF($B$4+50<=$B$5,$B$4+50,""),""),"") | B62: =IF(A62="","",CHOOSE(WEEKDAY(A62),"日","月","火","水","木","金","土")) | G62: =IF(OR(A62="",C62<>"労働日"),0,MAX(0,MOD(E62-D62,1)*24-F62/60)) -> 0 | H62: =IF(A62="","",INT((A62-$B$4)/7)+1) | I62: =IF(AND(A62<>"",C62="労働日"),I61+1,0) -> 0 | J62: =IF(AND(A62<>"",ISNUMBER($B$7),ISNUMBER($B$8)),IF(AND(A62>=$B$7,A62<=$B$8),1,0),0) -> 0
A63: =IF(ISNUMBER($B$4),IF(ISNUMBER($B$5),IF($B$4+51<=$B$5,$B$4+51,""),""),"") | B63: =IF(A63="","",CHOOSE(WEEKDAY(A63),"日","月","火","水","木","金","土")) | G63: =IF(OR(A63="",C63<>"労働日"),0,MAX(0,MOD(E63-D63,1)*24-F63/60)) -> 0 | H63: =IF(A63="","",INT((A63-$B$4)/7)+1) | I63: =IF(AND(A63<>"",C63="労働日"),I62+1,0) -> 0 | J63: =IF(AND(A63<>"",ISNUMBER($B$7),ISNUMBER($B$8)),IF(AND(A63>=$B$7,A63<=$B$8),1,0),0) -> 0
A64: =IF(ISNUMBER($B$4),IF(ISNUMBER($B$5),IF($B$4+52<=$B$5,$B$4+52,""),""),"") | B64: =IF(A64="","",CHOOSE(WEEKDAY(A64),"日","月","火","水","木","金","土")) | G64: =IF(OR(A64="",C64<>"労働日"),0,MAX(0,MOD(E64-D64,1)*24-F64/60)) -> 0 | H64: =IF(A64="","",INT((A64-$B$4)/7)+1) | I64: =IF(AND(A64<>"",C64="労働日"),I63+1,0) -> 0 | J64: =IF(AND(A64<>"",ISNUMBER($B$7),ISNUMBER($B$8)),IF(AND(A64>=$B$7,A64<=$B$8),1,0),0) -> 0
A65: =IF(ISNUMBER($B$4),IF(ISNUMBER($B$5),IF($B$4+53<=$B$5,$B$4+53,""),""),"") | B65: =IF(A65="","",CHOOSE(WEEKDAY(A65),"日","月","火","水","木","金","土")) | G65: =IF(OR(A65="",C65<>"労働日"),0,MAX(0,MOD(E65-D65,1)*24-F65/60)) -> 0 | H65: =IF(A65="","",INT((A65-$B$4)/7)+1) | I65: =IF(AND(A65<>"",C65="労働日"),I64+1,0) -> 0 | J65: =IF(AND(A65<>"",ISNUMBER($B$7),ISNUMBER($B$8)),IF(AND(A65>=$B$7,A65<=$B$8),1,0),0) -> 0
A66: =IF(ISNUMBER($B$4),IF(ISNUMBER($B$5),IF($B$4+54<=$B$5,$B$4+54,""),""),"") | B66: =IF(A66="","",CHOOSE(WEEKDAY(A66),"日","月","火","水","木","金","土")) | G66: =IF(OR(A66="",C66<>"労働日"),0,MAX(0,MOD(E66-D66,1)*24-F66/60)) -> 0 | H66: =IF(A66="","",INT((A66-$B$4)/7)+1) | I66: =IF(AND(A66<>"",C66="労働日"),I65+1,0) -> 0 | J66: =IF(AND(A66<>"",ISNUMBER($B$7),ISNUMBER($B$8)),IF(AND(A66>=$B$7,A66<=$B$8),1,0),0) -> 0
A67: =IF(ISNUMBER($B$4),IF(ISNUMBER($B$5),IF($B$4+55<=$B$5,$B$4+55,""),""),"") | B67: =IF(A67="","",CHOOSE(WEEKDAY(A67),"日","月","火","水","木","金","土")) | G67: =IF(OR(A67="",C67<>"労働日"),0,MAX(0,MOD(E67-D67,1)*24-F67/60)) -> 0 | H67: =IF(A67="","",INT((A67-$B$4)/7)+1) | I67: =IF(AND(A67<>"",C67="労働日"),I66+1,0) -> 0 | J67: =IF(AND(A67<>"",ISNUMBER($B$7),ISNUMBER($B$8)),IF(AND(A67>=$B$7,A67<=$B$8),1,0),0) -> 0
A68: =IF(ISNUMBER($B$4),IF(ISNUMBER($B$5),IF($B$4+56<=$B$5,$B$4+56,""),""),"") | B68: =IF(A68="","",CHOOSE(WEEKDAY(A68),"日","月","火","水","木","金","土")) | G68: =IF(OR(A68="",C68<>"労働日"),0,MAX(0,MOD(E68-D68,1)*24-F68/60)) -> 0 | H68: =IF(A68="","",INT((A68-$B$4)/7)+1) | I68: =IF(AND(A68<>"",C68="労働日"),I67+1,0) -> 0 | J68: =IF(AND(A68<>"",ISNUMBER($B$7),ISNUMBER($B$8)),IF(AND(A68>=$B$7,A68<=$B$8),1,0),0) -> 0
A69: =IF(ISNUMBER($B$4),IF(ISNUMBER($B$5),IF($B$4+57<=$B$5,$B$4+57,""),""),"") | B69: =IF(A69="","",CHOOSE(WEEKDAY(A69),"日","月","火","水","木","金","土")) | G69: =IF(OR(A69="",C69<>"労働日"),0,MAX(0,MOD(E69-D69,1)*24-F69/60)) -> 0 | H69: =IF(A69="","",INT((A69-$B$4)/7)+1) | I69: =IF(AND(A69<>"",C69="労働日"),I68+1,0) -> 0 | J69: =IF(AND(A69<>"",ISNUMBER($B$7),ISNUMBER($B$8)),IF(AND(A69>=$B$7,A69<=$B$8),1,0),0) -> 0
A70: =IF(ISNUMBER($B$4),IF(ISNUMBER($B$5),IF($B$4+58<=$B$5,$B$4+58,""),""),"") | B70: =IF(A70="","",CHOOSE(WEEKDAY(A70),"日","月","火","水","木","金","土")) | G70: =IF(OR(A70="",C70<>"労働日"),0,MAX(0,MOD(E70-D70,1)*24-F70/60)) -> 0 | H70: =IF(A70="","",INT((A70-$B$4)/7)+1) | I70: =IF(AND(A70<>"",C70="労働日"),I69+1,0) -> 0 | J70: =IF(AND(A70<>"",ISNUMBER($B$7),ISNUMBER($B$8)),IF(AND(A70>=$B$7,A70<=$B$8),1,0),0) -> 0
A71: =IF(ISNUMBER($B$4),IF(ISNUMBER($B$5),IF($B$4+59<=$B$5,$B$4+59,""),""),"") | B71: =IF(A71="","",CHOOSE(WEEKDAY(A71),"日","月","火","水","木","金","土")) | G71: =IF(OR(A71="",C71<>"労働日"),0,MAX(0,MOD(E71-D71,1)*24-F71/60)) -> 0 | H71: =IF(A71="","",INT((A71-$B$4)/7)+1) | I71: =IF(AND(A71<>"",C71="労働日"),I70+1,0) -> 0 | J71: =IF(AND(A71<>"",ISNUMBER($B$7),ISNUMBER($B$8)),IF(AND(A71>=$B$7,A71<=$B$8),1,0),0) -> 0
A72: =IF(ISNUMBER($B$4),IF(ISNUMBER($B$5),IF($B$4+60<=$B$5,$B$4+60,""),""),"") | B72: =IF(A72="","",CHOOSE(WEEKDAY(A72),"日","月","火","水","木","金","土")) | G72: =IF(OR(A72="",C72<>"労働日"),0,MAX(0,MOD(E72-D72,1)*24-F72/60)) -> 0 | H72: =IF(A72="","",INT((A72-$B$4)/7)+1) | I72: =IF(AND(A72<>"",C72="労働日"),I71+1,0) -> 0 | J72: =IF(AND(A72<>"",ISNUMBER($B$7),ISNUMBER($B$8)),IF(AND(A72>=$B$7,A72<=$B$8),1,0),0) -> 0
A73: =IF(ISNUMBER($B$4),IF(ISNUMBER($B$5),IF($B$4+61<=$B$5,$B$4+61,""),""),"") | B73: =IF(A73="","",CHOOSE(WEEKDAY(A73),"日","月","火","水","木","金","土")) | G73: =IF(OR(A73="",C73<>"労働日"),0,MAX(0,MOD(E73-D73,1)*24-F73/60)) -> 0 | H73: =IF(A73="","",INT((A73-$B$4)/7)+1) | I73: =IF(AND(A73<>"",C73="労働日"),I72+1,0) -> 0 | J73: =IF(AND(A73<>"",ISNUMBER($B$7),ISNUMBER($B$8)),IF(AND(A73>=$B$7,A73<=$B$8),1,0),0) -> 0
A74: =IF(ISNUMBER($B$4),IF(ISNUMBER($B$5),IF($B$4+62<=$B$5,$B$4+62,""),""),"") | B74: =IF(A74="","",CHOOSE(WEEKDAY(A74),"日","月","火","水","木","金","土")) | G74: =IF(OR(A74="",C74<>"労働日"),0,MAX(0,MOD(E74-D74,1)*24-F74/60)) -> 0 | H74: =IF(A74="","",INT((A74-$B$4)/7)+1) | I74: =IF(AND(A74<>"",C74="労働日"),I73+1,0) -> 0 | J74: =IF(AND(A74<>"",ISNUMBER($B$7),ISNUMBER($B$8)),IF(AND(A74>=$B$7,A74<=$B$8),1,0),0) -> 0
A75: =IF(ISNUMBER($B$4),IF(ISNUMBER($B$5),IF($B$4+63<=$B$5,$B$4+63,""),""),"") | B75: =IF(A75="","",CHOOSE(WEEKDAY(A75),"日","月","火","水","木","金","土")) | G75: =IF(OR(A75="",C75<>"労働日"),0,MAX(0,MOD(E75-D75,1)*24-F75/60)) -> 0 | H75: =IF(A75="","",INT((A75-$B$4)/7)+1) | I75: =IF(AND(A75<>"",C75="労働日"),I74+1,0) -> 0 | J75: =IF(AND(A75<>"",ISNUMBER($B$7),ISNUMBER($B$8)),IF(AND(A75>=$B$7,A75<=$B$8),1,0),0) -> 0
A76: =IF(ISNUMBER($B$4),IF(ISNUMBER($B$5),IF($B$4+64<=$B$5,$B$4+64,""),""),"") | B76: =IF(A76="","",CHOOSE(WEEKDAY(A76),"日","月","火","水","木","金","土")) | G76: =IF(OR(A76="",C76<>"労働日"),0,MAX(0,MOD(E76-D76,1)*24-F76/60)) -> 0 | H76: =IF(A76="","",INT((A76-$B$4)/7)+1) | I76: =IF(AND(A76<>"",C76="労働日"),I75+1,0) -> 0 | J76: =IF(AND(A76<>"",ISNUMBER($B$7),ISNUMBER($B$8)),IF(AND(A76>=$B$7,A76<=$B$8),1,0),0) -> 0
A77: =IF(ISNUMBER($B$4),IF(ISNUMBER($B$5),IF($B$4+65<=$B$5,$B$4+65,""),""),"") | B77: =IF(A77="","",CHOOSE(WEEKDAY(A77),"日","月","火","水","木","金","土")) | G77: =IF(OR(A77="",C77<>"労働日"),0,MAX(0,MOD(E77-D77,1)*24-F77/60)) -> 0 | H77: =IF(A77="","",INT((A77-$B$4)/7)+1) | I77: =IF(AND(A77<>"",C77="労働日"),I76+1,0) -> 0 | J77: =IF(AND(A77<>"",ISNUMBER($B$7),ISNUMBER($B$8)),IF(AND(A77>=$B$7,A77<=$B$8),1,0),0) -> 0
A78: =IF(ISNUMBER($B$4),IF(ISNUMBER($B$5),IF($B$4+66<=$B$5,$B$4+66,""),""),"") | B78: =IF(A78="","",CHOOSE(WEEKDAY(A78),"日","月","火","水","木","金","土")) | G78: =IF(OR(A78="",C78<>"労働日"),0,MAX(0,MOD(E78-D78,1)*24-F78/60)) -> 0 | H78: =IF(A78="","",INT((A78-$B$4)/7)+1) | I78: =IF(AND(A78<>"",C78="労働日"),I77+1,0) -> 0 | J78: =IF(AND(A78<>"",ISNUMBER($B$7),ISNUMBER($B$8)),IF(AND(A78>=$B$7,A78<=$B$8),1,0),0) -> 0
A79: =IF(ISNUMBER($B$4),IF(ISNUMBER($B$5),IF($B$4+67<=$B$5,$B$4+67,""),""),"") | B79: =IF(A79="","",CHOOSE(WEEKDAY(A79),"日","月","火","水","木","金","土")) | G79: =IF(OR(A79="",C79<>"労働日"),0,MAX(0,MOD(E79-D79,1)*24-F79/60)) -> 0 | H79: =IF(A79="","",INT((A79-$B$4)/7)+1) | I79: =IF(AND(A79<>"",C79="労働日"),I78+1,0) -> 0 | J79: =IF(AND(A79<>"",ISNUMBER($B$7),ISNUMBER($B$8)),IF(AND(A79>=$B$7,A79<=$B$8),1,0),0) -> 0
A80: =IF(ISNUMBER($B$4),IF(ISNUMBER($B$5),IF($B$4+68<=$B$5,$B$4+68,""),""),"") | B80: =IF(A80="","",CHOOSE(WEEKDAY(A80),"日","月","火","水","木","金","土")) | G80: =IF(OR(A80="",C80<>"労働日"),0,MAX(0,MOD(E80-D80,1)*24-F80/60)) -> 0 | H80: =IF(A80="","",INT((A80-$B$4)/7)+1) | I80: =IF(AND(A80<>"",C80="労働日"),I79+1,0) -> 0 | J80: =IF(AND(A80<>"",ISNUMBER($B$7),ISNUMBER($B$8)),IF(AND(A80>=$B$7,A80<=$B$8),1,0),0) -> 0
A81: =IF(ISNUMBER($B$4),IF(ISNUMBER($B$5),IF($B$4+69<=$B$5,$B$4+69,""),""),"") | B81: =IF(A81="","",CHOOSE(WEEKDAY(A81),"日","月","火","水","木","金","土")) | G81: =IF(OR(A81="",C81<>"労働日"),0,MAX(0,MOD(E81-D81,1)*24-F81/60)) -> 0 | H81: =IF(A81="","",INT((A81-$B$4)/7)+1) | I81: =IF(AND(A81<>"",C81="労働日"),I80+1,0) -> 0 | J81: =IF(AND(A81<>"",ISNUMBER($B$7),ISNUMBER($B$8)),IF(AND(A81>=$B$7,A81<=$B$8),1,0),0) -> 0
A82: =IF(ISNUMBER($B$4),IF(ISNUMBER($B$5),IF($B$4+70<=$B$5,$B$4+70,""),""),"") | B82: =IF(A82="","",CHOOSE(WEEKDAY(A82),"日","月","火","水","木","金","土")) | G82: =IF(OR(A82="",C82<>"労働日"),0,MAX(0,MOD(E82-D82,1)*24-F82/60)) -> 0 | H82: =IF(A82="","",INT((A82-$B$4)/7)+1) | I82: =IF(AND(A82<>"",C82="労働日"),I81+1,0) -> 0 | J82: =IF(AND(A82<>"",ISNUMBER($B$7),ISNUMBER($B$8)),IF(AND(A82>=$B$7,A82<=$B$8),1,0),0) -> 0
A83: =IF(ISNUMBER($B$4),IF(ISNUMBER($B$5),IF($B$4+71<=$B$5,$B$4+71,""),""),"") | B83: =IF(A83="","",CHOOSE(WEEKDAY(A83),"日","月","火","水","木","金","土")) | G83: =IF(OR(A83="",C83<>"労働日"),0,MAX(0,MOD(E83-D83,1)*24-F83/60)) -> 0 | H83: =IF(A83="","",INT((A83-$B$4)/7)+1) | I83: =IF(AND(A83<>"",C83="労働日"),I82+1,0) -> 0 | J83: =IF(AND(A83<>"",ISNUMBER($B$7),ISNUMBER($B$8)),IF(AND(A83>=$B$7,A83<=$B$8),1,0),0) -> 0
A84: =IF(ISNUMBER($B$4),IF(ISNUMBER($B$5),IF($B$4+72<=$B$5,$B$4+72,""),""),"") | B84: =IF(A84="","",CHOOSE(WEEKDAY(A84),"日","月","火","水","木","金","土")) | G84: =IF(OR(A84="",C84<>"労働日"),0,MAX(0,MOD(E84-D84,1)*24-F84/60)) -> 0 | H84: =IF(A84="","",INT((A84-$B$4)/7)+1) | I84: =IF(AND(A84<>"",C84="労働日"),I83+1,0) -> 0 | J84: =IF(AND(A84<>"",ISNUMBER($B$7),ISNUMBER($B$8)),IF(AND(A84>=$B$7,A84<=$B$8),1,0),0) -> 0
A85: =IF(ISNUMBER($B$4),IF(ISNUMBER($B$5),IF($B$4+73<=$B$5,$B$4+73,""),""),"") | B85: =IF(A85="","",CHOOSE(WEEKDAY(A85),"日","月","火","水","木","金","土")) | G85: =IF(OR(A85="",C85<>"労働日"),0,MAX(0,MOD(E85-D85,1)*24-F85/60)) -> 0 | H85: =IF(A85="","",INT((A85-$B$4)/7)+1) | I85: =IF(AND(A85<>"",C85="労働日"),I84+1,0) -> 0 | J85: =IF(AND(A85<>"",ISNUMBER($B$7),ISNUMBER($B$8)),IF(AND(A85>=$B$7,A85<=$B$8),1,0),0) -> 0
A86: =IF(ISNUMBER($B$4),IF(ISNUMBER($B$5),IF($B$4+74<=$B$5,$B$4+74,""),""),"") | B86: =IF(A86="","",CHOOSE(WEEKDAY(A86),"日","月","火","水","木","金","土")) | G86: =IF(OR(A86="",C86<>"労働日"),0,MAX(0,MOD(E86-D86,1)*24-F86/60)) -> 0 | H86: =IF(A86="","",INT((A86-$B$4)/7)+1) | I86: =IF(AND(A86<>"",C86="労働日"),I85+1,0) -> 0 | J86: =IF(AND(A86<>"",ISNUMBER($B$7),ISNUMBER($B$8)),IF(AND(A86>=$B$7,A86<=$B$8),1,0),0) -> 0
A87: =IF(ISNUMBER($B$4),IF(ISNUMBER($B$5),IF($B$4+75<=$B$5,$B$4+75,""),""),"") | B87: =IF(A87="","",CHOOSE(WEEKDAY(A87),"日","月","火","水","木","金","土")) | G87: =IF(OR(A87="",C87<>"労働日"),0,MAX(0,MOD(E87-D87,1)*24-F87/60)) -> 0 | H87: =IF(A87="","",INT((A87-$B$4)/7)+1) | I87: =IF(AND(A87<>"",C87="労働日"),I86+1,0) -> 0 | J87: =IF(AND(A87<>"",ISNUMBER($B$7),ISNUMBER($B$8)),IF(AND(A87>=$B$7,A87<=$B$8),1,0),0) -> 0
A88: =IF(ISNUMBER($B$4),IF(ISNUMBER($B$5),IF($B$4+76<=$B$5,$B$4+76,""),""),"") | B88: =IF(A88="","",CHOOSE(WEEKDAY(A88),"日","月","火","水","木","金","土")) | G88: =IF(OR(A88="",C88<>"労働日"),0,MAX(0,MOD(E88-D88,1)*24-F88/60)) -> 0 | H88: =IF(A88="","",INT((A88-$B$4)/7)+1) | I88: =IF(AND(A88<>"",C88="労働日"),I87+1,0) -> 0 | J88: =IF(AND(A88<>"",ISNUMBER($B$7),ISNUMBER($B$8)),IF(AND(A88>=$B$7,A88<=$B$8),1,0),0) -> 0
A89: =IF(ISNUMBER($B$4),IF(ISNUMBER($B$5),IF($B$4+77<=$B$5,$B$4+77,""),""),"") | B89: =IF(A89="","",CHOOSE(WEEKDAY(A89),"日","月","火","水","木","金","土")) | G89: =IF(OR(A89="",C89<>"労働日"),0,MAX(0,MOD(E89-D89,1)*24-F89/60)) -> 0 | H89: =IF(A89="","",INT((A89-$B$4)/7)+1) | I89: =IF(AND(A89<>"",C89="労働日"),I88+1,0) -> 0 | J89: =IF(AND(A89<>"",ISNUMBER($B$7),ISNUMBER($B$8)),IF(AND(A89>=$B$7,A89<=$B$8),1,0),0) -> 0
A90: =IF(ISNUMBER($B$4),IF(ISNUMBER($B$5),IF($B$4+78<=$B$5,$B$4+78,""),""),"") | B90: =IF(A90="","",CHOOSE(WEEKDAY(A90),"日","月","火","水","木","金","土")) | G90: =IF(OR(A90="",C90<>"労働日"),0,MAX(0,MOD(E90-D90,1)*24-F90/60)) -> 0 | H90: =IF(A90="","",INT((A90-$B$4)/7)+1) | I90: =IF(AND(A90<>"",C90="労働日"),I89+1,0) -> 0 | J90: =IF(AND(A90<>"",ISNUMBER($B$7),ISNUMBER($B$8)),IF(AND(A90>=$B$7,A90<=$B$8),1,0),0) -> 0
A91: =IF(ISNUMBER($B$4),IF(ISNUMBER($B$5),IF($B$4+79<=$B$5,$B$4+79,""),""),"") | B91: =IF(A91="","",CHOOSE(WEEKDAY(A91),"日","月","火","水","木","金","土")) | G91: =IF(OR(A91="",C91<>"労働日"),0,MAX(0,MOD(E91-D91,1)*24-F91/60)) -> 0 | H91: =IF(A91="","",INT((A91-$B$4)/7)+1) | I91: =IF(AND(A91<>"",C91="労働日"),I90+1,0) -> 0 | J91: =IF(AND(A91<>"",ISNUMBER($B$7),ISNUMBER($B$8)),IF(AND(A91>=$B$7,A91<=$B$8),1,0),0) -> 0
A92: =IF(ISNUMBER($B$4),IF(ISNUMBER($B$5),IF($B$4+80<=$B$5,$B$4+80,""),""),"") | B92: =IF(A92="","",CHOOSE(WEEKDAY(A92),"日","月","火","水","木","金","土")) | G92: =IF(OR(A92="",C92<>"労働日"),0,MAX(0,MOD(E92-D92,1)*24-F92/60)) -> 0 | H92: =IF(A92="","",INT((A92-$B$4)/7)+1) | I92: =IF(AND(A92<>"",C92="労働日"),I91+1,0) -> 0 | J92: =IF(AND(A92<>"",ISNUMBER($B$7),ISNUMBER($B$8)),IF(AND(A92>=$B$7,A92<=$B$8),1,0),0) -> 0
A93: =IF(ISNUMBER($B$4),IF(ISNUMBER($B$5),IF($B$4+81<=$B$5,$B$4+81,""),""),"") | B93: =IF(A93="","",CHOOSE(WEEKDAY(A93),"日","月","火","水","木","金","土")) | G93: =IF(OR(A93="",C93<>"労働日"),0,MAX(0,MOD(E93-D93,1)*24-F93/60)) -> 0 | H93: =IF(A93="","",INT((A93-$B$4)/7)+1) | I93: =IF(AND(A93<>"",C93="労働日"),I92+1,0) -> 0 | J93: =IF(AND(A93<>"",ISNUMBER($B$7),ISNUMBER($B$8)),IF(AND(A93>=$B$7,A93<=$B$8),1,0),0) -> 0
A94: =IF(ISNUMBER($B$4),IF(ISNUMBER($B$5),IF($B$4+82<=$B$5,$B$4+82,""),""),"") | B94: =IF(A94="","",CHOOSE(WEEKDAY(A94),"日","月","火","水","木","金","土")) | G94: =IF(OR(A94="",C94<>"労働日"),0,MAX(0,MOD(E94-D94,1)*24-F94/60)) -> 0 | H94: =IF(A94="","",INT((A94-$B$4)/7)+1) | I94: =IF(AND(A94<>"",C94="労働日"),I93+1,0) -> 0 | J94: =IF(AND(A94<>"",ISNUMBER($B$7),ISNUMBER($B$8)),IF(AND(A94>=$B$7,A94<=$B$8),1,0),0) -> 0
A95: =IF(ISNUMBER($B$4),IF(ISNUMBER($B$5),IF($B$4+83<=$B$5,$B$4+83,""),""),"") | B95: =IF(A95="","",CHOOSE(WEEKDAY(A95),"日","月","火","水","木","金","土")) | G95: =IF(OR(A95="",C95<>"労働日"),0,MAX(0,MOD(E95-D95,1)*24-F95/60)) -> 0 | H95: =IF(A95="","",INT((A95-$B$4)/7)+1) | I95: =IF(AND(A95<>"",C95="労働日"),I94+1,0) -> 0 | J95: =IF(AND(A95<>"",ISNUMBER($B$7),ISNUMBER($B$8)),IF(AND(A95>=$B$7,A95<=$B$8),1,0),0) -> 0
A96: =IF(ISNUMBER($B$4),IF(ISNUMBER($B$5),IF($B$4+84<=$B$5,$B$4+84,""),""),"") | B96: =IF(A96="","",CHOOSE(WEEKDAY(A96),"日","月","火","水","木","金","土")) | G96: =IF(OR(A96="",C96<>"労働日"),0,MAX(0,MOD(E96-D96,1)*24-F96/60)) -> 0 | H96: =IF(A96="","",INT((A96-$B$4)/7)+1) | I96: =IF(AND(A96<>"",C96="労働日"),I95+1,0) -> 0 | J96: =IF(AND(A96<>"",ISNUMBER($B$7),ISNUMBER($B$8)),IF(AND(A96>=$B$7,A96<=$B$8),1,0),0) -> 0
A97: =IF(ISNUMBER($B$4),IF(ISNUMBER($B$5),IF($B$4+85<=$B$5,$B$4+85,""),""),"") | B97: =IF(A97="","",CHOOSE(WEEKDAY(A97),"日","月","火","水","木","金","土")) | G97: =IF(OR(A97="",C97<>"労働日"),0,MAX(0,MOD(E97-D97,1)*24-F97/60)) -> 0 | H97: =IF(A97="","",INT((A97-$B$4)/7)+1) | I97: =IF(AND(A97<>"",C97="労働日"),I96+1,0) -> 0 | J97: =IF(AND(A97<>"",ISNUMBER($B$7),ISNUMBER($B$8)),IF(AND(A97>=$B$7,A97<=$B$8),1,0),0) -> 0
A98: =IF(ISNUMBER($B$4),IF(ISNUMBER($B$5),IF($B$4+86<=$B$5,$B$4+86,""),""),"") | B98: =IF(A98="","",CHOOSE(WEEKDAY(A98),"日","月","火","水","木","金","土")) | G98: =IF(OR(A98="",C98<>"労働日"),0,MAX(0,MOD(E98-D98,1)*24-F98/60)) -> 0 | H98: =IF(A98="","",INT((A98-$B$4)/7)+1) | I98: =IF(AND(A98<>"",C98="労働日"),I97+1,0) -> 0 | J98: =IF(AND(A98<>"",ISNUMBER($B$7),ISNUMBER($B$8)),IF(AND(A98>=$B$7,A98<=$B$8),1,0),0) -> 0
A99: =IF(ISNUMBER($B$4),IF(ISNUMBER($B$5),IF($B$4+87<=$B$5,$B$4+87,""),""),"") | B99: =IF(A99="","",CHOOSE(WEEKDAY(A99),"日","月","火","水","木","金","土")) | G99: =IF(OR(A99="",C99<>"労働日"),0,MAX(0,MOD(E99-D99,1)*24-F99/60)) -> 0 | H99: =IF(A99="","",INT((A99-$B$4)/7)+1) | I99: =IF(AND(A99<>"",C99="労働日"),I98+1,0) -> 0 | J99: =IF(AND(A99<>"",ISNUMBER($B$7),ISNUMBER($B$8)),IF(AND(A99>=$B$7,A99<=$B$8),1,0),0) -> 0
A100: =IF(ISNUMBER($B$4),IF(ISNUMBER($B$5),IF($B$4+88<=$B$5,$B$4+88,""),""),"") | B100: =IF(A100="","",CHOOSE(WEEKDAY(A100),"日","月","火","水","木","金","土")) | G100: =IF(OR(A100="",C100<>"労働日"),0,MAX(0,MOD(E100-D100,1)*24-F100/60)) -> 0 | H100: =IF(A100="","",INT((A100-$B$4)/7)+1) | I100: =IF(AND(A100<>"",C100="労働日"),I99+1,0) -> 0 | J100: =IF(AND(A100<>"",ISNUMBER($B$7),ISNUMBER($B$8)),IF(AND(A100>=$B$7,A100<=$B$8),1,0),0) -> 0
A101: =IF(ISNUMBER($B$4),IF(ISNUMBER($B$5),IF($B$4+89<=$B$5,$B$4+89,""),""),"") | B101: =IF(A101="","",CHOOSE(WEEKDAY(A101),"日","月","火","水","木","金","土")) | G101: =IF(OR(A101="",C101<>"労働日"),0,MAX(0,MOD(E101-D101,1)*24-F101/60)) -> 0 | H101: =IF(A101="","",INT((A101-$B$4)/7)+1) | I101: =IF(AND(A101<>"",C101="労働日"),I100+1,0) -> 0 | J101: =IF(AND(A101<>"",ISNUMBER($B$7),ISNUMBER($B$8)),IF(AND(A101>=$B$7,A101<=$B$8),1,0),0) -> 0
A102: =IF(ISNUMBER($B$4),IF(ISNUMBER($B$5),IF($B$4+90<=$B$5,$B$4+90,""),""),"") | B102: =IF(A102="","",CHOOSE(WEEKDAY(A102),"日","月","火","水","木","金","土")) | G102: =IF(OR(A102="",C102<>"労働日"),0,MAX(0,MOD(E102-D102,1)*24-F102/60)) -> 0 | H102: =IF(A102="","",INT((A102-$B$4)/7)+1) | I102: =IF(AND(A102<>"",C102="労働日"),I101+1,0) -> 0 | J102: =IF(AND(A102<>"",ISNUMBER($B$7),ISNUMBER($B$8)),IF(AND(A102>=$B$7,A102<=$B$8),1,0),0) -> 0
...

Sheet 区分表
A1: 別紙 区分表 （対象期間を1箇月ごとに区分した各期間の労働日数・総労働時間）
A2: 区分する場合、最初の期間を除く各期間は、この労働日数と総労働時間を協定に書き、 各期間の初日の少なくとも30日前に、 過半数代表者の同意を得て日ごとの労働日・労働時間を決めます（労基法32条の4第2項）。
A4: 区分 | B4: 最初の日 | C4: 最後の日 | D4: 労働日数 | E4: 総労働時間 | F4: 備考
A5: 1か月目 | B5: =IF(ISNUMBER('年間カレンダー'!$B$4),IF(EDATE('年間カレンダー'!$B$4,0)<='年間カレンダー'!$B$5,EDATE('年間カレンダー'!$B$4,0),""),"") | C5: =IF(B5="","",MIN(EDATE('年間カレンダー'!$B$4,1)-1,'年間カレンダー'!$B$5)) | D5: =IF(B5="","",COUNTIFS('年間カレンダー'!$A$12:$A$377,">="&B5,'年間カレンダー'!$A$12:$A$377,"<="&C5,'年間カレンダー'!$C$12:$C$377,"労働日")) | E5: =IF(B5="","",SUMIFS('年間カレンダー'!$G$12:$G$377,'年間カレンダー'!$A$12:$A$377,">="&B5,'年間カレンダー'!$A$12:$A$377,"<="&C5)) | F5: =IF(B5="","",IF(1=1,"最初の期間（日ごとに定める）","日ごとは30日前までに定める"))
A6: 2か月目 | B6: =IF(ISNUMBER('年間カレンダー'!$B$4),IF(EDATE('年間カレンダー'!$B$4,1)<='年間カレンダー'!$B$5,EDATE('年間カレンダー'!$B$4,1),""),"") | C6: =IF(B6="","",MIN(EDATE('年間カレンダー'!$B$4,2)-1,'年間カレンダー'!$B$5)) | D6: =IF(B6="","",COUNTIFS('年間カレンダー'!$A$12:$A$377,">="&B6,'年間カレンダー'!$A$12:$A$377,"<="&C6,'年間カレンダー'!$C$12:$C$377,"労働日")) | E6: =IF(B6="","",SUMIFS('年間カレンダー'!$G$12:$G$377,'年間カレンダー'!$A$12:$A$377,">="&B6,'年間カレンダー'!$A$12:$A$377,"<="&C6)) | F6: =IF(B6="","",IF(2=1,"最初の期間（日ごとに定める）","日ごとは30日前までに定める"))
A7: 3か月目 | B7: =IF(ISNUMBER('年間カレンダー'!$B$4),IF(EDATE('年間カレンダー'!$B$4,2)<='年間カレンダー'!$B$5,EDATE('年間カレンダー'!$B$4,2),""),"") | C7: =IF(B7="","",MIN(EDATE('年間カレンダー'!$B$4,3)-1,'年間カレンダー'!$B$5)) | D7: =IF(B7="","",COUNTIFS('年間カレンダー'!$A$12:$A$377,">="&B7,'年間カレンダー'!$A$12:$A$377,"<="&C7,'年間カレンダー'!$C$12:$C$377,"労働日")) | E7: =IF(B7="","",SUMIFS('年間カレンダー'!$G$12:$G$377,'年間カレンダー'!$A$12:$A$377,">="&B7,'年間カレンダー'!$A$12:$A$377,"<="&C7)) | F7: =IF(B7="","",IF(3=1,"最初の期間（日ごとに定める）","日ごとは30日前までに定める"))
A8: 4か月目 | B8: =IF(ISNUMBER('年間カレンダー'!$B$4),IF(EDATE('年間カレンダー'!$B$4,3)<='年間カレンダー'!$B$5,EDATE('年間カレンダー'!$B$4,3),""),"") | C8: =IF(B8="","",MIN(EDATE('年間カレンダー'!$B$4,4)-1,'年間カレンダー'!$B$5)) | D8: =IF(B8="","",COUNTIFS('年間カレンダー'!$A$12:$A$377,">="&B8,'年間カレンダー'!$A$12:$A$377,"<="&C8,'年間カレンダー'!$C$12:$C$377,"労働日")) | E8: =IF(B8="","",SUMIFS('年間カレンダー'!$G$12:$G$377,'年間カレンダー'!$A$12:$A$377,">="&B8,'年間カレンダー'!$A$12:$A$377,"<="&C8)) | F8: =IF(B8="","",IF(4=1,"最初の期間（日ごとに定める）","日ごとは30日前までに定める"))
A9: 5か月目 | B9: =IF(ISNUMBER('年間カレンダー'!$B$4),IF(EDATE('年間カレンダー'!$B$4,4)<='年間カレンダー'!$B$5,EDATE('年間カレンダー'!$B$4,4),""),"") | C9: =IF(B9="","",MIN(EDATE('年間カレンダー'!$B$4,5)-1,'年間カレンダー'!$B$5)) | D9: =IF(B9="","",COUNTIFS('年間カレンダー'!$A$12:$A$377,">="&B9,'年間カレンダー'!$A$12:$A$377,"<="&C9,'年間カレンダー'!$C$12:$C$377,"労働日")) | E9: =IF(B9="","",SUMIFS('年間カレンダー'!$G$12:$G$377,'年間カレンダー'!$A$12:$A$377,">="&B9,'年間カレンダー'!$A$12:$A$377,"<="&C9)) | F9: =IF(B9="","",IF(5=1,"最初の期間（日ごとに定める）","日ごとは30日前までに定める"))
A10: 6か月目 | B10: =IF(ISNUMBER('年間カレンダー'!$B$4),IF(EDATE('年間カレンダー'!$B$4,5)<='年間カレンダー'!$B$5,EDATE('年間カレンダー'!$B$4,5),""),"") | C10: =IF(B10="","",MIN(EDATE('年間カレンダー'!$B$4,6)-1,'年間カレンダー'!$B$5)) | D10: =IF(B10="","",COUNTIFS('年間カレンダー'!$A$12:$A$377,">="&B10,'年間カレンダー'!$A$12:$A$377,"<="&C10,'年間カレンダー'!$C$12:$C$377,"労働日")) | E10: =IF(B10="","",SUMIFS('年間カレンダー'!$G$12:$G$377,'年間カレンダー'!$A$12:$A$377,">="&B10,'年間カレンダー'!$A$12:$A$377,"<="&C10)) | F10: =IF(B10="","",IF(6=1,"最初の期間（日ごとに定める）","日ごとは30日前までに定める"))
A11: 7か月目 | B11: =IF(ISNUMBER('年間カレンダー'!$B$4),IF(EDATE('年間カレンダー'!$B$4,6)<='年間カレンダー'!$B$5,EDATE('年間カレンダー'!$B$4,6),""),"") | C11: =IF(B11="","",MIN(EDATE('年間カレンダー'!$B$4,7)-1,'年間カレンダー'!$B$5)) | D11: =IF(B11="","",COUNTIFS('年間カレンダー'!$A$12:$A$377,">="&B11,'年間カレンダー'!$A$12:$A$377,"<="&C11,'年間カレンダー'!$C$12:$C$377,"労働日")) | E11: =IF(B11="","",SUMIFS('年間カレンダー'!$G$12:$G$377,'年間カレンダー'!$A$12:$A$377,">="&B11,'年間カレンダー'!$A$12:$A$377,"<="&C11)) | F11: =IF(B11="","",IF(7=1,"最初の期間（日ごとに定める）","日ごとは30日前までに定める"))
A12: 8か月目 | B12: =IF(ISNUMBER('年間カレンダー'!$B$4),IF(EDATE('年間カレンダー'!$B$4,7)<='年間カレンダー'!$B$5,EDATE('年間カレンダー'!$B$4,7),""),"") | C12: =IF(B12="","",MIN(EDATE('年間カレンダー'!$B$4,8)-1,'年間カレンダー'!$B$5)) | D12: =IF(B12="","",COUNTIFS('年間カレンダー'!$A$12:$A$377,">="&B12,'年間カレンダー'!$A$12:$A$377,"<="&C12,'年間カレンダー'!$C$12:$C$377,"労働日")) | E12: =IF(B12="","",SUMIFS('年間カレンダー'!$G$12:$G$377,'年間カレンダー'!$A$12:$A$377,">="&B12,'年間カレンダー'!$A$12:$A$377,"<="&C12)) | F12: =IF(B12="","",IF(8=1,"最初の期間（日ごとに定める）","日ごとは30日前までに定める"))
A13: 9か月目 | B13: =IF(ISNUMBER('年間カレンダー'!$B$4),IF(EDATE('年間カレンダー'!$B$4,8)<='年間カレンダー'!$B$5,EDATE('年間カレンダー'!$B$4,8),""),"") | C13: =IF(B13="","",MIN(EDATE('年間カレンダー'!$B$4,9)-1,'年間カレンダー'!$B$5)) | D13: =IF(B13="","",COUNTIFS('年間カレンダー'!$A$12:$A$377,">="&B13,'年間カレンダー'!$A$12:$A$377,"<="&C13,'年間カレンダー'!$C$12:$C$377,"労働日")) | E13: =IF(B13="","",SUMIFS('年間カレンダー'!$G$12:$G$377,'年間カレンダー'!$A$12:$A$377,">="&B13,'年間カレンダー'!$A$12:$A$377,"<="&C13)) | F13: =IF(B13="","",IF(9=1,"最初の期間（日ごとに定める）","日ごとは30日前までに定める"))
A14: 10か月目 | B14: =IF(ISNUMBER('年間カレンダー'!$B$4),IF(EDATE('年間カレンダー'!$B$4,9)<='年間カレンダー'!$B$5,EDATE('年間カレンダー'!$B$4,9),""),"") | C14: =IF(B14="","",MIN(EDATE('年間カレンダー'!$B$4,10)-1,'年間カレンダー'!$B$5)) | D14: =IF(B14="","",COUNTIFS('年間カレンダー'!$A$12:$A$377,">="&B14,'年間カレンダー'!$A$12:$A$377,"<="&C14,'年間カレンダー'!$C$12:$C$377,"労働日")) | E14: =IF(B14="","",SUMIFS('年間カレンダー'!$G$12:$G$377,'年間カレンダー'!$A$12:$A$377,">="&B14,'年間カレンダー'!$A$12:$A$377,"<="&C14)) | F14: =IF(B14="","",IF(10=1,"最初の期間（日ごとに定める）","日ごとは30日前までに定める"))
A15: 11か月目 | B15: =IF(ISNUMBER('年間カレンダー'!$B$4),IF(EDATE('年間カレンダー'!$B$4,10)<='年間カレンダー'!$B$5,EDATE('年間カレンダー'!$B$4,10),""),"") | C15: =IF(B15="","",MIN(EDATE('年間カレンダー'!$B$4,11)-1,'年間カレンダー'!$B$5)) | D15: =IF(B15="","",COUNTIFS('年間カレンダー'!$A$12:$A$377,">="&B15,'年間カレンダー'!$A$12:$A$377,"<="&C15,'年間カレンダー'!$C$12:$C$377,"労働日")) | E15: =IF(B15="","",SUMIFS('年間カレンダー'!$G$12:$G$377,'年間カレンダー'!$A$12:$A$377,">="&B15,'年間カレンダー'!$A$12:$A$377,"<="&C15)) | F15: =IF(B15="","",IF(11=1,"最初の期間（日ごとに定める）","日ごとは30日前までに定める"))
A16: 12か月目 | B16: =IF(ISNUMBER('年間カレンダー'!$B$4),IF(EDATE('年間カレンダー'!$B$4,11)<='年間カレンダー'!$B$5,EDATE('年間カレンダー'!$B$4,11),""),"") | C16: =IF(B16="","",MIN(EDATE('年間カレンダー'!$B$4,12)-1,'年間カレンダー'!$B$5)) | D16: =IF(B16="","",COUNTIFS('年間カレンダー'!$A$12:$A$377,">="&B16,'年間カレンダー'!$A$12:$A$377,"<="&C16,'年間カレンダー'!$C$12:$C$377,"労働日")) | E16: =IF(B16="","",SUMIFS('年間カレンダー'!$G$12:$G$377,'年間カレンダー'!$A$12:$A$377,">="&B16,'年間カレンダー'!$A$12:$A$377,"<="&C16)) | F16: =IF(B16="","",IF(12=1,"最初の期間（日ごとに定める）","日ごとは30日前までに定める"))
A17: 合計 | D17: =SUM(D5:D16) -> 0 | E17: =SUM(E5:E16) -> 0

Sheet 判定
A1: 限度基準の判定（労基法32条の4・施行規則12条の4）
A2: 週は、対象期間の開始日から7日ごとに区切って数えています。就業規則等で週の起算日を定めている場合は、その区切りで確かめてください。
A4: 対象期間の暦日数 | B4: ='年間カレンダー'!B6
A5: 対象期間の長さ | B5: =IF(B4="","未入力",IF(OR('年間カレンダー'!B5<EDATE('年間カレンダー'!B4,1),'年間カレンダー'!B5>EDATE('年間カレンダー'!B4,12)-1),"範囲外",IF('年間カレンダー'!B5>EDATE('年間カレンダー'!B4,3)-1,"3箇月超","3箇月以内"))) -> 未入力
A6: 区分が空の日の数 | B6: =SUMPRODUCT(('年間カレンダー'!$A$12:$A$377<>"")*('年間カレンダー'!$C$12:$C$377="")) -> 0
A8: 項目 | B8: あなたの値 | C8: 限度 | D8: 判定
A9: 労働日数（対象期間3箇月超のとき） | B9: =SUMPRODUCT(('年間カレンダー'!$C$12:$C$377="労働日")*('年間カレンダー'!$A$12:$A$377<>"")) -> 0 | C9: 280日以内（1年当たり） | D9: =IF(B4="","未入力",IF(B5="3箇月以内","対象外(3箇月以内)",IF(B5<>"3箇月超","対象期間を確認",IF(B9>280,"超過",IF('年間カレンダー'!B5>=EDATE('年間カレンダー'!B4,12)-1,"範囲内","要確認(1年未満は数え方を確認)"))))) -> 未入力
A10: 対象期間の総労働時間の上限（40時間×暦日数÷7） | B10: =IF(B4="","",40*B4/7) | C10: この値が上限です
A11: 総所定労働時間（平均して週40時間以内か） | B11: =SUM('年間カレンダー'!$G$12:$G$377) -> 0 | C11: 上限以内（法32条の4第1項） | D11: =IF(OR(B4="",B6>0),"未入力",IF(B11<=B10,"範囲内","超過")) -> 未入力
A12: 1日の最長労働時間 | B12: =MAX('年間カレンダー'!$G$12:$G$377) -> 0 | C12: 10時間以内 | D12: =IF(B6>0,"未入力",IF(B12<=10,"範囲内","超過")) -> 範囲内
A13: 1週間の最長労働時間 | B13: =MAX(H27:H79) -> 0 | C13: 52時間以内 | D13: =IF(B6>0,"未入力",IF(B13<=52,"範囲内","超過")) -> 範囲内
A14: 週48時間を超える週の連続（最大・週） | B14: =MAX(J27:J79) -> 0 | C14: 3週以下（3箇月超のとき） | D14: =IF(B5<>"3箇月超","対象外(3箇月以内)",IF(B6>0,"未入力",IF(B14<=3,"範囲内","超過"))) -> 対象外(3箇月以内)
A15: 3箇月ごとの区分で48時間超の週の初日の数（最大） | B15: =MAX(O27:O30) -> 0 | C15: 3以下（3箇月超のとき） | D15: =IF(B5<>"3箇月超","対象外(3箇月以内)",IF(B6>0,"未入力",IF(B15<=3,"範囲内","超過"))) -> 対象外(3箇月以内)
A16: 連続労働日数の最大（特定期間を除く） | B16: =SUMPRODUCT(MAX(('年間カレンダー'!$J$12:$J$377=0)*'年間カレンダー'!$I$12:$I$377)) -> 0 | C16: 6日以内 | D16: =IF(B6>0,"未入力",IF(B16<=6,"範囲内","超過")) -> 範囲内
A17: 連続労働日数の最大（特定期間） | B17: =SUMPRODUCT(MAX(('年間カレンダー'!$J$12:$J$377=1)*'年間カレンダー'!$I$12:$I$377)) -> 0 | C17: 12日以内（条文の「1週間に1日の休日」から計算した目安） | D17: =IF(B6>0,"未入力",IF(B17<=12,"範囲内(計算上の目安)","要確認")) -> 範囲内(計算上の目安)
A19: 【根拠】 280日・1日10時間・1週52時間・週48時間超（連続3週以下・初日から3箇月ごとに区分した各期間で週の初日が3以下）・連続労働日数6日＝施行規則12条の4第3項〜第5項。平均して週40時間以内＝労働基準法32条の4第1項。特定期間の連続労働日数は、条文が「一週間に一日の休日が確保できる日数」とだけ定めているため、休日を週の最初の日と次の週の最後の日に置いた計算値の12日を目安にしています（条文に12日という数字はありません）。対象期間が1年未満のときの280日の数え方は条文に書いていないので、280日を超えていなければ「要確認」と表示します。特定期間に入った日の連続労働日数は特定期間の欄で数えます。この表はセルフチェック用の簡易ツールです。
F26: 週 | G26: 週の初日 | H26: 労働時間 | I26: 48時間超 | J26: 48超の連続 | K26: 3箇月区分 | M26: 区分 | N26: 最初の日 | O26: 48超の週の初日の数
F27: 1 | G27: =IF(ISNUMBER('年間カレンダー'!$B$4),IF('年間カレンダー'!$B$4+0<='年間カレンダー'!$B$5,'年間カレンダー'!$B$4+0,""),"") | H27: =IF(G27="","",SUMIF('年間カレンダー'!$H$12:$H$377,F27,'年間カレンダー'!$G$12:$G$377)) | I27: =IF(G27="",0,IF(H27>48,1,0)) -> 0 | J27: =IF(I27=1,0+1,0) -> 0 | K27: =IF(G27="","",COUNTIF($N$27:$N$30,"<="&G27)) | M27: 1 | N27: =IF(ISNUMBER('年間カレンダー'!$B$4),EDATE('年間カレンダー'!$B$4,0),"") | O27: =SUMIF($K$27:$K$79,M27,$I$27:$I$79) -> 0
F28: 2 | G28: =IF(ISNUMBER('年間カレンダー'!$B$4),IF('年間カレンダー'!$B$4+7<='年間カレンダー'!$B$5,'年間カレンダー'!$B$4+7,""),"") | H28: =IF(G28="","",SUMIF('年間カレンダー'!$H$12:$H$377,F28,'年間カレンダー'!$G$12:$G$377)) | I28: =IF(G28="",0,IF(H28>48,1,0)) -> 0 | J28: =IF(I28=1,J27+1,0) -> 0 | K28: =IF(G28="","",COUNTIF($N$27:$N$30,"<="&G28)) | M28: 2 | N28: =IF(ISNUMBER('年間カレンダー'!$B$4),EDATE('年間カレンダー'!$B$4,3),"") | O28: =SUMIF($K$27:$K$79,M28,$I$27:$I$79) -> 0
F29: 3 | G29: =IF(ISNUMBER('年間カレンダー'!$B$4),IF('年間カレンダー'!$B$4+14<='年間カレンダー'!$B$5,'年間カレンダー'!$B$4+14,""),"") | H29: =IF(G29="","",SUMIF('年間カレンダー'!$H$12:$H$377,F29,'年間カレンダー'!$G$12:$G$377)) | I29: =IF(G29="",0,IF(H29>48,1,0)) -> 0 | J29: =IF(I29=1,J28+1,0) -> 0 | K29: =IF(G29="","",COUNTIF($N$27:$N$30,"<="&G29)) | M29: 3 | N29: =IF(ISNUMBER('年間カレンダー'!$B$4),EDATE('年間カレンダー'!$B$4,6),"") | O29: =SUMIF($K$27:$K$79,M29,$I$27:$I$79) -> 0
F30: 4 | G30: =IF(ISNUMBER('年間カレンダー'!$B$4),IF('年間カレンダー'!$B$4+21<='年間カレンダー'!$B$5,'年間カレンダー'!$B$4+21,""),"") | H30: =IF(G30="","",SUMIF('年間カレンダー'!$H$12:$H$377,F30,'年間カレンダー'!$G$12:$G$377)) | I30: =IF(G30="",0,IF(H30>48,1,0)) -> 0 | J30: =IF(I30=1,J29+1,0) -> 0 | K30: =IF(G30="","",COUNTIF($N$27:$N$30,"<="&G30)) | M30: 4 | N30: =IF(ISNUMBER('年間カレンダー'!$B$4),EDATE('年間カレンダー'!$B$4,9),"") | O30: =SUMIF($K$27:$K$79,M30,$I$27:$I$79) -> 0
F31: 5 | G31: =IF(ISNUMBER('年間カレンダー'!$B$4),IF('年間カレンダー'!$B$4+28<='年間カレンダー'!$B$5,'年間カレンダー'!$B$4+28,""),"") | H31: =IF(G31="","",SUMIF('年間カレンダー'!$H$12:$H$377,F31,'年間カレンダー'!$G$12:$G$377)) | I31: =IF(G31="",0,IF(H31>48,1,0)) -> 0 | J31: =IF(I31=1,J30+1,0) -> 0 | K31: =IF(G31="","",COUNTIF($N$27:$N$30,"<="&G31))
F32: 6 | G32: =IF(ISNUMBER('年間カレンダー'!$B$4),IF('年間カレンダー'!$B$4+35<='年間カレンダー'!$B$5,'年間カレンダー'!$B$4+35,""),"") | H32: =IF(G32="","",SUMIF('年間カレンダー'!$H$12:$H$377,F32,'年間カレンダー'!$G$12:$G$377)) | I32: =IF(G32="",0,IF(H32>48,1,0)) -> 0 | J32: =IF(I32=1,J31+1,0) -> 0 | K32: =IF(G32="","",COUNTIF($N$27:$N$30,"<="&G32))
F33: 7 | G33: =IF(ISNUMBER('年間カレンダー'!$B$4),IF('年間カレンダー'!$B$4+42<='年間カレンダー'!$B$5,'年間カレンダー'!$B$4+42,""),"") | H33: =IF(G33="","",SUMIF('年間カレンダー'!$H$12:$H$377,F33,'年間カレンダー'!$G$12:$G$377)) | I33: =IF(G33="",0,IF(H33>48,1,0)) -> 0 | J33: =IF(I33=1,J32+1,0) -> 0 | K33: =IF(G33="","",COUNTIF($N$27:$N$30,"<="&G33))
F34: 8 | G34: =IF(ISNUMBER('年間カレンダー'!$B$4),IF('年間カレンダー'!$B$4+49<='年間カレンダー'!$B$5,'年間カレンダー'!$B$4+49,""),"") | H34: =IF(G34="","",SUMIF('年間カレンダー'!$H$12:$H$377,F34,'年間カレンダー'!$G$12:$G$377)) | I34: =IF(G34="",0,IF(H34>48,1,0)) -> 0 | J34: =IF(I34=1,J33+1,0) -> 0 | K34: =IF(G34="","",COUNTIF($N$27:$N$30,"<="&G34))
F35: 9 | G35: =IF(ISNUMBER('年間カレンダー'!$B$4),IF('年間カレンダー'!$B$4+56<='年間カレンダー'!$B$5,'年間カレンダー'!$B$4+56,""),"") | H35: =IF(G35="","",SUMIF('年間カレンダー'!$H$12:$H$377,F35,'年間カレンダー'!$G$12:$G$377)) | I35: =IF(G35="",0,IF(H35>48,1,0)) -> 0 | J35: =IF(I35=1,J34+1,0) -> 0 | K35: =IF(G35="","",COUNTIF($N$27:$N$30,"<="&G35))
F36: 10 | G36: =IF(ISNUMBER('年間カレンダー'!$B$4),IF('年間カレンダー'!$B$4+63<='年間カレンダー'!$B$5,'年間カレンダー'!$B$4+63,""),"") | H36: =IF(G36="","",SUMIF('年間カレンダー'!$H$12:$H$377,F36,'年間カレンダー'!$G$12:$G$377)) | I36: =IF(G36="",0,IF(H36>48,1,0)) -> 0 | J36: =IF(I36=1,J35+1,0) -> 0 | K36: =IF(G36="","",COUNTIF($N$27:$N$30,"<="&G36))
F37: 11 | G37: =IF(ISNUMBER('年間カレンダー'!$B$4),IF('年間カレンダー'!$B$4+70<='年間カレンダー'!$B$5,'年間カレンダー'!$B$4+70,""),"") | H37: =IF(G37="","",SUMIF('年間カレンダー'!$H$12:$H$377,F37,'年間カレンダー'!$G$12:$G$377)) | I37: =IF(G37="",0,IF(H37>48,1,0)) -> 0 | J37: =IF(I37=1,J36+1,0) -> 0 | K37: =IF(G37="","",COUNTIF($N$27:$N$30,"<="&G37))
F38: 12 | G38: =IF(ISNUMBER('年間カレンダー'!$B$4),IF('年間カレンダー'!$B$4+77<='年間カレンダー'!$B$5,'年間カレンダー'!$B$4+77,""),"") | H38: =IF(G38="","",SUMIF('年間カレンダー'!$H$12:$H$377,F38,'年間カレンダー'!$G$12:$G$377)) | I38: =IF(G38="",0,IF(H38>48,1,0)) -> 0 | J38: =IF(I38=1,J37+1,0) -> 0 | K38: =IF(G38="","",COUNTIF($N$27:$N$30,"<="&G38))
F39: 13 | G39: =IF(ISNUMBER('年間カレンダー'!$B$4),IF('年間カレンダー'!$B$4+84<='年間カレンダー'!$B$5,'年間カレンダー'!$B$4+84,""),"") | H39: =IF(G39="","",SUMIF('年間カレンダー'!$H$12:$H$377,F39,'年間カレンダー'!$G$12:$G$377)) | I39: =IF(G39="",0,IF(H39>48,1,0)) -> 0 | J39: =IF(I39=1,J38+1,0) -> 0 | K39: =IF(G39="","",COUNTIF($N$27:$N$30,"<="&G39))
F40: 14 | G40: =IF(ISNUMBER('年間カレンダー'!$B$4),IF('年間カレンダー'!$B$4+91<='年間カレンダー'!$B$5,'年間カレンダー'!$B$4+91,""),"") | H40: =IF(G40="","",SUMIF('年間カレンダー'!$H$12:$H$377,F40,'年間カレンダー'!$G$12:$G$377)) | I40: =IF(G40="",0,IF(H40>48,1,0)) -> 0 | J40: =IF(I40=1,J39+1,0) -> 0 | K40: =IF(G40="","",COUNTIF($N$27:$N$30,"<="&G40))
F41: 15 | G41: =IF(ISNUMBER('年間カレンダー'!$B$4),IF('年間カレンダー'!$B$4+98<='年間カレンダー'!$B$5,'年間カレンダー'!$B$4+98,""),"") | H41: =IF(G41="","",SUMIF('年間カレンダー'!$H$12:$H$377,F41,'年間カレンダー'!$G$12:$G$377)) | I41: =IF(G41="",0,IF(H41>48,1,0)) -> 0 | J41: =IF(I41=1,J40+1,0) -> 0 | K41: =IF(G41="","",COUNTIF($N$27:$N$30,"<="&G41))
F42: 16 | G42: =IF(ISNUMBER('年間カレンダー'!$B$4),IF('年間カレンダー'!$B$4+105<='年間カレンダー'!$B$5,'年間カレンダー'!$B$4+105,""),"") | H42: =IF(G42="","",SUMIF('年間カレンダー'!$H$12:$H$377,F42,'年間カレンダー'!$G$12:$G$377)) | I42: =IF(G42="",0,IF(H42>48,1,0)) -> 0 | J42: =IF(I42=1,J41+1,0) -> 0 | K42: =IF(G42="","",COUNTIF($N$27:$N$30,"<="&G42))
F43: 17 | G43: =IF(ISNUMBER('年間カレンダー'!$B$4),IF('年間カレンダー'!$B$4+112<='年間カレンダー'!$B$5,'年間カレンダー'!$B$4+112,""),"") | H43: =IF(G43="","",SUMIF('年間カレンダー'!$H$12:$H$377,F43,'年間カレンダー'!$G$12:$G$377)) | I43: =IF(G43="",0,IF(H43>48,1,0)) -> 0 | J43: =IF(I43=1,J42+1,0) -> 0 | K43: =IF(G43="","",COUNTIF($N$27:$N$30,"<="&G43))
F44: 18 | G44: =IF(ISNUMBER('年間カレンダー'!$B$4),IF('年間カレンダー'!$B$4+119<='年間カレンダー'!$B$5,'年間カレンダー'!$B$4+119,""),"") | H44: =IF(G44="","",SUMIF('年間カレンダー'!$H$12:$H$377,F44,'年間カレンダー'!$G$12:$G$377)) | I44: =IF(G44="",0,IF(H44>48,1,0)) -> 0 | J44: =IF(I44=1,J43+1,0) -> 0 | K44: =IF(G44="","",COUNTIF($N$27:$N$30,"<="&G44))
F45: 19 | G45: =IF(ISNUMBER('年間カレンダー'!$B$4),IF('年間カレンダー'!$B$4+126<='年間カレンダー'!$B$5,'年間カレンダー'!$B$4+126,""),"") | H45: =IF(G45="","",SUMIF('年間カレンダー'!$H$12:$H$377,F45,'年間カレンダー'!$G$12:$G$377)) | I45: =IF(G45="",0,IF(H45>48,1,0)) -> 0 | J45: =IF(I45=1,J44+1,0) -> 0 | K45: =IF(G45="","",COUNTIF($N$27:$N$30,"<="&G45))
F46: 20 | G46: =IF(ISNUMBER('年間カレンダー'!$B$4),IF('年間カレンダー'!$B$4+133<='年間カレンダー'!$B$5,'年間カレンダー'!$B$4+133,""),"") | H46: =IF(G46="","",SUMIF('年間カレンダー'!$H$12:$H$377,F46,'年間カレンダー'!$G$12:$G$377)) | I46: =IF(G46="",0,IF(H46>48,1,0)) -> 0 | J46: =IF(I46=1,J45+1,0) -> 0 | K46: =IF(G46="","",COUNTIF($N$27:$N$30,"<="&G46))
F47: 21 | G47: =IF(ISNUMBER('年間カレンダー'!$B$4),IF('年間カレンダー'!$B$4+140<='年間カレンダー'!$B$5,'年間カレンダー'!$B$4+140,""),"") | H47: =IF(G47="","",SUMIF('年間カレンダー'!$H$12:$H$377,F47,'年間カレンダー'!$G$12:$G$377)) | I47: =IF(G47="",0,IF(H47>48,1,0)) -> 0 | J47: =IF(I47=1,J46+1,0) -> 0 | K47: =IF(G47="","",COUNTIF($N$27:$N$30,"<="&G47))
F48: 22 | G48: =IF(ISNUMBER('年間カレンダー'!$B$4),IF('年間カレンダー'!$B$4+147<='年間カレンダー'!$B$5,'年間カレンダー'!$B$4+147,""),"") | H48: =IF(G48="","",SUMIF('年間カレンダー'!$H$12:$H$377,F48,'年間カレンダー'!$G$12:$G$377)) | I48: =IF(G48="",0,IF(H48>48,1,0)) -> 0 | J48: =IF(I48=1,J47+1,0) -> 0 | K48: =IF(G48="","",COUNTIF($N$27:$N$30,"<="&G48))
F49: 23 | G49: =IF(ISNUMBER('年間カレンダー'!$B$4),IF('年間カレンダー'!$B$4+154<='年間カレンダー'!$B$5,'年間カレンダー'!$B$4+154,""),"") | H49: =IF(G49="","",SUMIF('年間カレンダー'!$H$12:$H$377,F49,'年間カレンダー'!$G$12:$G$377)) | I49: =IF(G49="",0,IF(H49>48,1,0)) -> 0 | J49: =IF(I49=1,J48+1,0) -> 0 | K49: =IF(G49="","",COUNTIF($N$27:$N$30,"<="&G49))
F50: 24 | G50: =IF(ISNUMBER('年間カレンダー'!$B$4),IF('年間カレンダー'!$B$4+161<='年間カレンダー'!$B$5,'年間カレンダー'!$B$4+161,""),"") | H50: =IF(G50="","",SUMIF('年間カレンダー'!$H$12:$H$377,F50,'年間カレンダー'!$G$12:$G$377)) | I50: =IF(G50="",0,IF(H50>48,1,0)) -> 0 | J50: =IF(I50=1,J49+1,0) -> 0 | K50: =IF(G50="","",COUNTIF($N$27:$N$30,"<="&G50))
F51: 25 | G51: =IF(ISNUMBER('年間カレンダー'!$B$4),IF('年間カレンダー'!$B$4+168<='年間カレンダー'!$B$5,'年間カレンダー'!$B$4+168,""),"") | H51: =IF(G51="","",SUMIF('年間カレンダー'!$H$12:$H$377,F51,'年間カレンダー'!$G$12:$G$377)) | I51: =IF(G51="",0,IF(H51>48,1,0)) -> 0 | J51: =IF(I51=1,J50+1,0) -> 0 | K51: =IF(G51="","",COUNTIF($N$27:$N$30,"<="&G51))
F52: 26 | G52: =IF(ISNUMBER('年間カレンダー'!$B$4),IF('年間カレンダー'!$B$4+175<='年間カレンダー'!$B$5,'年間カレンダー'!$B$4+175,""),"") | H52: =IF(G52="","",SUMIF('年間カレンダー'!$H$12:$H$377,F52,'年間カレンダー'!$G$12:$G$377)) | I52: =IF(G52="",0,IF(H52>48,1,0)) -> 0 | J52: =IF(I52=1,J51+1,0) -> 0 | K52: =IF(G52="","",COUNTIF($N$27:$N$30,"<="&G52))
F53: 27 | G53: =IF(ISNUMBER('年間カレンダー'!$B$4),IF('年間カレンダー'!$B$4+182<='年間カレンダー'!$B$5,'年間カレンダー'!$B$4+182,""),"") | H53: =IF(G53="","",SUMIF('年間カレンダー'!$H$12:$H$377,F53,'年間カレンダー'!$G$12:$G$377)) | I53: =IF(G53="",0,IF(H53>48,1,0)) -> 0 | J53: =IF(I53=1,J52+1,0) -> 0 | K53: =IF(G53="","",COUNTIF($N$27:$N$30,"<="&G53))
F54: 28 | G54: =IF(ISNUMBER('年間カレンダー'!$B$4),IF('年間カレンダー'!$B$4+189<='年間カレンダー'!$B$5,'年間カレンダー'!$B$4+189,""),"") | H54: =IF(G54="","",SUMIF('年間カレンダー'!$H$12:$H$377,F54,'年間カレンダー'!$G$12:$G$377)) | I54: =IF(G54="",0,IF(H54>48,1,0)) -> 0 | J54: =IF(I54=1,J53+1,0) -> 0 | K54: =IF(G54="","",COUNTIF($N$27:$N$30,"<="&G54))
F55: 29 | G55: =IF(ISNUMBER('年間カレンダー'!$B$4),IF('年間カレンダー'!$B$4+196<='年間カレンダー'!$B$5,'年間カレンダー'!$B$4+196,""),"") | H55: =IF(G55="","",SUMIF('年間カレンダー'!$H$12:$H$377,F55,'年間カレンダー'!$G$12:$G$377)) | I55: =IF(G55="",0,IF(H55>48,1,0)) -> 0 | J55: =IF(I55=1,J54+1,0) -> 0 | K55: =IF(G55="","",COUNTIF($N$27:$N$30,"<="&G55))
F56: 30 | G56: =IF(ISNUMBER('年間カレンダー'!$B$4),IF('年間カレンダー'!$B$4+203<='年間カレンダー'!$B$5,'年間カレンダー'!$B$4+203,""),"") | H56: =IF(G56="","",SUMIF('年間カレンダー'!$H$12:$H$377,F56,'年間カレンダー'!$G$12:$G$377)) | I56: =IF(G56="",0,IF(H56>48,1,0)) -> 0 | J56: =IF(I56=1,J55+1,0) -> 0 | K56: =IF(G56="","",COUNTIF($N$27:$N$30,"<="&G56))
F57: 31 | G57: =IF(ISNUMBER('年間カレンダー'!$B$4),IF('年間カレンダー'!$B$4+210<='年間カレンダー'!$B$5,'年間カレンダー'!$B$4+210,""),"") | H57: =IF(G57="","",SUMIF('年間カレンダー'!$H$12:$H$377,F57,'年間カレンダー'!$G$12:$G$377)) | I57: =IF(G57="",0,IF(H57>48,1,0)) -> 0 | J57: =IF(I57=1,J56+1,0) -> 0 | K57: =IF(G57="","",COUNTIF($N$27:$N$30,"<="&G57))
F58: 32 | G58: =IF(ISNUMBER('年間カレンダー'!$B$4),IF('年間カレンダー'!$B$4+217<='年間カレンダー'!$B$5,'年間カレンダー'!$B$4+217,""),"") | H58: =IF(G58="","",SUMIF('年間カレンダー'!$H$12:$H$377,F58,'年間カレンダー'!$G$12:$G$377)) | I58: =IF(G58="",0,IF(H58>48,1,0)) -> 0 | J58: =IF(I58=1,J57+1,0) -> 0 | K58: =IF(G58="","",COUNTIF($N$27:$N$30,"<="&G58))
F59: 33 | G59: =IF(ISNUMBER('年間カレンダー'!$B$4),IF('年間カレンダー'!$B$4+224<='年間カレンダー'!$B$5,'年間カレンダー'!$B$4+224,""),"") | H59: =IF(G59="","",SUMIF('年間カレンダー'!$H$12:$H$377,F59,'年間カレンダー'!$G$12:$G$377)) | I59: =IF(G59="",0,IF(H59>48,1,0)) -> 0 | J59: =IF(I59=1,J58+1,0) -> 0 | K59: =IF(G59="","",COUNTIF($N$27:$N$30,"<="&G59))
F60: 34 | G60: =IF(ISNUMBER('年間カレンダー'!$B$4),IF('年間カレンダー'!$B$4+231<='年間カレンダー'!$B$5,'年間カレンダー'!$B$4+231,""),"") | H60: =IF(G60="","",SUMIF('年間カレンダー'!$H$12:$H$377,F60,'年間カレンダー'!$G$12:$G$377)) | I60: =IF(G60="",0,IF(H60>48,1,0)) -> 0 | J60: =IF(I60=1,J59+1,0) -> 0 | K60: =IF(G60="","",COUNTIF($N$27:$N$30,"<="&G60))
F61: 35 | G61: =IF(ISNUMBER('年間カレンダー'!$B$4),IF('年間カレンダー'!$B$4+238<='年間カレンダー'!$B$5,'年間カレンダー'!$B$4+238,""),"") | H61: =IF(G61="","",SUMIF('年間カレンダー'!$H$12:$H$377,F61,'年間カレンダー'!$G$12:$G$377)) | I61: =IF(G61="",0,IF(H61>48,1,0)) -> 0 | J61: =IF(I61=1,J60+1,0) -> 0 | K61: =IF(G61="","",COUNTIF($N$27:$N$30,"<="&G61))
F62: 36 | G62: =IF(ISNUMBER('年間カレンダー'!$B$4),IF('年間カレンダー'!$B$4+245<='年間カレンダー'!$B$5,'年間カレンダー'!$B$4+245,""),"") | H62: =IF(G62="","",SUMIF('年間カレンダー'!$H$12:$H$377,F62,'年間カレンダー'!$G$12:$G$377)) | I62: =IF(G62="",0,IF(H62>48,1,0)) -> 0 | J62: =IF(I62=1,J61+1,0) -> 0 | K62: =IF(G62="","",COUNTIF($N$27:$N$30,"<="&G62))
F63: 37 | G63: =IF(ISNUMBER('年間カレンダー'!$B$4),IF('年間カレンダー'!$B$4+252<='年間カレンダー'!$B$5,'年間カレンダー'!$B$4+252,""),"") | H63: =IF(G63="","",SUMIF('年間カレンダー'!$H$12:$H$377,F63,'年間カレンダー'!$G$12:$G$377)) | I63: =IF(G63="",0,IF(H63>48,1,0)) -> 0 | J63: =IF(I63=1,J62+1,0) -> 0 | K63: =IF(G63="","",COUNTIF($N$27:$N$30,"<="&G63))
F64: 38 | G64: =IF(ISNUMBER('年間カレンダー'!$B$4),IF('年間カレンダー'!$B$4+259<='年間カレンダー'!$B$5,'年間カレンダー'!$B$4+259,""),"") | H64: =IF(G64="","",SUMIF('年間カレンダー'!$H$12:$H$377,F64,'年間カレンダー'!$G$12:$G$377)) | I64: =IF(G64="",0,IF(H64>48,1,0)) -> 0 | J64: =IF(I64=1,J63+1,0) -> 0 | K64: =IF(G64="","",COUNTIF($N$27:$N$30,"<="&G64))
F65: 39 | G65: =IF(ISNUMBER('年間カレンダー'!$B$4),IF('年間カレンダー'!$B$4+266<='年間カレンダー'!$B$5,'年間カレンダー'!$B$4+266,""),"") | H65: =IF(G65="","",SUMIF('年間カレンダー'!$H$12:$H$377,F65,'年間カレンダー'!$G$12:$G$377)) | I65: =IF(G65="",0,IF(H65>48,1,0)) -> 0 | J65: =IF(I65=1,J64+1,0) -> 0 | K65: =IF(G65="","",COUNTIF($N$27:$N$30,"<="&G65))
F66: 40 | G66: =IF(ISNUMBER('年間カレンダー'!$B$4),IF('年間カレンダー'!$B$4+273<='年間カレンダー'!$B$5,'年間カレンダー'!$B$4+273,""),"") | H66: =IF(G66="","",SUMIF('年間カレンダー'!$H$12:$H$377,F66,'年間カレンダー'!$G$12:$G$377)) | I66: =IF(G66="",0,IF(H66>48,1,0)) -> 0 | J66: =IF(I66=1,J65+1,0) -> 0 | K66: =IF(G66="","",COUNTIF($N$27:$N$30,"<="&G66))
F67: 41 | G67: =IF(ISNUMBER('年間カレンダー'!$B$4),IF('年間カレンダー'!$B$4+280<='年間カレンダー'!$B$5,'年間カレンダー'!$B$4+280,""),"") | H67: =IF(G67="","",SUMIF('年間カレンダー'!$H$12:$H$377,F67,'年間カレンダー'!$G$12:$G$377)) | I67: =IF(G67="",0,IF(H67>48,1,0)) -> 0 | J67: =IF(I67=1,J66+1,0) -> 0 | K67: =IF(G67="","",COUNTIF($N$27:$N$30,"<="&G67))
F68: 42 | G68: =IF(ISNUMBER('年間カレンダー'!$B$4),IF('年間カレンダー'!$B$4+287<='年間カレンダー'!$B$5,'年間カレンダー'!$B$4+287,""),"") | H68: =IF(G68="","",SUMIF('年間カレンダー'!$H$12:$H$377,F68,'年間カレンダー'!$G$12:$G$377)) | I68: =IF(G68="",0,IF(H68>48,1,0)) -> 0 | J68: =IF(I68=1,J67+1,0) -> 0 | K68: =IF(G68="","",COUNTIF($N$27:$N$30,"<="&G68))
F69: 43 | G69: =IF(ISNUMBER('年間カレンダー'!$B$4),IF('年間カレンダー'!$B$4+294<='年間カレンダー'!$B$5,'年間カレンダー'!$B$4+294,""),"") | H69: =IF(G69="","",SUMIF('年間カレンダー'!$H$12:$H$377,F69,'年間カレンダー'!$G$12:$G$377)) | I69: =IF(G69="",0,IF(H69>48,1,0)) -> 0 | J69: =IF(I69=1,J68+1,0) -> 0 | K69: =IF(G69="","",COUNTIF($N$27:$N$30,"<="&G69))
F70: 44 | G70: =IF(ISNUMBER('年間カレンダー'!$B$4),IF('年間カレンダー'!$B$4+301<='年間カレンダー'!$B$5,'年間カレンダー'!$B$4+301,""),"") | H70: =IF(G70="","",SUMIF('年間カレンダー'!$H$12:$H$377,F70,'年間カレンダー'!$G$12:$G$377)) | I70: =IF(G70="",0,IF(H70>48,1,0)) -> 0 | J70: =IF(I70=1,J69+1,0) -> 0 | K70: =IF(G70="","",COUNTIF($N$27:$N$30,"<="&G70))
F71: 45 | G71: =IF(ISNUMBER('年間カレンダー'!$B$4),IF('年間カレンダー'!$B$4+308<='年間カレンダー'!$B$5,'年間カレンダー'!$B$4+308,""),"") | H71: =IF(G71="","",SUMIF('年間カレンダー'!$H$12:$H$377,F71,'年間カレンダー'!$G$12:$G$377)) | I71: =IF(G71="",0,IF(H71>48,1,0)) -> 0 | J71: =IF(I71=1,J70+1,0) -> 0 | K71: =IF(G71="","",COUNTIF($N$27:$N$30,"<="&G71))
F72: 46 | G72: =IF(ISNUMBER('年間カレンダー'!$B$4),IF('年間カレンダー'!$B$4+315<='年間カレンダー'!$B$5,'年間カレンダー'!$B$4+315,""),"") | H72: =IF(G72="","",SUMIF('年間カレンダー'!$H$12:$H$377,F72,'年間カレンダー'!$G$12:$G$377)) | I72: =IF(G72="",0,IF(H72>48,1,0)) -> 0 | J72: =IF(I72=1,J71+1,0) -> 0 | K72: =IF(G72="","",COUNTIF($N$27:$N$30,"<="&G72))
F73: 47 | G73: =IF(ISNUMBER('年間カレンダー'!$B$4),IF('年間カレンダー'!$B$4+322<='年間カレンダー'!$B$5,'年間カレンダー'!$B$4+322,""),"") | H73: =IF(G73="","",SUMIF('年間カレンダー'!$H$12:$H$377,F73,'年間カレンダー'!$G$12:$G$377)) | I73: =IF(G73="",0,IF(H73>48,1,0)) -> 0 | J73: =IF(I73=1,J72+1,0) -> 0 | K73: =IF(G73="","",COUNTIF($N$27:$N$30,"<="&G73))
F74: 48 | G74: =IF(ISNUMBER('年間カレンダー'!$B$4),IF('年間カレンダー'!$B$4+329<='年間カレンダー'!$B$5,'年間カレンダー'!$B$4+329,""),"") | H74: =IF(G74="","",SUMIF('年間カレンダー'!$H$12:$H$377,F74,'年間カレンダー'!$G$12:$G$377)) | I74: =IF(G74="",0,IF(H74>48,1,0)) -> 0 | J74: =IF(I74=1,J73+1,0) -> 0 | K74: =IF(G74="","",COUNTIF($N$27:$N$30,"<="&G74))
F75: 49 | G75: =IF(ISNUMBER('年間カレンダー'!$B$4),IF('年間カレンダー'!$B$4+336<='年間カレンダー'!$B$5,'年間カレンダー'!$B$4+336,""),"") | H75: =IF(G75="","",SUMIF('年間カレンダー'!$H$12:$H$377,F75,'年間カレンダー'!$G$12:$G$377)) | I75: =IF(G75="",0,IF(H75>48,1,0)) -> 0 | J75: =IF(I75=1,J74+1,0) -> 0 | K75: =IF(G75="","",COUNTIF($N$27:$N$30,"<="&G75))
F76: 50 | G76: =IF(ISNUMBER('年間カレンダー'!$B$4),IF('年間カレンダー'!$B$4+343<='年間カレンダー'!$B$5,'年間カレンダー'!$B$4+343,""),"") | H76: =IF(G76="","",SUMIF('年間カレンダー'!$H$12:$H$377,F76,'年間カレンダー'!$G$12:$G$377)) | I76: =IF(G76="",0,IF(H76>48,1,0)) -> 0 | J76: =IF(I76=1,J75+1,0) -> 0 | K76: =IF(G76="","",COUNTIF($N$27:$N$30,"<="&G76))
F77: 51 | G77: =IF(ISNUMBER('年間カレンダー'!$B$4),IF('年間カレンダー'!$B$4+350<='年間カレンダー'!$B$5,'年間カレンダー'!$B$4+350,""),"") | H77: =IF(G77="","",SUMIF('年間カレンダー'!$H$12:$H$377,F77,'年間カレンダー'!$G$12:$G$377)) | I77: =IF(G77="",0,IF(H77>48,1,0)) -> 0 | J77: =IF(I77=1,J76+1,0) -> 0 | K77: =IF(G77="","",COUNTIF($N$27:$N$30,"<="&G77))
F78: 52 | G78: =IF(ISNUMBER('年間カレンダー'!$B$4),IF('年間カレンダー'!$B$4+357<='年間カレンダー'!$B$5,'年間カレンダー'!$B$4+357,""),"") | H78: =IF(G78="","",SUMIF('年間カレンダー'!$H$12:$H$377,F78,'年間カレンダー'!$G$12:$G$377)) | I78: =IF(G78="",0,IF(H78>48,1,0)) -> 0 | J78: =IF(I78=1,J77+1,0) -> 0 | K78: =IF(G78="","",COUNTIF($N$27:$N$30,"<="&G78))
F79: 53 | G79: =IF(ISNUMBER('年間カレンダー'!$B$4),IF('年間カレンダー'!$B$4+364<='年間カレンダー'!$B$5,'年間カレンダー'!$B$4+364,""),"") | H79: =IF(G79="","",SUMIF('年間カレンダー'!$H$12:$H$377,F79,'年間カレンダー'!$G$12:$G$377)) | I79: =IF(G79="",0,IF(H79>48,1,0)) -> 0 | J79: =IF(I79=1,J78+1,0) -> 0 | K79: =IF(G79="","",COUNTIF($N$27:$N$30,"<="&G79))

Sheet 記入例_年間カレンダー
A1: 別紙 年間カレンダー（1年単位の変形労働時間制）・記入例
A2: 黄色のセルに入力します。区分表と判定のシートは自動で計算します。
A4: 対象期間の開始日 | B4: 46296
A5: 対象期間の終了日 | B5: 46660 | D5: ← 1年のときは自動で入ります。1年未満のときは日付を入れ直します。
A6: 対象期間の暦日数 | B6: =IF(AND(ISNUMBER(B4),ISNUMBER(B5)),B5-B4+1,"") -> 365
A7: 特定期間（開始） | B7: 46357
A8: 特定期間（終了） | B8: 46384 | D8: ← 特定期間を定めないときは空欄
A10: 日ごとの勤務（区分・始業・終業・休憩を入力）
A11: 日付 | B11: 曜日 | C11: 区分 | D11: 始業 | E11: 終業 | F11: 休憩（分） | G11: 労働時間 | H11: 週 | I11: 連続労働日数 | J11: 特定期間
A12: =IF(ISNUMBER($B$4),IF(ISNUMBER($B$5),IF($B$4+0<=$B$5,$B$4+0,""),""),"") -> 46296 | B12: =IF(A12="","",CHOOSE(WEEKDAY(A12),"日","月","火","水","木","金","土")) -> 木 | C12: 労働日 | D12: 0.375 | E12: 0.75 | F12: 60 | G12: =IF(OR(A12="",C12<>"労働日"),0,MAX(0,MOD(E12-D12,1)*24-F12/60)) -> 8 | H12: =IF(A12="","",INT((A12-$B$4)/7)+1) -> 1 | I12: =IF(AND(A12<>"",C12="労働日"),0+1,0) -> 1 | J12: =IF(AND(A12<>"",ISNUMBER($B$7),ISNUMBER($B$8)),IF(AND(A12>=$B$7,A12<=$B$8),1,0),0) -> 0
A13: =IF(ISNUMBER($B$4),IF(ISNUMBER($B$5),IF($B$4+1<=$B$5,$B$4+1,""),""),"") -> 46297 | B13: =IF(A13="","",CHOOSE(WEEKDAY(A13),"日","月","火","水","木","金","土")) -> 金 | C13: 労働日 | D13: 0.375 | E13: 0.75 | F13: 60 | G13: =IF(OR(A13="",C13<>"労働日"),0,MAX(0,MOD(E13-D13,1)*24-F13/60)) -> 8 | H13: =IF(A13="","",INT((A13-$B$4)/7)+1) -> 1 | I13: =IF(AND(A13<>"",C13="労働日"),I12+1,0) -> 2 | J13: =IF(AND(A13<>"",ISNUMBER($B$7),ISNUMBER($B$8)),IF(AND(A13>=$B$7,A13<=$B$8),1,0),0) -> 0
A14: =IF(ISNUMBER($B$4),IF(ISNUMBER($B$5),IF($B$4+2<=$B$5,$B$4+2,""),""),"") -> 46298 | B14: =IF(A14="","",CHOOSE(WEEKDAY(A14),"日","月","火","水","木","金","土")) -> 土 | C14: 休日 | G14: =IF(OR(A14="",C14<>"労働日"),0,MAX(0,MOD(E14-D14,1)*24-F14/60)) -> 0 | H14: =IF(A14="","",INT((A14-$B$4)/7)+1) -> 1 | I14: =IF(AND(A14<>"",C14="労働日"),I13+1,0) -> 0 | J14: =IF(AND(A14<>"",ISNUMBER($B$7),ISNUMBER($B$8)),IF(AND(A14>=$B$7,A14<=$B$8),1,0),0) -> 0
A15: =IF(ISNUMBER($B$4),IF(ISNUMBER($B$5),IF($B$4+3<=$B$5,$B$4+3,""),""),"") -> 46299 | B15: =IF(A15="","",CHOOSE(WEEKDAY(A15),"日","月","火","水","木","金","土")) -> 日 | C15: 休日 | G15: =IF(OR(A15="",C15<>"労働日"),0,MAX(0,MOD(E15-D15,1)*24-F15/60)) -> 0 | H15: =IF(A15="","",INT((A15-$B$4)/7)+1) -> 1 | I15: =IF(AND(A15<>"",C15="労働日"),I14+1,0) -> 0 | J15: =IF(AND(A15<>"",ISNUMBER($B$7),ISNUMBER($B$8)),IF(AND(A15>=$B$7,A15<=$B$8),1,0),0) -> 0
A16: =IF(ISNUMBER($B$4),IF(ISNUMBER($B$5),IF($B$4+4<=$B$5,$B$4+4,""),""),"") -> 46300 | B16: =IF(A16="","",CHOOSE(WEEKDAY(A16),"日","月","火","水","木","金","土")) -> 月 | C16: 労働日 | D16: 0.375 | E16: 0.75 | F16: 60 | G16: =IF(OR(A16="",C16<>"労働日"),0,MAX(0,MOD(E16-D16,1)*24-F16/60)) -> 8 | H16: =IF(A16="","",INT((A16-$B$4)/7)+1) -> 1 | I16: =IF(AND(A16<>"",C16="労働日"),I15+1,0) -> 1 | J16: =IF(AND(A16<>"",ISNUMBER($B$7),ISNUMBER($B$8)),IF(AND(A16>=$B$7,A16<=$B$8),1,0),0) -> 0
A17: =IF(ISNUMBER($B$4),IF(ISNUMBER($B$5),IF($B$4+5<=$B$5,$B$4+5,""),""),"") -> 46301 | B17: =IF(A17="","",CHOOSE(WEEKDAY(A17),"日","月","火","水","木","金","土")) -> 火 | C17: 労働日 | D17: 0.375 | E17: 0.75 | F17: 60 | G17: =IF(OR(A17="",C17<>"労働日"),0,MAX(0,MOD(E17-D17,1)*24-F17/60)) -> 8 | H17: =IF(A17="","",INT((A17-$B$4)/7)+1) -> 1 | I17: =IF(AND(A17<>"",C17="労働日"),I16+1,0) -> 2 | J17: =IF(AND(A17<>"",ISNUMBER($B$7),ISNUMBER($B$8)),IF(AND(A17>=$B$7,A17<=$B$8),1,0),0) -> 0
A18: =IF(ISNUMBER($B$4),IF(ISNUMBER($B$5),IF($B$4+6<=$B$5,$B$4+6,""),""),"") -> 46302 | B18: =IF(A18="","",CHOOSE(WEEKDAY(A18),"日","月","火","水","木","金","土")) -> 水 | C18: 労働日 | D18: 0.375 | E18: 0.75 | F18: 60 | G18: =IF(OR(A18="",C18<>"労働日"),0,MAX(0,MOD(E18-D18,1)*24-F18/60)) -> 8 | H18: =IF(A18="","",INT((A18-$B$4)/7)+1) -> 1 | I18: =IF(AND(A18<>"",C18="労働日"),I17+1,0) -> 3 | J18: =IF(AND(A18<>"",ISNUMBER($B$7),ISNUMBER($B$8)),IF(AND(A18>=$B$7,A18<=$B$8),1,0),0) -> 0
A19: =IF(ISNUMBER($B$4),IF(ISNUMBER($B$5),IF($B$4+7<=$B$5,$B$4+7,""),""),"") -> 46303 | B19: =IF(A19="","",CHOOSE(WEEKDAY(A19),"日","月","火","水","木","金","土")) -> 木 | C19: 労働日 | D19: 0.375 | E19: 0.75 | F19: 60 | G19: =IF(OR(A19="",C19<>"労働日"),0,MAX(0,MOD(E19-D19,1)*24-F19/60)) -> 8 | H19: =IF(A19="","",INT((A19-$B$4)/7)+1) -> 2 | I19: =IF(AND(A19<>"",C19="労働日"),I18+1,0) -> 4 | J19: =IF(AND(A19<>"",ISNUMBER($B$7),ISNUMBER($B$8)),IF(AND(A19>=$B$7,A19<=$B$8),1,0),0) -> 0
A20: =IF(ISNUMBER($B$4),IF(ISNUMBER($B$5),IF($B$4+8<=$B$5,$B$4+8,""),""),"") -> 46304 | B20: =IF(A20="","",CHOOSE(WEEKDAY(A20),"日","月","火","水","木","金","土")) -> 金 | C20: 労働日 | D20: 0.375 | E20: 0.75 | F20: 60 | G20: =IF(OR(A20="",C20<>"労働日"),0,MAX(0,MOD(E20-D20,1)*24-F20/60)) -> 8 | H20: =IF(A20="","",INT((A20-$B$4)/7)+1) -> 2 | I20: =IF(AND(A20<>"",C20="労働日"),I19+1,0) -> 5 | J20: =IF(AND(A20<>"",ISNUMBER($B$7),ISNUMBER($B$8)),IF(AND(A20>=$B$7,A20<=$B$8),1,0),0) -> 0
A21: =IF(ISNUMBER($B$4),IF(ISNUMBER($B$5),IF($B$4+9<=$B$5,$B$4+9,""),""),"") -> 46305 | B21: =IF(A21="","",CHOOSE(WEEKDAY(A21),"日","月","火","水","木","金","土")) -> 土 | C21: 休日 | G21: =IF(OR(A21="",C21<>"労働日"),0,MAX(0,MOD(E21-D21,1)*24-F21/60)) -> 0 | H21: =IF(A21="","",INT((A21-$B$4)/7)+1) -> 2 | I21: =IF(AND(A21<>"",C21="労働日"),I20+1,0) -> 0 | J21: =IF(AND(A21<>"",ISNUMBER($B$7),ISNUMBER($B$8)),IF(AND(A21>=$B$7,A21<=$B$8),1,0),0) -> 0
A22: =IF(ISNUMBER($B$4),IF(ISNUMBER($B$5),IF($B$4+10<=$B$5,$B$4+10,""),""),"") -> 46306 | B22: =IF(A22="","",CHOOSE(WEEKDAY(A22),"日","月","火","水","木","金","土")) -> 日 | C22: 休日 | G22: =IF(OR(A22="",C22<>"労働日"),0,MAX(0,MOD(E22-D22,1)*24-F22/60)) -> 0 | H22: =IF(A22="","",INT((A22-$B$4)/7)+1) -> 2 | I22: =IF(AND(A22<>"",C22="労働日"),I21+1,0) -> 0 | J22: =IF(AND(A22<>"",ISNUMBER($B$7),ISNUMBER($B$8)),IF(AND(A22>=$B$7,A22<=$B$8),1,0),0) -> 0
A23: =IF(ISNUMBER($B$4),IF(ISNUMBER($B$5),IF($B$4+11<=$B$5,$B$4+11,""),""),"") -> 46307 | B23: =IF(A23="","",CHOOSE(WEEKDAY(A23),"日","月","火","水","木","金","土")) -> 月 | C23: 労働日 | D23: 0.375 | E23: 0.75 | F23: 60 | G23: =IF(OR(A23="",C23<>"労働日"),0,MAX(0,MOD(E23-D23,1)*24-F23/60)) -> 8 | H23: =IF(A23="","",INT((A23-$B$4)/7)+1) -> 2 | I23: =IF(AND(A23<>"",C23="労働日"),I22+1,0) -> 1 | J23: =IF(AND(A23<>"",ISNUMBER($B$7),ISNUMBER($B$8)),IF(AND(A23>=$B$7,A23<=$B$8),1,0),0) -> 0
A24: =IF(ISNUMBER($B$4),IF(ISNUMBER($B$5),IF($B$4+12<=$B$5,$B$4+12,""),""),"") -> 46308 | B24: =IF(A24="","",CHOOSE(WEEKDAY(A24),"日","月","火","水","木","金","土")) -> 火 | C24: 労働日 | D24: 0.375 | E24: 0.75 | F24: 60 | G24: =IF(OR(A24="",C24<>"労働日"),0,MAX(0,MOD(E24-D24,1)*24-F24/60)) -> 8 | H24: =IF(A24="","",INT((A24-$B$4)/7)+1) -> 2 | I24: =IF(AND(A24<>"",C24="労働日"),I23+1,0) -> 2 | J24: =IF(AND(A24<>"",ISNUMBER($B$7),ISNUMBER($B$8)),IF(AND(A24>=$B$7,A24<=$B$8),1,0),0) -> 0
A25: =IF(ISNUMBER($B$4),IF(ISNUMBER($B$5),IF($B$4+13<=$B$5,$B$4+13,""),""),"") -> 46309 | B25: =IF(A25="","",CHOOSE(WEEKDAY(A25),"日","月","火","水","木","金","土")) -> 水 | C25: 労働日 | D25: 0.375 | E25: 0.75 | F25: 60 | G25: =IF(OR(A25="",C25<>"労働日"),0,MAX(0,MOD(E25-D25,1)*24-F25/60)) -> 8 | H25: =IF(A25="","",INT((A25-$B$4)/7)+1) -> 2 | I25: =IF(AND(A25<>"",C25="労働日"),I24+1,0) -> 3 | J25: =IF(AND(A25<>"",ISNUMBER($B$7),ISNUMBER($B$8)),IF(AND(A25>=$B$7,A25<=$B$8),1,0),0) -> 0
A26: =IF(ISNUMBER($B$4),IF(ISNUMBER($B$5),IF($B$4+14<=$B$5,$B$4+14,""),""),"") -> 46310 | B26: =IF(A26="","",CHOOSE(WEEKDAY(A26),"日","月","火","水","木","金","土")) -> 木 | C26: 労働日 | D26: 0.375 | E26: 0.75 | F26: 60 | G26: =IF(OR(A26="",C26<>"労働日"),0,MAX(0,MOD(E26-D26,1)*24-F26/60)) -> 8 | H26: =IF(A26="","",INT((A26-$B$4)/7)+1) -> 3 | I26: =IF(AND(A26<>"",C26="労働日"),I25+1,0) -> 4 | J26: =IF(AND(A26<>"",ISNUMBER($B$7),ISNUMBER($B$8)),IF(AND(A26>=$B$7,A26<=$B$8),1,0),0) -> 0
A27: =IF(ISNUMBER($B$4),IF(ISNUMBER($B$5),IF($B$4+15<=$B$5,$B$4+15,""),""),"") -> 46311 | B27: =IF(A27="","",CHOOSE(WEEKDAY(A27),"日","月","火","水","木","金","土")) -> 金 | C27: 労働日 | D27: 0.375 | E27: 0.75 | F27: 60 | G27: =IF(OR(A27="",C27<>"労働日"),0,MAX(0,MOD(E27-D27,1)*24-F27/60)) -> 8 | H27: =IF(A27="","",INT((A27-$B$4)/7)+1) -> 3 | I27: =IF(AND(A27<>"",C27="労働日"),I26+1,0) -> 5 | J27: =IF(AND(A27<>"",ISNUMBER($B$7),ISNUMBER($B$8)),IF(AND(A27>=$B$7,A27<=$B$8),1,0),0) -> 0
A28: =IF(ISNUMBER($B$4),IF(ISNUMBER($B$5),IF($B$4+16<=$B$5,$B$4+16,""),""),"") -> 46312 | B28: =IF(A28="","",CHOOSE(WEEKDAY(A28),"日","月","火","水","木","金","土")) -> 土 | C28: 休日 | G28: =IF(OR(A28="",C28<>"労働日"),0,MAX(0,MOD(E28-D28,1)*24-F28/60)) -> 0 | H28: =IF(A28="","",INT((A28-$B$4)/7)+1) -> 3 | I28: =IF(AND(A28<>"",C28="労働日"),I27+1,0) -> 0 | J28: =IF(AND(A28<>"",ISNUMBER($B$7),ISNUMBER($B$8)),IF(AND(A28>=$B$7,A28<=$B$8),1,0),0) -> 0
A29: =IF(ISNUMBER($B$4),IF(ISNUMBER($B$5),IF($B$4+17<=$B$5,$B$4+17,""),""),"") -> 46313 | B29: =IF(A29="","",CHOOSE(WEEKDAY(A29),"日","月","火","水","木","金","土")) -> 日 | C29: 休日 | G29: =IF(OR(A29="",C29<>"労働日"),0,MAX(0,MOD(E29-D29,1)*24-F29/60)) -> 0 | H29: =IF(A29="","",INT((A29-$B$4)/7)+1) -> 3 | I29: =IF(AND(A29<>"",C29="労働日"),I28+1,0) -> 0 | J29: =IF(AND(A29<>"",ISNUMBER($B$7),ISNUMBER($B$8)),IF(AND(A29>=$B$7,A29<=$B$8),1,0),0) -> 0
A30: =IF(ISNUMBER($B$4),IF(ISNUMBER($B$5),IF($B$4+18<=$B$5,$B$4+18,""),""),"") -> 46314 | B30: =IF(A30="","",CHOOSE(WEEKDAY(A30),"日","月","火","水","木","金","土")) -> 月 | C30: 労働日 | D30: 0.375 | E30: 0.75 | F30: 60 | G30: =IF(OR(A30="",C30<>"労働日"),0,MAX(0,MOD(E30-D30,1)*24-F30/60)) -> 8 | H30: =IF(A30="","",INT((A30-$B$4)/7)+1) -> 3 | I30: =IF(AND(A30<>"",C30="労働日"),I29+1,0) -> 1 | J30: =IF(AND(A30<>"",ISNUMBER($B$7),ISNUMBER($B$8)),IF(AND(A30>=$B$7,A30<=$B$8),1,0),0) -> 0
A31: =IF(ISNUMBER($B$4),IF(ISNUMBER($B$5),IF($B$4+19<=$B$5,$B$4+19,""),""),"") -> 46315 | B31: =IF(A31="","",CHOOSE(WEEKDAY(A31),"日","月","火","水","木","金","土")) -> 火 | C31: 労働日 | D31: 0.375 | E31: 0.75 | F31: 60 | G31: =IF(OR(A31="",C31<>"労働日"),0,MAX(0,MOD(E31-D31,1)*24-F31/60)) -> 8 | H31: =IF(A31="","",INT((A31-$B$4)/7)+1) -> 3 | I31: =IF(AND(A31<>"",C31="労働日"),I30+1,0) -> 2 | J31: =IF(AND(A31<>"",ISNUMBER($B$7),ISNUMBER($B$8)),IF(AND(A31>=$B$7,A31<=$B$8),1,0),0) -> 0
A32: =IF(ISNUMBER($B$4),IF(ISNUMBER($B$5),IF($B$4+20<=$B$5,$B$4+20,""),""),"") -> 46316 | B32: =IF(A32="","",CHOOSE(WEEKDAY(A32),"日","月","火","水","木","金","土")) -> 水 | C32: 労働日 | D32: 0.375 | E32: 0.75 | F32: 60 | G32: =IF(OR(A32="",C32<>"労働日"),0,MAX(0,MOD(E32-D32,1)*24-F32/60)) -> 8 | H32: =IF(A32="","",INT((A32-$B$4)/7)+1) -> 3 | I32: =IF(AND(A32<>"",C32="労働日"),I31+1,0) -> 3 | J32: =IF(AND(A32<>"",ISNUMBER($B$7),ISNUMBER($B$8)),IF(AND(A32>=$B$7,A32<=$B$8),1,0),0) -> 0
A33: =IF(ISNUMBER($B$4),IF(ISNUMBER($B$5),IF($B$4+21<=$B$5,$B$4+21,""),""),"") -> 46317 | B33: =IF(A33="","",CHOOSE(WEEKDAY(A33),"日","月","火","水","木","金","土")) -> 木 | C33: 労働日 | D33: 0.375 | E33: 0.75 | F33: 60 | G33: =IF(OR(A33="",C33<>"労働日"),0,MAX(0,MOD(E33-D33,1)*24-F33/60)) -> 8 | H33: =IF(A33="","",INT((A33-$B$4)/7)+1) -> 4 | I33: =IF(AND(A33<>"",C33="労働日"),I32+1,0) -> 4 | J33: =IF(AND(A33<>"",ISNUMBER($B$7),ISNUMBER($B$8)),IF(AND(A33>=$B$7,A33<=$B$8),1,0),0) -> 0
A34: =IF(ISNUMBER($B$4),IF(ISNUMBER($B$5),IF($B$4+22<=$B$5,$B$4+22,""),""),"") -> 46318 | B34: =IF(A34="","",CHOOSE(WEEKDAY(A34),"日","月","火","水","木","金","土")) -> 金 | C34: 労働日 | D34: 0.375 | E34: 0.75 | F34: 60 | G34: =IF(OR(A34="",C34<>"労働日"),0,MAX(0,MOD(E34-D34,1)*24-F34/60)) -> 8 | H34: =IF(A34="","",INT((A34-$B$4)/7)+1) -> 4 | I34: =IF(AND(A34<>"",C34="労働日"),I33+1,0) -> 5 | J34: =IF(AND(A34<>"",ISNUMBER($B$7),ISNUMBER($B$8)),IF(AND(A34>=$B$7,A34<=$B$8),1,0),0) -> 0
A35: =IF(ISNUMBER($B$4),IF(ISNUMBER($B$5),IF($B$4+23<=$B$5,$B$4+23,""),""),"") -> 46319 | B35: =IF(A35="","",CHOOSE(WEEKDAY(A35),"日","月","火","水","木","金","土")) -> 土 | C35: 休日 | G35: =IF(OR(A35="",C35<>"労働日"),0,MAX(0,MOD(E35-D35,1)*24-F35/60)) -> 0 | H35: =IF(A35="","",INT((A35-$B$4)/7)+1) -> 4 | I35: =IF(AND(A35<>"",C35="労働日"),I34+1,0) -> 0 | J35: =IF(AND(A35<>"",ISNUMBER($B$7),ISNUMBER($B$8)),IF(AND(A35>=$B$7,A35<=$B$8),1,0),0) -> 0
A36: =IF(ISNUMBER($B$4),IF(ISNUMBER($B$5),IF($B$4+24<=$B$5,$B$4+24,""),""),"") -> 46320 | B36: =IF(A36="","",CHOOSE(WEEKDAY(A36),"日","月","火","水","木","金","土")) -> 日 | C36: 休日 | G36: =IF(OR(A36="",C36<>"労働日"),0,MAX(0,MOD(E36-D36,1)*24-F36/60)) -> 0 | H36: =IF(A36="","",INT((A36-$B$4)/7)+1) -> 4 | I36: =IF(AND(A36<>"",C36="労働日"),I35+1,0) -> 0 | J36: =IF(AND(A36<>"",ISNUMBER($B$7),ISNUMBER($B$8)),IF(AND(A36>=$B$7,A36<=$B$8),1,0),0) -> 0
A37: =IF(ISNUMBER($B$4),IF(ISNUMBER($B$5),IF($B$4+25<=$B$5,$B$4+25,""),""),"") -> 46321 | B37: =IF(A37="","",CHOOSE(WEEKDAY(A37),"日","月","火","水","木","金","土")) -> 月 | C37: 労働日 | D37: 0.375 | E37: 0.75 | F37: 60 | G37: =IF(OR(A37="",C37<>"労働日"),0,MAX(0,MOD(E37-D37,1)*24-F37/60)) -> 8 | H37: =IF(A37="","",INT((A37-$B$4)/7)+1) -> 4 | I37: =IF(AND(A37<>"",C37="労働日"),I36+1,0) -> 1 | J37: =IF(AND(A37<>"",ISNUMBER($B$7),ISNUMBER($B$8)),IF(AND(A37>=$B$7,A37<=$B$8),1,0),0) -> 0
A38: =IF(ISNUMBER($B$4),IF(ISNUMBER($B$5),IF($B$4+26<=$B$5,$B$4+26,""),""),"") -> 46322 | B38: =IF(A38="","",CHOOSE(WEEKDAY(A38),"日","月","火","水","木","金","土")) -> 火 | C38: 労働日 | D38: 0.375 | E38: 0.75 | F38: 60 | G38: =IF(OR(A38="",C38<>"労働日"),0,MAX(0,MOD(E38-D38,1)*24-F38/60)) -> 8 | H38: =IF(A38="","",INT((A38-$B$4)/7)+1) -> 4 | I38: =IF(AND(A38<>"",C38="労働日"),I37+1,0) -> 2 | J38: =IF(AND(A38<>"",ISNUMBER($B$7),ISNUMBER($B$8)),IF(AND(A38>=$B$7,A38<=$B$8),1,0),0) -> 0
A39: =IF(ISNUMBER($B$4),IF(ISNUMBER($B$5),IF($B$4+27<=$B$5,$B$4+27,""),""),"") -> 46323 | B39: =IF(A39="","",CHOOSE(WEEKDAY(A39),"日","月","火","水","木","金","土")) -> 水 | C39: 労働日 | D39: 0.375 | E39: 0.75 | F39: 60 | G39: =IF(OR(A39="",C39<>"労働日"),0,MAX(0,MOD(E39-D39,1)*24-F39/60)) -> 8 | H39: =IF(A39="","",INT((A39-$B$4)/7)+1) -> 4 | I39: =IF(AND(A39<>"",C39="労働日"),I38+1,0) -> 3 | J39: =IF(AND(A39<>"",ISNUMBER($B$7),ISNUMBER($B$8)),IF(AND(A39>=$B$7,A39<=$B$8),1,0),0) -> 0
A40: =IF(ISNUMBER($B$4),IF(ISNUMBER($B$5),IF($B$4+28<=$B$5,$B$4+28,""),""),"") -> 46324 | B40: =IF(A40="","",CHOOSE(WEEKDAY(A40),"日","月","火","水","木","金","土")) -> 木 | C40: 労働日 | D40: 0.375 | E40: 0.75 | F40: 60 | G40: =IF(OR(A40="",C40<>"労働日"),0,MAX(0,MOD(E40-D40,1)*24-F40/60)) -> 8 | H40: =IF(A40="","",INT((A40-$B$4)/7)+1) -> 5 | I40: =IF(AND(A40<>"",C40="労働日"),I39+1,0) -> 4 | J40: =IF(AND(A40<>"",ISNUMBER($B$7),ISNUMBER($B$8)),IF(AND(A40>=$B$7,A40<=$B$8),1,0),0) -> 0
A41: =IF(ISNUMBER($B$4),IF(ISNUMBER($B$5),IF($B$4+29<=$B$5,$B$4+29,""),""),"") -> 46325 | B41: =IF(A41="","",CHOOSE(WEEKDAY(A41),"日","月","火","水","木","金","土")) -> 金 | C41: 労働日 | D41: 0.375 | E41: 0.75 | F41: 60 | G41: =IF(OR(A41="",C41<>"労働日"),0,MAX(0,MOD(E41-D41,1)*24-F41/60)) -> 8 | H41: =IF(A41="","",INT((A41-$B$4)/7)+1) -> 5 | I41: =IF(AND(A41<>"",C41="労働日"),I40+1,0) -> 5 | J41: =IF(AND(A41<>"",ISNUMBER($B$7),ISNUMBER($B$8)),IF(AND(A41>=$B$7,A41<=$B$8),1,0),0) -> 0
A42: =IF(ISNUMBER($B$4),IF(ISNUMBER($B$5),IF($B$4+30<=$B$5,$B$4+30,""),""),"") -> 46326 | B42: =IF(A42="","",CHOOSE(WEEKDAY(A42),"日","月","火","水","木","金","土")) -> 土 | C42: 休日 | G42: =IF(OR(A42="",C42<>"労働日"),0,MAX(0,MOD(E42-D42,1)*24-F42/60)) -> 0 | H42: =IF(A42="","",INT((A42-$B$4)/7)+1) -> 5 | I42: =IF(AND(A42<>"",C42="労働日"),I41+1,0) -> 0 | J42: =IF(AND(A42<>"",ISNUMBER($B$7),ISNUMBER($B$8)),IF(AND(A42>=$B$7,A42<=$B$8),1,0),0) -> 0
A43: =IF(ISNUMBER($B$4),IF(ISNUMBER($B$5),IF($B$4+31<=$B$5,$B$4+31,""),""),"") -> 46327 | B43: =IF(A43="","",CHOOSE(WEEKDAY(A43),"日","月","火","水","木","金","土")) -> 日 | C43: 休日 | G43: =IF(OR(A43="",C43<>"労働日"),0,MAX(0,MOD(E43-D43,1)*24-F43/60)) -> 0 | H43: =IF(A43="","",INT((A43-$B$4)/7)+1) -> 5 | I43: =IF(AND(A43<>"",C43="労働日"),I42+1,0) -> 0 | J43: =IF(AND(A43<>"",ISNUMBER($B$7),ISNUMBER($B$8)),IF(AND(A43>=$B$7,A43<=$B$8),1,0),0) -> 0
A44: =IF(ISNUMBER($B$4),IF(ISNUMBER($B$5),IF($B$4+32<=$B$5,$B$4+32,""),""),"") -> 46328 | B44: =IF(A44="","",CHOOSE(WEEKDAY(A44),"日","月","火","水","木","金","土")) -> 月 | C44: 労働日 | D44: 0.375 | E44: 0.75 | F44: 60 | G44: =IF(OR(A44="",C44<>"労働日"),0,MAX(0,MOD(E44-D44,1)*24-F44/60)) -> 8 | H44: =IF(A44="","",INT((A44-$B$4)/7)+1) -> 5 | I44: =IF(AND(A44<>"",C44="労働日"),I43+1,0) -> 1 | J44: =IF(AND(A44<>"",ISNUMBER($B$7),ISNUMBER($B$8)),IF(AND(A44>=$B$7,A44<=$B$8),1,0),0) -> 0
A45: =IF(ISNUMBER($B$4),IF(ISNUMBER($B$5),IF($B$4+33<=$B$5,$B$4+33,""),""),"") -> 46329 | B45: =IF(A45="","",CHOOSE(WEEKDAY(A45),"日","月","火","水","木","金","土")) -> 火 | C45: 休日 | G45: =IF(OR(A45="",C45<>"労働日"),0,MAX(0,MOD(E45-D45,1)*24-F45/60)) -> 0 | H45: =IF(A45="","",INT((A45-$B$4)/7)+1) -> 5 | I45: =IF(AND(A45<>"",C45="労働日"),I44+1,0) -> 0 | J45: =IF(AND(A45<>"",ISNUMBER($B$7),ISNUMBER($B$8)),IF(AND(A45>=$B$7,A45<=$B$8),1,0),0) -> 0
A46: =IF(ISNUMBER($B$4),IF(ISNUMBER($B$5),IF($B$4+34<=$B$5,$B$4+34,""),""),"") -> 46330 | B46: =IF(A46="","",CHOOSE(WEEKDAY(A46),"日","月","火","水","木","金","土")) -> 水 | C46: 労働日 | D46: 0.375 | E46: 0.75 | F46: 60 | G46: =IF(OR(A46="",C46<>"労働日"),0,MAX(0,MOD(E46-D46,1)*24-F46/60)) -> 8 | H46: =IF(A46="","",INT((A46-$B$4)/7)+1) -> 5 | I46: =IF(AND(A46<>"",C46="労働日"),I45+1,0) -> 1 | J46: =IF(AND(A46<>"",ISNUMBER($B$7),ISNUMBER($B$8)),IF(AND(A46>=$B$7,A46<=$B$8),1,0),0) -> 0
A47: =IF(ISNUMBER($B$4),IF(ISNUMBER($B$5),IF($B$4+35<=$B$5,$B$4+35,""),""),"") -> 46331 | B47: =IF(A47="","",CHOOSE(WEEKDAY(A47),"日","月","火","水","木","金","土")) -> 木 | C47: 労働日 | D47: 0.375 | E47: 0.75 | F47: 60 | G47: =IF(OR(A47="",C47<>"労働日"),0,MAX(0,MOD(E47-D47,1)*24-F47/60)) -> 8 | H47: =IF(A47="","",INT((A47-$B$4)/7)+1) -> 6 | I47: =IF(AND(A47<>"",C47="労働日"),I46+1,0) -> 2 | J47: =IF(AND(A47<>"",ISNUMBER($B$7),ISNUMBER($B$8)),IF(AND(A47>=$B$7,A47<=$B$8),1,0),0) -> 0
A48: =IF(ISNUMBER($B$4),IF(ISNUMBER($B$5),IF($B$4+36<=$B$5,$B$4+36,""),""),"") -> 46332 | B48: =IF(A48="","",CHOOSE(WEEKDAY(A48),"日","月","火","水","木","金","土")) -> 金 | C48: 労働日 | D48: 0.375 | E48: 0.75 | F48: 60 | G48: =IF(OR(A48="",C48<>"労働日"),0,MAX(0,MOD(E48-D48,1)*24-F48/60)) -> 8 | H48: =IF(A48="","",INT((A48-$B$4)/7)+1) -> 6 | I48: =IF(AND(A48<>"",C48="労働日"),I47+1,0) -> 3 | J48: =IF(AND(A48<>"",ISNUMBER($B$7),ISNUMBER($B$8)),IF(AND(A48>=$B$7,A48<=$B$8),1,0),0) -> 0
A49: =IF(ISNUMBER($B$4),IF(ISNUMBER($B$5),IF($B$4+37<=$B$5,$B$4+37,""),""),"") -> 46333 | B49: =IF(A49="","",CHOOSE(WEEKDAY(A49),"日","月","火","水","木","金","土")) -> 土 | C49: 休日 | G49: =IF(OR(A49="",C49<>"労働日"),0,MAX(0,MOD(E49-D49,1)*24-F49/60)) -> 0 | H49: =IF(A49="","",INT((A49-$B$4)/7)+1) -> 6 | I49: =IF(AND(A49<>"",C49="労働日"),I48+1,0) -> 0 | J49: =IF(AND(A49<>"",ISNUMBER($B$7),ISNUMBER($B$8)),IF(AND(A49>=$B$7,A49<=$B$8),1,0),0) -> 0
A50: =IF(ISNUMBER($B$4),IF(ISNUMBER($B$5),IF($B$4+38<=$B$5,$B$4+38,""),""),"") -> 46334 | B50: =IF(A50="","",CHOOSE(WEEKDAY(A50),"日","月","火","水","木","金","土")) -> 日 | C50: 休日 | G50: =IF(OR(A50="",C50<>"労働日"),0,MAX(0,MOD(E50-D50,1)*24-F50/60)) -> 0 | H50: =IF(A50="","",INT((A50-$B$4)/7)+1) -> 6 | I50: =IF(AND(A50<>"",C50="労働日"),I49+1,0) -> 0 | J50: =IF(AND(A50<>"",ISNUMBER($B$7),ISNUMBER($B$8)),IF(AND(A50>=$B$7,A50<=$B$8),1,0),0) -> 0
A51: =IF(ISNUMBER($B$4),IF(ISNUMBER($B$5),IF($B$4+39<=$B$5,$B$4+39,""),""),"") -> 46335 | B51: =IF(A51="","",CHOOSE(WEEKDAY(A51),"日","月","火","水","木","金","土")) -> 月 | C51: 労働日 | D51: 0.375 | E51: 0.75 | F51: 60 | G51: =IF(OR(A51="",C51<>"労働日"),0,MAX(0,MOD(E51-D51,1)*24-F51/60)) -> 8 | H51: =IF(A51="","",INT((A51-$B$4)/7)+1) -> 6 | I51: =IF(AND(A51<>"",C51="労働日"),I50+1,0) -> 1 | J51: =IF(AND(A51<>"",ISNUMBER($B$7),ISNUMBER($B$8)),IF(AND(A51>=$B$7,A51<=$B$8),1,0),0) -> 0
A52: =IF(ISNUMBER($B$4),IF(ISNUMBER($B$5),IF($B$4+40<=$B$5,$B$4+40,""),""),"") -> 46336 | B52: =IF(A52="","",CHOOSE(WEEKDAY(A52),"日","月","火","水","木","金","土")) -> 火 | C52: 労働日 | D52: 0.375 | E52: 0.75 | F52: 60 | G52: =IF(OR(A52="",C52<>"労働日"),0,MAX(0,MOD(E52-D52,1)*24-F52/60)) -> 8 | H52: =IF(A52="","",INT((A52-$B$4)/7)+1) -> 6 | I52: =IF(AND(A52<>"",C52="労働日"),I51+1,0) -> 2 | J52: =IF(AND(A52<>"",ISNUMBER($B$7),ISNUMBER($B$8)),IF(AND(A52>=$B$7,A52<=$B$8),1,0),0) -> 0
A53: =IF(ISNUMBER($B$4),IF(ISNUMBER($B$5),IF($B$4+41<=$B$5,$B$4+41,""),""),"") -> 46337 | B53: =IF(A53="","",CHOOSE(WEEKDAY(A53),"日","月","火","水","木","金","土")) -> 水 | C53: 労働日 | D53: 0.375 | E53: 0.75 | F53: 60 | G53: =IF(OR(A53="",C53<>"労働日"),0,MAX(0,MOD(E53-D53,1)*24-F53/60)) -> 8 | H53: =IF(A53="","",INT((A53-$B$4)/7)+1) -> 6 | I53: =IF(AND(A53<>"",C53="労働日"),I52+1,0) -> 3 | J53: =IF(AND(A53<>"",ISNUMBER($B$7),ISNUMBER($B$8)),IF(AND(A53>=$B$7,A53<=$B$8),1,0),0) -> 0
A54: =IF(ISNUMBER($B$4),IF(ISNUMBER($B$5),IF($B$4+42<=$B$5,$B$4+42,""),""),"") -> 46338 | B54: =IF(A54="","",CHOOSE(WEEKDAY(A54),"日","月","火","水","木","金","土")) -> 木 | C54: 労働日 | D54: 0.375 | E54: 0.75 | F54: 60 | G54: =IF(OR(A54="",C54<>"労働日"),0,MAX(0,MOD(E54-D54,1)*24-F54/60)) -> 8 | H54: =IF(A54="","",INT((A54-$B$4)/7)+1) -> 7 | I54: =IF(AND(A54<>"",C54="労働日"),I53+1,0) -> 4 | J54: =IF(AND(A54<>"",ISNUMBER($B$7),ISNUMBER($B$8)),IF(AND(A54>=$B$7,A54<=$B$8),1,0),0) -> 0
A55: =IF(ISNUMBER($B$4),IF(ISNUMBER($B$5),IF($B$4+43<=$B$5,$B$4+43,""),""),"") -> 46339 | B55: =IF(A55="","",CHOOSE(WEEKDAY(A55),"日","月","火","水","木","金","土")) -> 金 | C55: 労働日 | D55: 0.375 | E55: 0.75 | F55: 60 | G55: =IF(OR(A55="",C55<>"労働日"),0,MAX(0,MOD(E55-D55,1)*24-F55/60)) -> 8 | H55: =IF(A55="","",INT((A55-$B$4)/7)+1) -> 7 | I55: =IF(AND(A55<>"",C55="労働日"),I54+1,0) -> 5 | J55: =IF(AND(A55<>"",ISNUMBER($B$7),ISNUMBER($B$8)),IF(AND(A55>=$B$7,A55<=$B$8),1,0),0) -> 0
A56: =IF(ISNUMBER($B$4),IF(ISNUMBER($B$5),IF($B$4+44<=$B$5,$B$4+44,""),""),"") -> 46340 | B56: =IF(A56="","",CHOOSE(WEEKDAY(A56),"日","月","火","水","木","金","土")) -> 土 | C56: 休日 | G56: =IF(OR(A56="",C56<>"労働日"),0,MAX(0,MOD(E56-D56,1)*24-F56/60)) -> 0 | H56: =IF(A56="","",INT((A56-$B$4)/7)+1) -> 7 | I56: =IF(AND(A56<>"",C56="労働日"),I55+1,0) -> 0 | J56: =IF(AND(A56<>"",ISNUMBER($B$7),ISNUMBER($B$8)),IF(AND(A56>=$B$7,A56<=$B$8),1,0),0) -> 0
A57: =IF(ISNUMBER($B$4),IF(ISNUMBER($B$5),IF($B$4+45<=$B$5,$B$4+45,""),""),"") -> 46341 | B57: =IF(A57="","",CHOOSE(WEEKDAY(A57),"日","月","火","水","木","金","土")) -> 日 | C57: 休日 | G57: =IF(OR(A57="",C57<>"労働日"),0,MAX(0,MOD(E57-D57,1)*24-F57/60)) -> 0 | H57: =IF(A57="","",INT((A57-$B$4)/7)+1) -> 7 | I57: =IF(AND(A57<>"",C57="労働日"),I56+1,0) -> 0 | J57: =IF(AND(A57<>"",ISNUMBER($B$7),ISNUMBER($B$8)),IF(AND(A57>=$B$7,A57<=$B$8),1,0),0) -> 0
A58: =IF(ISNUMBER($B$4),IF(ISNUMBER($B$5),IF($B$4+46<=$B$5,$B$4+46,""),""),"") -> 46342 | B58: =IF(A58="","",CHOOSE(WEEKDAY(A58),"日","月","火","水","木","金","土")) -> 月 | C58: 労働日 | D58: 0.375 | E58: 0.75 | F58: 60 | G58: =IF(OR(A58="",C58<>"労働日"),0,MAX(0,MOD(E58-D58,1)*24-F58/60)) -> 8 | H58: =IF(A58="","",INT((A58-$B$4)/7)+1) -> 7 | I58: =IF(AND(A58<>"",C58="労働日"),I57+1,0) -> 1 | J58: =IF(AND(A58<>"",ISNUMBER($B$7),ISNUMBER($B$8)),IF(AND(A58>=$B$7,A58<=$B$8),1,0),0) -> 0
A59: =IF(ISNUMBER($B$4),IF(ISNUMBER($B$5),IF($B$4+47<=$B$5,$B$4+47,""),""),"") -> 46343 | B59: =IF(A59="","",CHOOSE(WEEKDAY(A59),"日","月","火","水","木","金","土")) -> 火 | C59: 労働日 | D59: 0.375 | E59: 0.75 | F59: 60 | G59: =IF(OR(A59="",C59<>"労働日"),0,MAX(0,MOD(E59-D59,1)*24-F59/60)) -> 8 | H59: =IF(A59="","",INT((A59-$B$4)/7)+1) -> 7 | I59: =IF(AND(A59<>"",C59="労働日"),I58+1,0) -> 2 | J59: =IF(AND(A59<>"",ISNUMBER($B$7),ISNUMBER($B$8)),IF(AND(A59>=$B$7,A59<=$B$8),1,0),0) -> 0
A60: =IF(ISNUMBER($B$4),IF(ISNUMBER($B$5),IF($B$4+48<=$B$5,$B$4+48,""),""),"") -> 46344 | B60: =IF(A60="","",CHOOSE(WEEKDAY(A60),"日","月","火","水","木","金","土")) -> 水 | C60: 労働日 | D60: 0.375 | E60: 0.75 | F60: 60 | G60: =IF(OR(A60="",C60<>"労働日"),0,MAX(0,MOD(E60-D60,1)*24-F60/60)) -> 8 | H60: =IF(A60="","",INT((A60-$B$4)/7)+1) -> 7 | I60: =IF(AND(A60<>"",C60="労働日"),I59+1,0) -> 3 | J60: =IF(AND(A60<>"",ISNUMBER($B$7),ISNUMBER($B$8)),IF(AND(A60>=$B$7,A60<=$B$8),1,0),0) -> 0
A61: =IF(ISNUMBER($B$4),IF(ISNUMBER($B$5),IF($B$4+49<=$B$5,$B$4+49,""),""),"") -> 46345 | B61: =IF(A61="","",CHOOSE(WEEKDAY(A61),"日","月","火","水","木","金","土")) -> 木 | C61: 労働日 | D61: 0.375 | E61: 0.75 | F61: 60 | G61: =IF(OR(A61="",C61<>"労働日"),0,MAX(0,MOD(E61-D61,1)*24-F61/60)) -> 8 | H61: =IF(A61="","",INT((A61-$B$4)/7)+1) -> 8 | I61: =IF(AND(A61<>"",C61="労働日"),I60+1,0) -> 4 | J61: =IF(AND(A61<>"",ISNUMBER($B$7),ISNUMBER($B$8)),IF(AND(A61>=$B$7,A61<=$B$8),1,0),0) -> 0
A62: =IF(ISNUMBER($B$4),IF(ISNUMBER($B$5),IF($B$4+50<=$B$5,$B$4+50,""),""),"") -> 46346 | B62: =IF(A62="","",CHOOSE(WEEKDAY(A62),"日","月","火","水","木","金","土")) -> 金 | C62: 労働日 | D62: 0.375 | E62: 0.75 | F62: 60 | G62: =IF(OR(A62="",C62<>"労働日"),0,MAX(0,MOD(E62-D62,1)*24-F62/60)) -> 8 | H62: =IF(A62="","",INT((A62-$B$4)/7)+1) -> 8 | I62: =IF(AND(A62<>"",C62="労働日"),I61+1,0) -> 5 | J62: =IF(AND(A62<>"",ISNUMBER($B$7),ISNUMBER($B$8)),IF(AND(A62>=$B$7,A62<=$B$8),1,0),0) -> 0
A63: =IF(ISNUMBER($B$4),IF(ISNUMBER($B$5),IF($B$4+51<=$B$5,$B$4+51,""),""),"") -> 46347 | B63: =IF(A63="","",CHOOSE(WEEKDAY(A63),"日","月","火","水","木","金","土")) -> 土 | C63: 休日 | G63: =IF(OR(A63="",C63<>"労働日"),0,MAX(0,MOD(E63-D63,1)*24-F63/60)) -> 0 | H63: =IF(A63="","",INT((A63-$B$4)/7)+1) -> 8 | I63: =IF(AND(A63<>"",C63="労働日"),I62+1,0) -> 0 | J63: =IF(AND(A63<>"",ISNUMBER($B$7),ISNUMBER($B$8)),IF(AND(A63>=$B$7,A63<=$B$8),1,0),0) -> 0
A64: =IF(ISNUMBER($B$4),IF(ISNUMBER($B$5),IF($B$4+52<=$B$5,$B$4+52,""),""),"") -> 46348 | B64: =IF(A64="","",CHOOSE(WEEKDAY(A64),"日","月","火","水","木","金","土")) -> 日 | C64: 休日 | G64: =IF(OR(A64="",C64<>"労働日"),0,MAX(0,MOD(E64-D64,1)*24-F64/60)) -> 0 | H64: =IF(A64="","",INT((A64-$B$4)/7)+1) -> 8 | I64: =IF(AND(A64<>"",C64="労働日"),I63+1,0) -> 0 | J64: =IF(AND(A64<>"",ISNUMBER($B$7),ISNUMBER($B$8)),IF(AND(A64>=$B$7,A64<=$B$8),1,0),0) -> 0
A65: =IF(ISNUMBER($B$4),IF(ISNUMBER($B$5),IF($B$4+53<=$B$5,$B$4+53,""),""),"") -> 46349 | B65: =IF(A65="","",CHOOSE(WEEKDAY(A65),"日","月","火","水","木","金","土")) -> 月 | C65: 休日 | G65: =IF(OR(A65="",C65<>"労働日"),0,MAX(0,MOD(E65-D65,1)*24-F65/60)) -> 0 | H65: =IF(A65="","",INT((A65-$B$4)/7)+1) -> 8 | I65: =IF(AND(A65<>"",C65="労働日"),I64+1,0) -> 0 | J65: =IF(AND(A65<>"",ISNUMBER($B$7),ISNUMBER($B$8)),IF(AND(A65>=$B$7,A65<=$B$8),1,0),0) -> 0
A66: =IF(ISNUMBER($B$4),IF(ISNUMBER($B$5),IF($B$4+54<=$B$5,$B$4+54,""),""),"") -> 46350 | B66: =IF(A66="","",CHOOSE(WEEKDAY(A66),"日","月","火","水","木","金","土")) -> 火 | C66: 労働日 | D66: 0.375 | E66: 0.75 | F66: 60 | G66: =IF(OR(A66="",C66<>"労働日"),0,MAX(0,MOD(E66-D66,1)*24-F66/60)) -> 8 | H66: =IF(A66="","",INT((A66-$B$4)/7)+1) -> 8 | I66: =IF(AND(A66<>"",C66="労働日"),I65+1,0) -> 1 | J66: =IF(AND(A66<>"",ISNUMBER($B$7),ISNUMBER($B$8)),IF(AND(A66>=$B$7,A66<=$B$8),1,0),0) -> 0
A67: =IF(ISNUMBER($B$4),IF(ISNUMBER($B$5),IF($B$4+55<=$B$5,$B$4+55,""),""),"") -> 46351 | B67: =IF(A67="","",CHOOSE(WEEKDAY(A67),"日","月","火","水","木","金","土")) -> 水 | C67: 労働日 | D67: 0.375 | E67: 0.75 | F67: 60 | G67: =IF(OR(A67="",C67<>"労働日"),0,MAX(0,MOD(E67-D67,1)*24-F67/60)) -> 8 | H67: =IF(A67="","",INT((A67-$B$4)/7)+1) -> 8 | I67: =IF(AND(A67<>"",C67="労働日"),I66+1,0) -> 2 | J67: =IF(AND(A67<>"",ISNUMBER($B$7),ISNUMBER($B$8)),IF(AND(A67>=$B$7,A67<=$B$8),1,0),0) -> 0
A68: =IF(ISNUMBER($B$4),IF(ISNUMBER($B$5),IF($B$4+56<=$B$5,$B$4+56,""),""),"") -> 46352 | B68: =IF(A68="","",CHOOSE(WEEKDAY(A68),"日","月","火","水","木","金","土")) -> 木 | C68: 労働日 | D68: 0.375 | E68: 0.75 | F68: 60 | G68: =IF(OR(A68="",C68<>"労働日"),0,MAX(0,MOD(E68-D68,1)*24-F68/60)) -> 8 | H68: =IF(A68="","",INT((A68-$B$4)/7)+1) -> 9 | I68: =IF(AND(A68<>"",C68="労働日"),I67+1,0) -> 3 | J68: =IF(AND(A68<>"",ISNUMBER($B$7),ISNUMBER($B$8)),IF(AND(A68>=$B$7,A68<=$B$8),1,0),0) -> 0
A69: =IF(ISNUMBER($B$4),IF(ISNUMBER($B$5),IF($B$4+57<=$B$5,$B$4+57,""),""),"") -> 46353 | B69: =IF(A69="","",CHOOSE(WEEKDAY(A69),"日","月","火","水","木","金","土")) -> 金 | C69: 労働日 | D69: 0.375 | E69: 0.75 | F69: 60 | G69: =IF(OR(A69="",C69<>"労働日"),0,MAX(0,MOD(E69-D69,1)*24-F69/60)) -> 8 | H69: =IF(A69="","",INT((A69-$B$4)/7)+1) -> 9 | I69: =IF(AND(A69<>"",C69="労働日"),I68+1,0) -> 4 | J69: =IF(AND(A69<>"",ISNUMBER($B$7),ISNUMBER($B$8)),IF(AND(A69>=$B$7,A69<=$B$8),1,0),0) -> 0
A70: =IF(ISNUMBER($B$4),IF(ISNUMBER($B$5),IF($B$4+58<=$B$5,$B$4+58,""),""),"") -> 46354 | B70: =IF(A70="","",CHOOSE(WEEKDAY(A70),"日","月","火","水","木","金","土")) -> 土 | C70: 休日 | G70: =IF(OR(A70="",C70<>"労働日"),0,MAX(0,MOD(E70-D70,1)*24-F70/60)) -> 0 | H70: =IF(A70="","",INT((A70-$B$4)/7)+1) -> 9 | I70: =IF(AND(A70<>"",C70="労働日"),I69+1,0) -> 0 | J70: =IF(AND(A70<>"",ISNUMBER($B$7),ISNUMBER($B$8)),IF(AND(A70>=$B$7,A70<=$B$8),1,0),0) -> 0
A71: =IF(ISNUMBER($B$4),IF(ISNUMBER($B$5),IF($B$4+59<=$B$5,$B$4+59,""),""),"") -> 46355 | B71: =IF(A71="","",CHOOSE(WEEKDAY(A71),"日","月","火","水","木","金","土")) -> 日 | C71: 休日 | G71: =IF(OR(A71="",C71<>"労働日"),0,MAX(0,MOD(E71-D71,1)*24-F71/60)) -> 0 | H71: =IF(A71="","",INT((A71-$B$4)/7)+1) -> 9 | I71: =IF(AND(A71<>"",C71="労働日"),I70+1,0) -> 0 | J71: =IF(AND(A71<>"",ISNUMBER($B$7),ISNUMBER($B$8)),IF(AND(A71>=$B$7,A71<=$B$8),1,0),0) -> 0
A72: =IF(ISNUMBER($B$4),IF(ISNUMBER($B$5),IF($B$4+60<=$B$5,$B$4+60,""),""),"") -> 46356 | B72: =IF(A72="","",CHOOSE(WEEKDAY(A72),"日","月","火","水","木","金","土")) -> 月 | C72: 労働日 | D72: 0.375 | E72: 0.75 | F72: 60 | G72: =IF(OR(A72="",C72<>"労働日"),0,MAX(0,MOD(E72-D72,1)*24-F72/60)) -> 8 | H72: =IF(A72="","",INT((A72-$B$4)/7)+1) -> 9 | I72: =IF(AND(A72<>"",C72="労働日"),I71+1,0) -> 1 | J72: =IF(AND(A72<>"",ISNUMBER($B$7),ISNUMBER($B$8)),IF(AND(A72>=$B$7,A72<=$B$8),1,0),0) -> 0
A73: =IF(ISNUMBER($B$4),IF(ISNUMBER($B$5),IF($B$4+61<=$B$5,$B$4+61,""),""),"") -> 46357 | B73: =IF(A73="","",CHOOSE(WEEKDAY(A73),"日","月","火","水","木","金","土")) -> 火 | C73: 労働日 | D73: 0.375 | E73: 0.8125 | F73: 60 | G73: =IF(OR(A73="",C73<>"労働日"),0,MAX(0,MOD(E73-D73,1)*24-F73/60)) -> 9.5 | H73: =IF(A73="","",INT((A73-$B$4)/7)+1) -> 9 | I73: =IF(AND(A73<>"",C73="労働日"),I72+1,0) -> 2 | J73: =IF(AND(A73<>"",ISNUMBER($B$7),ISNUMBER($B$8)),IF(AND(A73>=$B$7,A73<=$B$8),1,0),0) -> 1
A74: =IF(ISNUMBER($B$4),IF(ISNUMBER($B$5),IF($B$4+62<=$B$5,$B$4+62,""),""),"") -> 46358 | B74: =IF(A74="","",CHOOSE(WEEKDAY(A74),"日","月","火","水","木","金","土")) -> 水 | C74: 労働日 | D74: 0.375 | E74: 0.8125 | F74: 60 | G74: =IF(OR(A74="",C74<>"労働日"),0,MAX(0,MOD(E74-D74,1)*24-F74/60)) -> 9.5 | H74: =IF(A74="","",INT((A74-$B$4)/7)+1) -> 9 | I74: =IF(AND(A74<>"",C74="労働日"),I73+1,0) -> 3 | J74: =IF(AND(A74<>"",ISNUMBER($B$7),ISNUMBER($B$8)),IF(AND(A74>=$B$7,A74<=$B$8),1,0),0) -> 1
A75: =IF(ISNUMBER($B$4),IF(ISNUMBER($B$5),IF($B$4+63<=$B$5,$B$4+63,""),""),"") -> 46359 | B75: =IF(A75="","",CHOOSE(WEEKDAY(A75),"日","月","火","水","木","金","土")) -> 木 | C75: 労働日 | D75: 0.375 | E75: 0.8125 | F75: 60 | G75: =IF(OR(A75="",C75<>"労働日"),0,MAX(0,MOD(E75-D75,1)*24-F75/60)) -> 9.5 | H75: =IF(A75="","",INT((A75-$B$4)/7)+1) -> 10 | I75: =IF(AND(A75<>"",C75="労働日"),I74+1,0) -> 4 | J75: =IF(AND(A75<>"",ISNUMBER($B$7),ISNUMBER($B$8)),IF(AND(A75>=$B$7,A75<=$B$8),1,0),0) -> 1
A76: =IF(ISNUMBER($B$4),IF(ISNUMBER($B$5),IF($B$4+64<=$B$5,$B$4+64,""),""),"") -> 46360 | B76: =IF(A76="","",CHOOSE(WEEKDAY(A76),"日","月","火","水","木","金","土")) -> 金 | C76: 労働日 | D76: 0.375 | E76: 0.8125 | F76: 60 | G76: =IF(OR(A76="",C76<>"労働日"),0,MAX(0,MOD(E76-D76,1)*24-F76/60)) -> 9.5 | H76: =IF(A76="","",INT((A76-$B$4)/7)+1) -> 10 | I76: =IF(AND(A76<>"",C76="労働日"),I75+1,0) -> 5 | J76: =IF(AND(A76<>"",ISNUMBER($B$7),ISNUMBER($B$8)),IF(AND(A76>=$B$7,A76<=$B$8),1,0),0) -> 1
A77: =IF(ISNUMBER($B$4),IF(ISNUMBER($B$5),IF($B$4+65<=$B$5,$B$4+65,""),""),"") -> 46361 | B77: =IF(A77="","",CHOOSE(WEEKDAY(A77),"日","月","火","水","木","金","土")) -> 土 | C77: 休日 | G77: =IF(OR(A77="",C77<>"労働日"),0,MAX(0,MOD(E77-D77,1)*24-F77/60)) -> 0 | H77: =IF(A77="","",INT((A77-$B$4)/7)+1) -> 10 | I77: =IF(AND(A77<>"",C77="労働日"),I76+1,0) -> 0 | J77: =IF(AND(A77<>"",ISNUMBER($B$7),ISNUMBER($B$8)),IF(AND(A77>=$B$7,A77<=$B$8),1,0),0) -> 1
A78: =IF(ISNUMBER($B$4),IF(ISNUMBER($B$5),IF($B$4+66<=$B$5,$B$4+66,""),""),"") -> 46362 | B78: =IF(A78="","",CHOOSE(WEEKDAY(A78),"日","月","火","水","木","金","土")) -> 日 | C78: 休日 | G78: =IF(OR(A78="",C78<>"労働日"),0,MAX(0,MOD(E78-D78,1)*24-F78/60)) -> 0 | H78: =IF(A78="","",INT((A78-$B$4)/7)+1) -> 10 | I78: =IF(AND(A78<>"",C78="労働日"),I77+1,0) -> 0 | J78: =IF(AND(A78<>"",ISNUMBER($B$7),ISNUMBER($B$8)),IF(AND(A78>=$B$7,A78<=$B$8),1,0),0) -> 1
A79: =IF(ISNUMBER($B$4),IF(ISNUMBER($B$5),IF($B$4+67<=$B$5,$B$4+67,""),""),"") -> 46363 | B79: =IF(A79="","",CHOOSE(WEEKDAY(A79),"日","月","火","水","木","金","土")) -> 月 | C79: 労働日 | D79: 0.375 | E79: 0.8125 | F79: 60 | G79: =IF(OR(A79="",C79<>"労働日"),0,MAX(0,MOD(E79-D79,1)*24-F79/60)) -> 9.5 | H79: =IF(A79="","",INT((A79-$B$4)/7)+1) -> 10 | I79: =IF(AND(A79<>"",C79="労働日"),I78+1,0) -> 1 | J79: =IF(AND(A79<>"",ISNUMBER($B$7),ISNUMBER($B$8)),IF(AND(A79>=$B$7,A79<=$B$8),1,0),0) -> 1
A80: =IF(ISNUMBER($B$4),IF(ISNUMBER($B$5),IF($B$4+68<=$B$5,$B$4+68,""),""),"") -> 46364 | B80: =IF(A80="","",CHOOSE(WEEKDAY(A80),"日","月","火","水","木","金","土")) -> 火 | C80: 労働日 | D80: 0.375 | E80: 0.8125 | F80: 60 | G80: =IF(OR(A80="",C80<>"労働日"),0,MAX(0,MOD(E80-D80,1)*24-F80/60)) -> 9.5 | H80: =IF(A80="","",INT((A80-$B$4)/7)+1) -> 10 | I80: =IF(AND(A80<>"",C80="労働日"),I79+1,0) -> 2 | J80: =IF(AND(A80<>"",ISNUMBER($B$7),ISNUMBER($B$8)),IF(AND(A80>=$B$7,A80<=$B$8),1,0),0) -> 1
A81: =IF(ISNUMBER($B$4),IF(ISNUMBER($B$5),IF($B$4+69<=$B$5,$B$4+69,""),""),"") -> 46365 | B81: =IF(A81="","",CHOOSE(WEEKDAY(A81),"日","月","火","水","木","金","土")) -> 水 | C81: 労働日 | D81: 0.375 | E81: 0.8125 | F81: 60 | G81: =IF(OR(A81="",C81<>"労働日"),0,MAX(0,MOD(E81-D81,1)*24-F81/60)) -> 9.5 | H81: =IF(A81="","",INT((A81-$B$4)/7)+1) -> 10 | I81: =IF(AND(A81<>"",C81="労働日"),I80+1,0) -> 3 | J81: =IF(AND(A81<>"",ISNUMBER($B$7),ISNUMBER($B$8)),IF(AND(A81>=$B$7,A81<=$B$8),1,0),0) -> 1
A82: =IF(ISNUMBER($B$4),IF(ISNUMBER($B$5),IF($B$4+70<=$B$5,$B$4+70,""),""),"") -> 46366 | B82: =IF(A82="","",CHOOSE(WEEKDAY(A82),"日","月","火","水","木","金","土")) -> 木 | C82: 労働日 | D82: 0.375 | E82: 0.8125 | F82: 60 | G82: =IF(OR(A82="",C82<>"労働日"),0,MAX(0,MOD(E82-D82,1)*24-F82/60)) -> 9.5 | H82: =IF(A82="","",INT((A82-$B$4)/7)+1) -> 11 | I82: =IF(AND(A82<>"",C82="労働日"),I81+1,0) -> 4 | J82: =IF(AND(A82<>"",ISNUMBER($B$7),ISNUMBER($B$8)),IF(AND(A82>=$B$7,A82<=$B$8),1,0),0) -> 1
A83: =IF(ISNUMBER($B$4),IF(ISNUMBER($B$5),IF($B$4+71<=$B$5,$B$4+71,""),""),"") -> 46367 | B83: =IF(A83="","",CHOOSE(WEEKDAY(A83),"日","月","火","水","木","金","土")) -> 金 | C83: 労働日 | D83: 0.375 | E83: 0.8125 | F83: 60 | G83: =IF(OR(A83="",C83<>"労働日"),0,MAX(0,MOD(E83-D83,1)*24-F83/60)) -> 9.5 | H83: =IF(A83="","",INT((A83-$B$4)/7)+1) -> 11 | I83: =IF(AND(A83<>"",C83="労働日"),I82+1,0) -> 5 | J83: =IF(AND(A83<>"",ISNUMBER($B$7),ISNUMBER($B$8)),IF(AND(A83>=$B$7,A83<=$B$8),1,0),0) -> 1
A84: =IF(ISNUMBER($B$4),IF(ISNUMBER($B$5),IF($B$4+72<=$B$5,$B$4+72,""),""),"") -> 46368 | B84: =IF(A84="","",CHOOSE(WEEKDAY(A84),"日","月","火","水","木","金","土")) -> 土 | C84: 休日 | G84: =IF(OR(A84="",C84<>"労働日"),0,MAX(0,MOD(E84-D84,1)*24-F84/60)) -> 0 | H84: =IF(A84="","",INT((A84-$B$4)/7)+1) -> 11 | I84: =IF(AND(A84<>"",C84="労働日"),I83+1,0) -> 0 | J84: =IF(AND(A84<>"",ISNUMBER($B$7),ISNUMBER($B$8)),IF(AND(A84>=$B$7,A84<=$B$8),1,0),0) -> 1
A85: =IF(ISNUMBER($B$4),IF(ISNUMBER($B$5),IF($B$4+73<=$B$5,$B$4+73,""),""),"") -> 46369 | B85: =IF(A85="","",CHOOSE(WEEKDAY(A85),"日","月","火","水","木","金","土")) -> 日 | C85: 休日 | G85: =IF(OR(A85="",C85<>"労働日"),0,MAX(0,MOD(E85-D85,1)*24-F85/60)) -> 0 | H85: =IF(A85="","",INT((A85-$B$4)/7)+1) -> 11 | I85: =IF(AND(A85<>"",C85="労働日"),I84+1,0) -> 0 | J85: =IF(AND(A85<>"",ISNUMBER($B$7),ISNUMBER($B$8)),IF(AND(A85>=$B$7,A85<=$B$8),1,0),0) -> 1
A86: =IF(ISNUMBER($B$4),IF(ISNUMBER($B$5),IF($B$4+74<=$B$5,$B$4+74,""),""),"") -> 46370 | B86: =IF(A86="","",CHOOSE(WEEKDAY(A86),"日","月","火","水","木","金","土")) -> 月 | C86: 労働日 | D86: 0.375 | E86: 0.8125 | F86: 60 | G86: =IF(OR(A86="",C86<>"労働日"),0,MAX(0,MOD(E86-D86,1)*24-F86/60)) -> 9.5 | H86: =IF(A86="","",INT((A86-$B$4)/7)+1) -> 11 | I86: =IF(AND(A86<>"",C86="労働日"),I85+1,0) -> 1 | J86: =IF(AND(A86<>"",ISNUMBER($B$7),ISNUMBER($B$8)),IF(AND(A86>=$B$7,A86<=$B$8),1,0),0) -> 1
A87: =IF(ISNUMBER($B$4),IF(ISNUMBER($B$5),IF($B$4+75<=$B$5,$B$4+75,""),""),"") -> 46371 | B87: =IF(A87="","",CHOOSE(WEEKDAY(A87),"日","月","火","水","木","金","土")) -> 火 | C87: 労働日 | D87: 0.375 | E87: 0.8125 | F87: 60 | G87: =IF(OR(A87="",C87<>"労働日"),0,MAX(0,MOD(E87-D87,1)*24-F87/60)) -> 9.5 | H87: =IF(A87="","",INT((A87-$B$4)/7)+1) -> 11 | I87: =IF(AND(A87<>"",C87="労働日"),I86+1,0) -> 2 | J87: =IF(AND(A87<>"",ISNUMBER($B$7),ISNUMBER($B$8)),IF(AND(A87>=$B$7,A87<=$B$8),1,0),0) -> 1
A88: =IF(ISNUMBER($B$4),IF(ISNUMBER($B$5),IF($B$4+76<=$B$5,$B$4+76,""),""),"") -> 46372 | B88: =IF(A88="","",CHOOSE(WEEKDAY(A88),"日","月","火","水","木","金","土")) -> 水 | C88: 労働日 | D88: 0.375 | E88: 0.8125 | F88: 60 | G88: =IF(OR(A88="",C88<>"労働日"),0,MAX(0,MOD(E88-D88,1)*24-F88/60)) -> 9.5 | H88: =IF(A88="","",INT((A88-$B$4)/7)+1) -> 11 | I88: =IF(AND(A88<>"",C88="労働日"),I87+1,0) -> 3 | J88: =IF(AND(A88<>"",ISNUMBER($B$7),ISNUMBER($B$8)),IF(AND(A88>=$B$7,A88<=$B$8),1,0),0) -> 1
A89: =IF(ISNUMBER($B$4),IF(ISNUMBER($B$5),IF($B$4+77<=$B$5,$B$4+77,""),""),"") -> 46373 | B89: =IF(A89="","",CHOOSE(WEEKDAY(A89),"日","月","火","水","木","金","土")) -> 木 | C89: 労働日 | D89: 0.375 | E89: 0.8125 | F89: 60 | G89: =IF(OR(A89="",C89<>"労働日"),0,MAX(0,MOD(E89-D89,1)*24-F89/60)) -> 9.5 | H89: =IF(A89="","",INT((A89-$B$4)/7)+1) -> 12 | I89: =IF(AND(A89<>"",C89="労働日"),I88+1,0) -> 4 | J89: =IF(AND(A89<>"",ISNUMBER($B$7),ISNUMBER($B$8)),IF(AND(A89>=$B$7,A89<=$B$8),1,0),0) -> 1
A90: =IF(ISNUMBER($B$4),IF(ISNUMBER($B$5),IF($B$4+78<=$B$5,$B$4+78,""),""),"") -> 46374 | B90: =IF(A90="","",CHOOSE(WEEKDAY(A90),"日","月","火","水","木","金","土")) -> 金 | C90: 労働日 | D90: 0.375 | E90: 0.8125 | F90: 60 | G90: =IF(OR(A90="",C90<>"労働日"),0,MAX(0,MOD(E90-D90,1)*24-F90/60)) -> 9.5 | H90: =IF(A90="","",INT((A90-$B$4)/7)+1) -> 12 | I90: =IF(AND(A90<>"",C90="労働日"),I89+1,0) -> 5 | J90: =IF(AND(A90<>"",ISNUMBER($B$7),ISNUMBER($B$8)),IF(AND(A90>=$B$7,A90<=$B$8),1,0),0) -> 1
A91: =IF(ISNUMBER($B$4),IF(ISNUMBER($B$5),IF($B$4+79<=$B$5,$B$4+79,""),""),"") -> 46375 | B91: =IF(A91="","",CHOOSE(WEEKDAY(A91),"日","月","火","水","木","金","土")) -> 土 | C91: 休日 | G91: =IF(OR(A91="",C91<>"労働日"),0,MAX(0,MOD(E91-D91,1)*24-F91/60)) -> 0 | H91: =IF(A91="","",INT((A91-$B$4)/7)+1) -> 12 | I91: =IF(AND(A91<>"",C91="労働日"),I90+1,0) -> 0 | J91: =IF(AND(A91<>"",ISNUMBER($B$7),ISNUMBER($B$8)),IF(AND(A91>=$B$7,A91<=$B$8),1,0),0) -> 1
A92: =IF(ISNUMBER($B$4),IF(ISNUMBER($B$5),IF($B$4+80<=$B$5,$B$4+80,""),""),"") -> 46376 | B92: =IF(A92="","",CHOOSE(WEEKDAY(A92),"日","月","火","水","木","金","土")) -> 日 | C92: 休日 | G92: =IF(OR(A92="",C92<>"労働日"),0,MAX(0,MOD(E92-D92,1)*24-F92/60)) -> 0 | H92: =IF(A92="","",INT((A92-$B$4)/7)+1) -> 12 | I92: =IF(AND(A92<>"",C92="労働日"),I91+1,0) -> 0 | J92: =IF(AND(A92<>"",ISNUMBER($B$7),ISNUMBER($B$8)),IF(AND(A92>=$B$7,A92<=$B$8),1,0),0) -> 1
A93: =IF(ISNUMBER($B$4),IF(ISNUMBER($B$5),IF($B$4+81<=$B$5,$B$4+81,""),""),"") -> 46377 | B93: =IF(A93="","",CHOOSE(WEEKDAY(A93),"日","月","火","水","木","金","土")) -> 月 | C93: 労働日 | D93: 0.375 | E93: 0.8125 | F93: 60 | G93: =IF(OR(A93="",C93<>"労働日"),0,MAX(0,MOD(E93-D93,1)*24-F93/60)) -> 9.5 | H93: =IF(A93="","",INT((A93-$B$4)/7)+1) -> 12 | I93: =IF(AND(A93<>"",C93="労働日"),I92+1,0) -> 1 | J93: =IF(AND(A93<>"",ISNUMBER($B$7),ISNUMBER($B$8)),IF(AND(A93>=$B$7,A93<=$B$8),1,0),0) -> 1
A94: =IF(ISNUMBER($B$4),IF(ISNUMBER($B$5),IF($B$4+82<=$B$5,$B$4+82,""),""),"") -> 46378 | B94: =IF(A94="","",CHOOSE(WEEKDAY(A94),"日","月","火","水","木","金","土")) -> 火 | C94: 労働日 | D94: 0.375 | E94: 0.8125 | F94: 60 | G94: =IF(OR(A94="",C94<>"労働日"),0,MAX(0,MOD(E94-D94,1)*24-F94/60)) -> 9.5 | H94: =IF(A94="","",INT((A94-$B$4)/7)+1) -> 12 | I94: =IF(AND(A94<>"",C94="労働日"),I93+1,0) -> 2 | J94: =IF(AND(A94<>"",ISNUMBER($B$7),ISNUMBER($B$8)),IF(AND(A94>=$B$7,A94<=$B$8),1,0),0) -> 1
A95: =IF(ISNUMBER($B$4),IF(ISNUMBER($B$5),IF($B$4+83<=$B$5,$B$4+83,""),""),"") -> 46379 | B95: =IF(A95="","",CHOOSE(WEEKDAY(A95),"日","月","火","水","木","金","土")) -> 水 | C95: 労働日 | D95: 0.375 | E95: 0.8125 | F95: 60 | G95: =IF(OR(A95="",C95<>"労働日"),0,MAX(0,MOD(E95-D95,1)*24-F95/60)) -> 9.5 | H95: =IF(A95="","",INT((A95-$B$4)/7)+1) -> 12 | I95: =IF(AND(A95<>"",C95="労働日"),I94+1,0) -> 3 | J95: =IF(AND(A95<>"",ISNUMBER($B$7),ISNUMBER($B$8)),IF(AND(A95>=$B$7,A95<=$B$8),1,0),0) -> 1
A96: =IF(ISNUMBER($B$4),IF(ISNUMBER($B$5),IF($B$4+84<=$B$5,$B$4+84,""),""),"") -> 46380 | B96: =IF(A96="","",CHOOSE(WEEKDAY(A96),"日","月","火","水","木","金","土")) -> 木 | C96: 労働日 | D96: 0.375 | E96: 0.8125 | F96: 60 | G96: =IF(OR(A96="",C96<>"労働日"),0,MAX(0,MOD(E96-D96,1)*24-F96/60)) -> 9.5 | H96: =IF(A96="","",INT((A96-$B$4)/7)+1) -> 13 | I96: =IF(AND(A96<>"",C96="労働日"),I95+1,0) -> 4 | J96: =IF(AND(A96<>"",ISNUMBER($B$7),ISNUMBER($B$8)),IF(AND(A96>=$B$7,A96<=$B$8),1,0),0) -> 1
A97: =IF(ISNUMBER($B$4),IF(ISNUMBER($B$5),IF($B$4+85<=$B$5,$B$4+85,""),""),"") -> 46381 | B97: =IF(A97="","",CHOOSE(WEEKDAY(A97),"日","月","火","水","木","金","土")) -> 金 | C97: 労働日 | D97: 0.375 | E97: 0.8125 | F97: 60 | G97: =IF(OR(A97="",C97<>"労働日"),0,MAX(0,MOD(E97-D97,1)*24-F97/60)) -> 9.5 | H97: =IF(A97="","",INT((A97-$B$4)/7)+1) -> 13 | I97: =IF(AND(A97<>"",C97="労働日"),I96+1,0) -> 5 | J97: =IF(AND(A97<>"",ISNUMBER($B$7),ISNUMBER($B$8)),IF(AND(A97>=$B$7,A97<=$B$8),1,0),0) -> 1
A98: =IF(ISNUMBER($B$4),IF(ISNUMBER($B$5),IF($B$4+86<=$B$5,$B$4+86,""),""),"") -> 46382 | B98: =IF(A98="","",CHOOSE(WEEKDAY(A98),"日","月","火","水","木","金","土")) -> 土 | C98: 休日 | G98: =IF(OR(A98="",C98<>"労働日"),0,MAX(0,MOD(E98-D98,1)*24-F98/60)) -> 0 | H98: =IF(A98="","",INT((A98-$B$4)/7)+1) -> 13 | I98: =IF(AND(A98<>"",C98="労働日"),I97+1,0) -> 0 | J98: =IF(AND(A98<>"",ISNUMBER($B$7),ISNUMBER($B$8)),IF(AND(A98>=$B$7,A98<=$B$8),1,0),0) -> 1
A99: =IF(ISNUMBER($B$4),IF(ISNUMBER($B$5),IF($B$4+87<=$B$5,$B$4+87,""),""),"") -> 46383 | B99: =IF(A99="","",CHOOSE(WEEKDAY(A99),"日","月","火","水","木","金","土")) -> 日 | C99: 休日 | G99: =IF(OR(A99="",C99<>"労働日"),0,MAX(0,MOD(E99-D99,1)*24-F99/60)) -> 0 | H99: =IF(A99="","",INT((A99-$B$4)/7)+1) -> 13 | I99: =IF(AND(A99<>"",C99="労働日"),I98+1,0) -> 0 | J99: =IF(AND(A99<>"",ISNUMBER($B$7),ISNUMBER($B$8)),IF(AND(A99>=$B$7,A99<=$B$8),1,0),0) -> 1
A100: =IF(ISNUMBER($B$4),IF(ISNUMBER($B$5),IF($B$4+88<=$B$5,$B$4+88,""),""),"") -> 46384 | B100: =IF(A100="","",CHOOSE(WEEKDAY(A100),"日","月","火","水","木","金","土")) -> 月 | C100: 労働日 | D100: 0.375 | E100: 0.8125 | F100: 60 | G100: =IF(OR(A100="",C100<>"労働日"),0,MAX(0,MOD(E100-D100,1)*24-F100/60)) -> 9.5 | H100: =IF(A100="","",INT((A100-$B$4)/7)+1) -> 13 | I100: =IF(AND(A100<>"",C100="労働日"),I99+1,0) -> 1 | J100: =IF(AND(A100<>"",ISNUMBER($B$7),ISNUMBER($B$8)),IF(AND(A100>=$B$7,A100<=$B$8),1,0),0) -> 1
A101: =IF(ISNUMBER($B$4),IF(ISNUMBER($B$5),IF($B$4+89<=$B$5,$B$4+89,""),""),"") -> 46385 | B101: =IF(A101="","",CHOOSE(WEEKDAY(A101),"日","月","火","水","木","金","土")) -> 火 | C101: 休日 | G101: =IF(OR(A101="",C101<>"労働日"),0,MAX(0,MOD(E101-D101,1)*24-F101/60)) -> 0 | H101: =IF(A101="","",INT((A101-$B$4)/7)+1) -> 13 | I101: =IF(AND(A101<>"",C101="労働日"),I100+1,0) -> 0 | J101: =IF(AND(A101<>"",ISNUMBER($B$7),ISNUMBER($B$8)),IF(AND(A101>=$B$7,A101<=$B$8),1,0),0) -> 0
A102: =IF(ISNUMBER($B$4),IF(ISNUMBER($B$5),IF($B$4+90<=$B$5,$B$4+90,""),""),"") -> 46386 | B102: =IF(A102="","",CHOOSE(WEEKDAY(A102),"日","月","火","水","木","金","土")) -> 水 | C102: 休日 | G102: =IF(OR(A102="",C102<>"労働日"),0,MAX(0,MOD(E102-D102,1)*24-F102/60)) -> 0 | H102: =IF(A102="","",INT((A102-$B$4)/7)+1) -> 13 | I102: =IF(AND(A102<>"",C102="労働日"),I101+1,0) -> 0 | J102: =IF(AND(A102<>"",ISNUMBER($B$7),ISNUMBER($B$8)),IF(AND(A102>=$B$7,A102<=$B$8),1,0),0) -> 0
...

Sheet 記入例_区分表
A1: 別紙 区分表・記入例 （対象期間を1箇月ごとに区分した各期間の労働日数・総労働時間）
A2: 区分する場合、最初の期間を除く各期間は、この労働日数と総労働時間を協定に書き、 各期間の初日の少なくとも30日前に、 過半数代表者の同意を得て日ごとの労働日・労働時間を決めます（労基法32条の4第2項）。
A4: 区分 | B4: 最初の日 | C4: 最後の日 | D4: 労働日数 | E4: 総労働時間 | F4: 備考
A5: 1か月目 | B5: =IF(ISNUMBER('記入例_年間カレンダー'!$B$4),IF(EDATE('記入例_年間カレンダー'!$B$4,0)<='記入例_年間カレンダー'!$B$5,EDATE('記入例_年間カレンダー'!$B$4,0),""),"") -> 46296 | C5: =IF(B5="","",MIN(EDATE('記入例_年間カレンダー'!$B$4,1)-1,'記入例_年間カレンダー'!$B$5)) -> 46326 | D5: =IF(B5="","",COUNTIFS('記入例_年間カレンダー'!$A$12:$A$377,">="&B5,'記入例_年間カレンダー'!$A$12:$A$377,"<="&C5,'記入例_年間カレンダー'!$C$12:$C$377,"労働日")) -> 22 | E5: =IF(B5="","",SUMIFS('記入例_年間カレンダー'!$G$12:$G$377,'記入例_年間カレンダー'!$A$12:$A$377,">="&B5,'記入例_年間カレンダー'!$A$12:$A$377,"<="&C5)) -> 176 | F5: =IF(B5="","",IF(1=1,"最初の期間（日ごとに定める）","日ごとは30日前までに定める")) -> 最初の期間（日ごとに定める）
A6: 2か月目 | B6: =IF(ISNUMBER('記入例_年間カレンダー'!$B$4),IF(EDATE('記入例_年間カレンダー'!$B$4,1)<='記入例_年間カレンダー'!$B$5,EDATE('記入例_年間カレンダー'!$B$4,1),""),"") -> 46327 | C6: =IF(B6="","",MIN(EDATE('記入例_年間カレンダー'!$B$4,2)-1,'記入例_年間カレンダー'!$B$5)) -> 46356 | D6: =IF(B6="","",COUNTIFS('記入例_年間カレンダー'!$A$12:$A$377,">="&B6,'記入例_年間カレンダー'!$A$12:$A$377,"<="&C6,'記入例_年間カレンダー'!$C$12:$C$377,"労働日")) -> 19 | E6: =IF(B6="","",SUMIFS('記入例_年間カレンダー'!$G$12:$G$377,'記入例_年間カレンダー'!$A$12:$A$377,">="&B6,'記入例_年間カレンダー'!$A$12:$A$377,"<="&C6)) -> 152 | F6: =IF(B6="","",IF(2=1,"最初の期間（日ごとに定める）","日ごとは30日前までに定める")) -> 日ごとは30日前までに定める
A7: 3か月目 | B7: =IF(ISNUMBER('記入例_年間カレンダー'!$B$4),IF(EDATE('記入例_年間カレンダー'!$B$4,2)<='記入例_年間カレンダー'!$B$5,EDATE('記入例_年間カレンダー'!$B$4,2),""),"") -> 46357 | C7: =IF(B7="","",MIN(EDATE('記入例_年間カレンダー'!$B$4,3)-1,'記入例_年間カレンダー'!$B$5)) -> 46387 | D7: =IF(B7="","",COUNTIFS('記入例_年間カレンダー'!$A$12:$A$377,">="&B7,'記入例_年間カレンダー'!$A$12:$A$377,"<="&C7,'記入例_年間カレンダー'!$C$12:$C$377,"労働日")) -> 20 | E7: =IF(B7="","",SUMIFS('記入例_年間カレンダー'!$G$12:$G$377,'記入例_年間カレンダー'!$A$12:$A$377,">="&B7,'記入例_年間カレンダー'!$A$12:$A$377,"<="&C7)) -> 190 | F7: =IF(B7="","",IF(3=1,"最初の期間（日ごとに定める）","日ごとは30日前までに定める")) -> 日ごとは30日前までに定める
A8: 4か月目 | B8: =IF(ISNUMBER('記入例_年間カレンダー'!$B$4),IF(EDATE('記入例_年間カレンダー'!$B$4,3)<='記入例_年間カレンダー'!$B$5,EDATE('記入例_年間カレンダー'!$B$4,3),""),"") -> 46388 | C8: =IF(B8="","",MIN(EDATE('記入例_年間カレンダー'!$B$4,4)-1,'記入例_年間カレンダー'!$B$5)) -> 46418 | D8: =IF(B8="","",COUNTIFS('記入例_年間カレンダー'!$A$12:$A$377,">="&B8,'記入例_年間カレンダー'!$A$12:$A$377,"<="&C8,'記入例_年間カレンダー'!$C$12:$C$377,"労働日")) -> 18 | E8: =IF(B8="","",SUMIFS('記入例_年間カレンダー'!$G$12:$G$377,'記入例_年間カレンダー'!$A$12:$A$377,">="&B8,'記入例_年間カレンダー'!$A$12:$A$377,"<="&C8)) -> 144 | F8: =IF(B8="","",IF(4=1,"最初の期間（日ごとに定める）","日ごとは30日前までに定める")) -> 日ごとは30日前までに定める
A9: 5か月目 | B9: =IF(ISNUMBER('記入例_年間カレンダー'!$B$4),IF(EDATE('記入例_年間カレンダー'!$B$4,4)<='記入例_年間カレンダー'!$B$5,EDATE('記入例_年間カレンダー'!$B$4,4),""),"") -> 46419 | C9: =IF(B9="","",MIN(EDATE('記入例_年間カレンダー'!$B$4,5)-1,'記入例_年間カレンダー'!$B$5)) -> 46446 | D9: =IF(B9="","",COUNTIFS('記入例_年間カレンダー'!$A$12:$A$377,">="&B9,'記入例_年間カレンダー'!$A$12:$A$377,"<="&C9,'記入例_年間カレンダー'!$C$12:$C$377,"労働日")) -> 19 | E9: =IF(B9="","",SUMIFS('記入例_年間カレンダー'!$G$12:$G$377,'記入例_年間カレンダー'!$A$12:$A$377,">="&B9,'記入例_年間カレンダー'!$A$12:$A$377,"<="&C9)) -> 152 | F9: =IF(B9="","",IF(5=1,"最初の期間（日ごとに定める）","日ごとは30日前までに定める")) -> 日ごとは30日前までに定める
A10: 6か月目 | B10: =IF(ISNUMBER('記入例_年間カレンダー'!$B$4),IF(EDATE('記入例_年間カレンダー'!$B$4,5)<='記入例_年間カレンダー'!$B$5,EDATE('記入例_年間カレンダー'!$B$4,5),""),"") -> 46447 | C10: =IF(B10="","",MIN(EDATE('記入例_年間カレンダー'!$B$4,6)-1,'記入例_年間カレンダー'!$B$5)) -> 46477 | D10: =IF(B10="","",COUNTIFS('記入例_年間カレンダー'!$A$12:$A$377,">="&B10,'記入例_年間カレンダー'!$A$12:$A$377,"<="&C10,'記入例_年間カレンダー'!$C$12:$C$377,"労働日")) -> 23 | E10: =IF(B10="","",SUMIFS('記入例_年間カレンダー'!$G$12:$G$377,'記入例_年間カレンダー'!$A$12:$A$377,">="&B10,'記入例_年間カレンダー'!$A$12:$A$377,"<="&C10)) -> 184 | F10: =IF(B10="","",IF(6=1,"最初の期間（日ごとに定める）","日ごとは30日前までに定める")) -> 日ごとは30日前までに定める
A11: 7か月目 | B11: =IF(ISNUMBER('記入例_年間カレンダー'!$B$4),IF(EDATE('記入例_年間カレンダー'!$B$4,6)<='記入例_年間カレンダー'!$B$5,EDATE('記入例_年間カレンダー'!$B$4,6),""),"") -> 46478 | C11: =IF(B11="","",MIN(EDATE('記入例_年間カレンダー'!$B$4,7)-1,'記入例_年間カレンダー'!$B$5)) -> 46507 | D11: =IF(B11="","",COUNTIFS('記入例_年間カレンダー'!$A$12:$A$377,">="&B11,'記入例_年間カレンダー'!$A$12:$A$377,"<="&C11,'記入例_年間カレンダー'!$C$12:$C$377,"労働日")) -> 21 | E11: =IF(B11="","",SUMIFS('記入例_年間カレンダー'!$G$12:$G$377,'記入例_年間カレンダー'!$A$12:$A$377,">="&B11,'記入例_年間カレンダー'!$A$12:$A$377,"<="&C11)) -> 168 | F11: =IF(B11="","",IF(7=1,"最初の期間（日ごとに定める）","日ごとは30日前までに定める")) -> 日ごとは30日前までに定める
A12: 8か月目 | B12: =IF(ISNUMBER('記入例_年間カレンダー'!$B$4),IF(EDATE('記入例_年間カレンダー'!$B$4,7)<='記入例_年間カレンダー'!$B$5,EDATE('記入例_年間カレンダー'!$B$4,7),""),"") -> 46508 | C12: =IF(B12="","",MIN(EDATE('記入例_年間カレンダー'!$B$4,8)-1,'記入例_年間カレンダー'!$B$5)) -> 46538 | D12: =IF(B12="","",COUNTIFS('記入例_年間カレンダー'!$A$12:$A$377,">="&B12,'記入例_年間カレンダー'!$A$12:$A$377,"<="&C12,'記入例_年間カレンダー'!$C$12:$C$377,"労働日")) -> 18 | E12: =IF(B12="","",SUMIFS('記入例_年間カレンダー'!$G$12:$G$377,'記入例_年間カレンダー'!$A$12:$A$377,">="&B12,'記入例_年間カレンダー'!$A$12:$A$377,"<="&C12)) -> 144 | F12: =IF(B12="","",IF(8=1,"最初の期間（日ごとに定める）","日ごとは30日前までに定める")) -> 日ごとは30日前までに定める
A13: 9か月目 | B13: =IF(ISNUMBER('記入例_年間カレンダー'!$B$4),IF(EDATE('記入例_年間カレンダー'!$B$4,8)<='記入例_年間カレンダー'!$B$5,EDATE('記入例_年間カレンダー'!$B$4,8),""),"") -> 46539 | C13: =IF(B13="","",MIN(EDATE('記入例_年間カレンダー'!$B$4,9)-1,'記入例_年間カレンダー'!$B$5)) -> 46568 | D13: =IF(B13="","",COUNTIFS('記入例_年間カレンダー'!$A$12:$A$377,">="&B13,'記入例_年間カレンダー'!$A$12:$A$377,"<="&C13,'記入例_年間カレンダー'!$C$12:$C$377,"労働日")) -> 22 | E13: =IF(B13="","",SUMIFS('記入例_年間カレンダー'!$G$12:$G$377,'記入例_年間カレンダー'!$A$12:$A$377,">="&B13,'記入例_年間カレンダー'!$A$12:$A$377,"<="&C13)) -> 176 | F13: =IF(B13="","",IF(9=1,"最初の期間（日ごとに定める）","日ごとは30日前までに定める")) -> 日ごとは30日前までに定める
A14: 10か月目 | B14: =IF(ISNUMBER('記入例_年間カレンダー'!$B$4),IF(EDATE('記入例_年間カレンダー'!$B$4,9)<='記入例_年間カレンダー'!$B$5,EDATE('記入例_年間カレンダー'!$B$4,9),""),"") -> 46569 | C14: =IF(B14="","",MIN(EDATE('記入例_年間カレンダー'!$B$4,10)-1,'記入例_年間カレンダー'!$B$5)) -> 46599 | D14: =IF(B14="","",COUNTIFS('記入例_年間カレンダー'!$A$12:$A$377,">="&B14,'記入例_年間カレンダー'!$A$12:$A$377,"<="&C14,'記入例_年間カレンダー'!$C$12:$C$377,"労働日")) -> 22 | E14: =IF(B14="","",SUMIFS('記入例_年間カレンダー'!$G$12:$G$377,'記入例_年間カレンダー'!$A$12:$A$377,">="&B14,'記入例_年間カレンダー'!$A$12:$A$377,"<="&C14)) -> 176 | F14: =IF(B14="","",IF(10=1,"最初の期間（日ごとに定める）","日ごとは30日前までに定める")) -> 日ごとは30日前までに定める
A15: 11か月目 | B15: =IF(ISNUMBER('記入例_年間カレンダー'!$B$4),IF(EDATE('記入例_年間カレンダー'!$B$4,10)<='記入例_年間カレンダー'!$B$5,EDATE('記入例_年間カレンダー'!$B$4,10),""),"") -> 46600 | C15: =IF(B15="","",MIN(EDATE('記入例_年間カレンダー'!$B$4,11)-1,'記入例_年間カレンダー'!$B$5)) -> 46630 | D15: =IF(B15="","",COUNTIFS('記入例_年間カレンダー'!$A$12:$A$377,">="&B15,'記入例_年間カレンダー'!$A$12:$A$377,"<="&C15,'記入例_年間カレンダー'!$C$12:$C$377,"労働日")) -> 19 | E15: =IF(B15="","",SUMIFS('記入例_年間カレンダー'!$G$12:$G$377,'記入例_年間カレンダー'!$A$12:$A$377,">="&B15,'記入例_年間カレンダー'!$A$12:$A$377,"<="&C15)) -> 152 | F15: =IF(B15="","",IF(11=1,"最初の期間（日ごとに定める）","日ごとは30日前までに定める")) -> 日ごとは30日前までに定める
A16: 12か月目 | B16: =IF(ISNUMBER('記入例_年間カレンダー'!$B$4),IF(EDATE('記入例_年間カレンダー'!$B$4,11)<='記入例_年間カレンダー'!$B$5,EDATE('記入例_年間カレンダー'!$B$4,11),""),"") -> 46631 | C16: =IF(B16="","",MIN(EDATE('記入例_年間カレンダー'!$B$4,12)-1,'記入例_年間カレンダー'!$B$5)) -> 46660 | D16: =IF(B16="","",COUNTIFS('記入例_年間カレンダー'!$A$12:$A$377,">="&B16,'記入例_年間カレンダー'!$A$12:$A$377,"<="&C16,'記入例_年間カレンダー'!$C$12:$C$377,"労働日")) -> 22 | E16: =IF(B16="","",SUMIFS('記入例_年間カレンダー'!$G$12:$G$377,'記入例_年間カレンダー'!$A$12:$A$377,">="&B16,'記入例_年間カレンダー'!$A$12:$A$377,"<="&C16)) -> 176 | F16: =IF(B16="","",IF(12=1,"最初の期間（日ごとに定める）","日ごとは30日前までに定める")) -> 日ごとは30日前までに定める
A17: 合計 | D17: =SUM(D5:D16) -> 245 | E17: =SUM(E5:E16) -> 1990

Sheet 記入例_判定
A1: 限度基準の判定（労基法32条の4・施行規則12条の4）・記入例
A2: 週は、対象期間の開始日から7日ごとに区切って数えています。就業規則等で週の起算日を定めている場合は、その区切りで確かめてください。
A4: 対象期間の暦日数 | B4: ='記入例_年間カレンダー'!B6 -> 365
A5: 対象期間の長さ | B5: =IF(B4="","未入力",IF(OR('記入例_年間カレンダー'!B5<EDATE('記入例_年間カレンダー'!B4,1),'記入例_年間カレンダー'!B5>EDATE('記入例_年間カレンダー'!B4,12)-1),"範囲外",IF('記入例_年間カレンダー'!B5>EDATE('記入例_年間カレンダー'!B4,3)-1,"3箇月超","3箇月以内"))) -> 3箇月超
A6: 区分が空の日の数 | B6: =SUMPRODUCT(('記入例_年間カレンダー'!$A$12:$A$377<>"")*('記入例_年間カレンダー'!$C$12:$C$377="")) -> 0
A8: 項目 | B8: あなたの値 | C8: 限度 | D8: 判定
A9: 労働日数（対象期間3箇月超のとき） | B9: =SUMPRODUCT(('記入例_年間カレンダー'!$C$12:$C$377="労働日")*('記入例_年間カレンダー'!$A$12:$A$377<>"")) -> 245 | C9: 280日以内（1年当たり） | D9: =IF(B4="","未入力",IF(B5="3箇月以内","対象外(3箇月以内)",IF(B5<>"3箇月超","対象期間を確認",IF(B9>280,"超過",IF('記入例_年間カレンダー'!B5>=EDATE('記入例_年間カレンダー'!B4,12)-1,"範囲内","要確認(1年未満は数え方を確認)"))))) -> 範囲内
A10: 対象期間の総労働時間の上限（40時間×暦日数÷7） | B10: =IF(B4="","",40*B4/7) -> 2085.7143 | C10: この値が上限です
A11: 総所定労働時間（平均して週40時間以内か） | B11: =SUM('記入例_年間カレンダー'!$G$12:$G$377) -> 1990 | C11: 上限以内（法32条の4第1項） | D11: =IF(OR(B4="",B6>0),"未入力",IF(B11<=B10,"範囲内","超過")) -> 範囲内
A12: 1日の最長労働時間 | B12: =MAX('記入例_年間カレンダー'!$G$12:$G$377) -> 9.5 | C12: 10時間以内 | D12: =IF(B6>0,"未入力",IF(B12<=10,"範囲内","超過")) -> 範囲内
A13: 1週間の最長労働時間 | B13: =MAX(H27:H79) -> 47.5 | C13: 52時間以内 | D13: =IF(B6>0,"未入力",IF(B13<=52,"範囲内","超過")) -> 範囲内
A14: 週48時間を超える週の連続（最大・週） | B14: =MAX(J27:J79) -> 0 | C14: 3週以下（3箇月超のとき） | D14: =IF(B5<>"3箇月超","対象外(3箇月以内)",IF(B6>0,"未入力",IF(B14<=3,"範囲内","超過"))) -> 範囲内
A15: 3箇月ごとの区分で48時間超の週の初日の数（最大） | B15: =MAX(O27:O30) -> 0 | C15: 3以下（3箇月超のとき） | D15: =IF(B5<>"3箇月超","対象外(3箇月以内)",IF(B6>0,"未入力",IF(B15<=3,"範囲内","超過"))) -> 範囲内
A16: 連続労働日数の最大（特定期間を除く） | B16: =SUMPRODUCT(MAX(('記入例_年間カレンダー'!$J$12:$J$377=0)*'記入例_年間カレンダー'!$I$12:$I$377)) -> 5 | C16: 6日以内 | D16: =IF(B6>0,"未入力",IF(B16<=6,"範囲内","超過")) -> 範囲内
A17: 連続労働日数の最大（特定期間） | B17: =SUMPRODUCT(MAX(('記入例_年間カレンダー'!$J$12:$J$377=1)*'記入例_年間カレンダー'!$I$12:$I$377)) -> 5 | C17: 12日以内（条文の「1週間に1日の休日」から計算した目安） | D17: =IF(B6>0,"未入力",IF(B17<=12,"範囲内(計算上の目安)","要確認")) -> 範囲内(計算上の目安)
A19: 【根拠】 280日・1日10時間・1週52時間・週48時間超（連続3週以下・初日から3箇月ごとに区分した各期間で週の初日が3以下）・連続労働日数6日＝施行規則12条の4第3項〜第5項。平均して週40時間以内＝労働基準法32条の4第1項。特定期間の連続労働日数は、条文が「一週間に一日の休日が確保できる日数」とだけ定めているため、休日を週の最初の日と次の週の最後の日に置いた計算値の12日を目安にしています（条文に12日という数字はありません）。対象期間が1年未満のときの280日の数え方は条文に書いていないので、280日を超えていなければ「要確認」と表示します。特定期間に入った日の連続労働日数は特定期間の欄で数えます。この表はセルフチェック用の簡易ツールです。
F26: 週 | G26: 週の初日 | H26: 労働時間 | I26: 48時間超 | J26: 48超の連続 | K26: 3箇月区分 | M26: 区分 | N26: 最初の日 | O26: 48超の週の初日の数
F27: 1 | G27: =IF(ISNUMBER('記入例_年間カレンダー'!$B$4),IF('記入例_年間カレンダー'!$B$4+0<='記入例_年間カレンダー'!$B$5,'記入例_年間カレンダー'!$B$4+0,""),"") -> 46296 | H27: =IF(G27="","",SUMIF('記入例_年間カレンダー'!$H$12:$H$377,F27,'記入例_年間カレンダー'!$G$12:$G$377)) -> 40 | I27: =IF(G27="",0,IF(H27>48,1,0)) -> 0 | J27: =IF(I27=1,0+1,0) -> 0 | K27: =IF(G27="","",COUNTIF($N$27:$N$30,"<="&G27)) -> 1 | M27: 1 | N27: =IF(ISNUMBER('記入例_年間カレンダー'!$B$4),EDATE('記入例_年間カレンダー'!$B$4,0),"") -> 46296 | O27: =SUMIF($K$27:$K$79,M27,$I$27:$I$79) -> 0
F28: 2 | G28: =IF(ISNUMBER('記入例_年間カレンダー'!$B$4),IF('記入例_年間カレンダー'!$B$4+7<='記入例_年間カレンダー'!$B$5,'記入例_年間カレンダー'!$B$4+7,""),"") -> 46303 | H28: =IF(G28="","",SUMIF('記入例_年間カレンダー'!$H$12:$H$377,F28,'記入例_年間カレンダー'!$G$12:$G$377)) -> 40 | I28: =IF(G28="",0,IF(H28>48,1,0)) -> 0 | J28: =IF(I28=1,J27+1,0) -> 0 | K28: =IF(G28="","",COUNTIF($N$27:$N$30,"<="&G28)) -> 1 | M28: 2 | N28: =IF(ISNUMBER('記入例_年間カレンダー'!$B$4),EDATE('記入例_年間カレンダー'!$B$4,3),"") -> 46388 | O28: =SUMIF($K$27:$K$79,M28,$I$27:$I$79) -> 0
F29: 3 | G29: =IF(ISNUMBER('記入例_年間カレンダー'!$B$4),IF('記入例_年間カレンダー'!$B$4+14<='記入例_年間カレンダー'!$B$5,'記入例_年間カレンダー'!$B$4+14,""),"") -> 46310 | H29: =IF(G29="","",SUMIF('記入例_年間カレンダー'!$H$12:$H$377,F29,'記入例_年間カレンダー'!$G$12:$G$377)) -> 40 | I29: =IF(G29="",0,IF(H29>48,1,0)) -> 0 | J29: =IF(I29=1,J28+1,0) -> 0 | K29: =IF(G29="","",COUNTIF($N$27:$N$30,"<="&G29)) -> 1 | M29: 3 | N29: =IF(ISNUMBER('記入例_年間カレンダー'!$B$4),EDATE('記入例_年間カレンダー'!$B$4,6),"") -> 46478 | O29: =SUMIF($K$27:$K$79,M29,$I$27:$I$79) -> 0
F30: 4 | G30: =IF(ISNUMBER('記入例_年間カレンダー'!$B$4),IF('記入例_年間カレンダー'!$B$4+21<='記入例_年間カレンダー'!$B$5,'記入例_年間カレンダー'!$B$4+21,""),"") -> 46317 | H30: =IF(G30="","",SUMIF('記入例_年間カレンダー'!$H$12:$H$377,F30,'記入例_年間カレンダー'!$G$12:$G$377)) -> 40 | I30: =IF(G30="",0,IF(H30>48,1,0)) -> 0 | J30: =IF(I30=1,J29+1,0) -> 0 | K30: =IF(G30="","",COUNTIF($N$27:$N$30,"<="&G30)) -> 1 | M30: 4 | N30: =IF(ISNUMBER('記入例_年間カレンダー'!$B$4),EDATE('記入例_年間カレンダー'!$B$4,9),"") -> 46569 | O30: =SUMIF($K$27:$K$79,M30,$I$27:$I$79) -> 0
F31: 5 | G31: =IF(ISNUMBER('記入例_年間カレンダー'!$B$4),IF('記入例_年間カレンダー'!$B$4+28<='記入例_年間カレンダー'!$B$5,'記入例_年間カレンダー'!$B$4+28,""),"") -> 46324 | H31: =IF(G31="","",SUMIF('記入例_年間カレンダー'!$H$12:$H$377,F31,'記入例_年間カレンダー'!$G$12:$G$377)) -> 32 | I31: =IF(G31="",0,IF(H31>48,1,0)) -> 0 | J31: =IF(I31=1,J30+1,0) -> 0 | K31: =IF(G31="","",COUNTIF($N$27:$N$30,"<="&G31)) -> 1
F32: 6 | G32: =IF(ISNUMBER('記入例_年間カレンダー'!$B$4),IF('記入例_年間カレンダー'!$B$4+35<='記入例_年間カレンダー'!$B$5,'記入例_年間カレンダー'!$B$4+35,""),"") -> 46331 | H32: =IF(G32="","",SUMIF('記入例_年間カレンダー'!$H$12:$H$377,F32,'記入例_年間カレンダー'!$G$12:$G$377)) -> 40 | I32: =IF(G32="",0,IF(H32>48,1,0)) -> 0 | J32: =IF(I32=1,J31+1,0) -> 0 | K32: =IF(G32="","",COUNTIF($N$27:$N$30,"<="&G32)) -> 1
F33: 7 | G33: =IF(ISNUMBER('記入例_年間カレンダー'!$B$4),IF('記入例_年間カレンダー'!$B$4+42<='記入例_年間カレンダー'!$B$5,'記入例_年間カレンダー'!$B$4+42,""),"") -> 46338 | H33: =IF(G33="","",SUMIF('記入例_年間カレンダー'!$H$12:$H$377,F33,'記入例_年間カレンダー'!$G$12:$G$377)) -> 40 | I33: =IF(G33="",0,IF(H33>48,1,0)) -> 0 | J33: =IF(I33=1,J32+1,0) -> 0 | K33: =IF(G33="","",COUNTIF($N$27:$N$30,"<="&G33)) -> 1
F34: 8 | G34: =IF(ISNUMBER('記入例_年間カレンダー'!$B$4),IF('記入例_年間カレンダー'!$B$4+49<='記入例_年間カレンダー'!$B$5,'記入例_年間カレンダー'!$B$4+49,""),"") -> 46345 | H34: =IF(G34="","",SUMIF('記入例_年間カレンダー'!$H$12:$H$377,F34,'記入例_年間カレンダー'!$G$12:$G$377)) -> 32 | I34: =IF(G34="",0,IF(H34>48,1,0)) -> 0 | J34: =IF(I34=1,J33+1,0) -> 0 | K34: =IF(G34="","",COUNTIF($N$27:$N$30,"<="&G34)) -> 1
F35: 9 | G35: =IF(ISNUMBER('記入例_年間カレンダー'!$B$4),IF('記入例_年間カレンダー'!$B$4+56<='記入例_年間カレンダー'!$B$5,'記入例_年間カレンダー'!$B$4+56,""),"") -> 46352 | H35: =IF(G35="","",SUMIF('記入例_年間カレンダー'!$H$12:$H$377,F35,'記入例_年間カレンダー'!$G$12:$G$377)) -> 43 | I35: =IF(G35="",0,IF(H35>48,1,0)) -> 0 | J35: =IF(I35=1,J34+1,0) -> 0 | K35: =IF(G35="","",COUNTIF($N$27:$N$30,"<="&G35)) -> 1
F36: 10 | G36: =IF(ISNUMBER('記入例_年間カレンダー'!$B$4),IF('記入例_年間カレンダー'!$B$4+63<='記入例_年間カレンダー'!$B$5,'記入例_年間カレンダー'!$B$4+63,""),"") -> 46359 | H36: =IF(G36="","",SUMIF('記入例_年間カレンダー'!$H$12:$H$377,F36,'記入例_年間カレンダー'!$G$12:$G$377)) -> 47.5 | I36: =IF(G36="",0,IF(H36>48,1,0)) -> 0 | J36: =IF(I36=1,J35+1,0) -> 0 | K36: =IF(G36="","",COUNTIF($N$27:$N$30,"<="&G36)) -> 1
F37: 11 | G37: =IF(ISNUMBER('記入例_年間カレンダー'!$B$4),IF('記入例_年間カレンダー'!$B$4+70<='記入例_年間カレンダー'!$B$5,'記入例_年間カレンダー'!$B$4+70,""),"") -> 46366 | H37: =IF(G37="","",SUMIF('記入例_年間カレンダー'!$H$12:$H$377,F37,'記入例_年間カレンダー'!$G$12:$G$377)) -> 47.5 | I37: =IF(G37="",0,IF(H37>48,1,0)) -> 0 | J37: =IF(I37=1,J36+1,0) -> 0 | K37: =IF(G37="","",COUNTIF($N$27:$N$30,"<="&G37)) -> 1
F38: 12 | G38: =IF(ISNUMBER('記入例_年間カレンダー'!$B$4),IF('記入例_年間カレンダー'!$B$4+77<='記入例_年間カレンダー'!$B$5,'記入例_年間カレンダー'!$B$4+77,""),"") -> 46373 | H38: =IF(G38="","",SUMIF('記入例_年間カレンダー'!$H$12:$H$377,F38,'記入例_年間カレンダー'!$G$12:$G$377)) -> 47.5 | I38: =IF(G38="",0,IF(H38>48,1,0)) -> 0 | J38: =IF(I38=1,J37+1,0) -> 0 | K38: =IF(G38="","",COUNTIF($N$27:$N$30,"<="&G38)) -> 1
F39: 13 | G39: =IF(ISNUMBER('記入例_年間カレンダー'!$B$4),IF('記入例_年間カレンダー'!$B$4+84<='記入例_年間カレンダー'!$B$5,'記入例_年間カレンダー'!$B$4+84,""),"") -> 46380 | H39: =IF(G39="","",SUMIF('記入例_年間カレンダー'!$H$12:$H$377,F39,'記入例_年間カレンダー'!$G$12:$G$377)) -> 28.5 | I39: =IF(G39="",0,IF(H39>48,1,0)) -> 0 | J39: =IF(I39=1,J38+1,0) -> 0 | K39: =IF(G39="","",COUNTIF($N$27:$N$30,"<="&G39)) -> 1
F40: 14 | G40: =IF(ISNUMBER('記入例_年間カレンダー'!$B$4),IF('記入例_年間カレンダー'!$B$4+91<='記入例_年間カレンダー'!$B$5,'記入例_年間カレンダー'!$B$4+91,""),"") -> 46387 | H40: =IF(G40="","",SUMIF('記入例_年間カレンダー'!$H$12:$H$377,F40,'記入例_年間カレンダー'!$G$12:$G$377)) -> 16 | I40: =IF(G40="",0,IF(H40>48,1,0)) -> 0 | J40: =IF(I40=1,J39+1,0) -> 0 | K40: =IF(G40="","",COUNTIF($N$27:$N$30,"<="&G40)) -> 1
F41: 15 | G41: =IF(ISNUMBER('記入例_年間カレンダー'!$B$4),IF('記入例_年間カレンダー'!$B$4+98<='記入例_年間カレンダー'!$B$5,'記入例_年間カレンダー'!$B$4+98,""),"") -> 46394 | H41: =IF(G41="","",SUMIF('記入例_年間カレンダー'!$H$12:$H$377,F41,'記入例_年間カレンダー'!$G$12:$G$377)) -> 32 | I41: =IF(G41="",0,IF(H41>48,1,0)) -> 0 | J41: =IF(I41=1,J40+1,0) -> 0 | K41: =IF(G41="","",COUNTIF($N$27:$N$30,"<="&G41)) -> 2
F42: 16 | G42: =IF(ISNUMBER('記入例_年間カレンダー'!$B$4),IF('記入例_年間カレンダー'!$B$4+105<='記入例_年間カレンダー'!$B$5,'記入例_年間カレンダー'!$B$4+105,""),"") -> 46401 | H42: =IF(G42="","",SUMIF('記入例_年間カレンダー'!$H$12:$H$377,F42,'記入例_年間カレンダー'!$G$12:$G$377)) -> 40 | I42: =IF(G42="",0,IF(H42>48,1,0)) -> 0 | J42: =IF(I42=1,J41+1,0) -> 0 | K42: =IF(G42="","",COUNTIF($N$27:$N$30,"<="&G42)) -> 2
F43: 17 | G43: =IF(ISNUMBER('記入例_年間カレンダー'!$B$4),IF('記入例_年間カレンダー'!$B$4+112<='記入例_年間カレンダー'!$B$5,'記入例_年間カレンダー'!$B$4+112,""),"") -> 46408 | H43: =IF(G43="","",SUMIF('記入例_年間カレンダー'!$H$12:$H$377,F43,'記入例_年間カレンダー'!$G$12:$G$377)) -> 40 | I43: =IF(G43="",0,IF(H43>48,1,0)) -> 0 | J43: =IF(I43=1,J42+1,0) -> 0 | K43: =IF(G43="","",COUNTIF($N$27:$N$30,"<="&G43)) -> 2
F44: 18 | G44: =IF(ISNUMBER('記入例_年間カレンダー'!$B$4),IF('記入例_年間カレンダー'!$B$4+119<='記入例_年間カレンダー'!$B$5,'記入例_年間カレンダー'!$B$4+119,""),"") -> 46415 | H44: =IF(G44="","",SUMIF('記入例_年間カレンダー'!$H$12:$H$377,F44,'記入例_年間カレンダー'!$G$12:$G$377)) -> 40 | I44: =IF(G44="",0,IF(H44>48,1,0)) -> 0 | J44: =IF(I44=1,J43+1,0) -> 0 | K44: =IF(G44="","",COUNTIF($N$27:$N$30,"<="&G44)) -> 2
F45: 19 | G45: =IF(ISNUMBER('記入例_年間カレンダー'!$B$4),IF('記入例_年間カレンダー'!$B$4+126<='記入例_年間カレンダー'!$B$5,'記入例_年間カレンダー'!$B$4+126,""),"") -> 46422 | H45: =IF(G45="","",SUMIF('記入例_年間カレンダー'!$H$12:$H$377,F45,'記入例_年間カレンダー'!$G$12:$G$377)) -> 40 | I45: =IF(G45="",0,IF(H45>48,1,0)) -> 0 | J45: =IF(I45=1,J44+1,0) -> 0 | K45: =IF(G45="","",COUNTIF($N$27:$N$30,"<="&G45)) -> 2
F46: 20 | G46: =IF(ISNUMBER('記入例_年間カレンダー'!$B$4),IF('記入例_年間カレンダー'!$B$4+133<='記入例_年間カレンダー'!$B$5,'記入例_年間カレンダー'!$B$4+133,""),"") -> 46429 | H46: =IF(G46="","",SUMIF('記入例_年間カレンダー'!$H$12:$H$377,F46,'記入例_年間カレンダー'!$G$12:$G$377)) -> 32 | I46: =IF(G46="",0,IF(H46>48,1,0)) -> 0 | J46: =IF(I46=1,J45+1,0) -> 0 | K46: =IF(G46="","",COUNTIF($N$27:$N$30,"<="&G46)) -> 2
F47: 21 | G47: =IF(ISNUMBER('記入例_年間カレンダー'!$B$4),IF('記入例_年間カレンダー'!$B$4+140<='記入例_年間カレンダー'!$B$5,'記入例_年間カレンダー'!$B$4+140,""),"") -> 46436 | H47: =IF(G47="","",SUMIF('記入例_年間カレンダー'!$H$12:$H$377,F47,'記入例_年間カレンダー'!$G$12:$G$377)) -> 40 | I47: =IF(G47="",0,IF(H47>48,1,0)) -> 0 | J47: =IF(I47=1,J46+1,0) -> 0 | K47: =IF(G47="","",COUNTIF($N$27:$N$30,"<="&G47)) -> 2
F48: 22 | G48: =IF(ISNUMBER('記入例_年間カレンダー'!$B$4),IF('記入例_年間カレンダー'!$B$4+147<='記入例_年間カレンダー'!$B$5,'記入例_年間カレンダー'!$B$4+147,""),"") -> 46443 | H48: =IF(G48="","",SUMIF('記入例_年間カレンダー'!$H$12:$H$377,F48,'記入例_年間カレンダー'!$G$12:$G$377)) -> 40 | I48: =IF(G48="",0,IF(H48>48,1,0)) -> 0 | J48: =IF(I48=1,J47+1,0) -> 0 | K48: =IF(G48="","",COUNTIF($N$27:$N$30,"<="&G48)) -> 2
F49: 23 | G49: =IF(ISNUMBER('記入例_年間カレンダー'!$B$4),IF('記入例_年間カレンダー'!$B$4+154<='記入例_年間カレンダー'!$B$5,'記入例_年間カレンダー'!$B$4+154,""),"") -> 46450 | H49: =IF(G49="","",SUMIF('記入例_年間カレンダー'!$H$12:$H$377,F49,'記入例_年間カレンダー'!$G$12:$G$377)) -> 40 | I49: =IF(G49="",0,IF(H49>48,1,0)) -> 0 | J49: =IF(I49=1,J48+1,0) -> 0 | K49: =IF(G49="","",COUNTIF($N$27:$N$30,"<="&G49)) -> 2
F50: 24 | G50: =IF(ISNUMBER('記入例_年間カレンダー'!$B$4),IF('記入例_年間カレンダー'!$B$4+161<='記入例_年間カレンダー'!$B$5,'記入例_年間カレンダー'!$B$4+161,""),"") -> 46457 | H50: =IF(G50="","",SUMIF('記入例_年間カレンダー'!$H$12:$H$377,F50,'記入例_年間カレンダー'!$G$12:$G$377)) -> 40 | I50: =IF(G50="",0,IF(H50>48,1,0)) -> 0 | J50: =IF(I50=1,J49+1,0) -> 0 | K50: =IF(G50="","",COUNTIF($N$27:$N$30,"<="&G50)) -> 2
F51: 25 | G51: =IF(ISNUMBER('記入例_年間カレンダー'!$B$4),IF('記入例_年間カレンダー'!$B$4+168<='記入例_年間カレンダー'!$B$5,'記入例_年間カレンダー'!$B$4+168,""),"") -> 46464 | H51: =IF(G51="","",SUMIF('記入例_年間カレンダー'!$H$12:$H$377,F51,'記入例_年間カレンダー'!$G$12:$G$377)) -> 40 | I51: =IF(G51="",0,IF(H51>48,1,0)) -> 0 | J51: =IF(I51=1,J50+1,0) -> 0 | K51: =IF(G51="","",COUNTIF($N$27:$N$30,"<="&G51)) -> 2
F52: 26 | G52: =IF(ISNUMBER('記入例_年間カレンダー'!$B$4),IF('記入例_年間カレンダー'!$B$4+175<='記入例_年間カレンダー'!$B$5,'記入例_年間カレンダー'!$B$4+175,""),"") -> 46471 | H52: =IF(G52="","",SUMIF('記入例_年間カレンダー'!$H$12:$H$377,F52,'記入例_年間カレンダー'!$G$12:$G$377)) -> 40 | I52: =IF(G52="",0,IF(H52>48,1,0)) -> 0 | J52: =IF(I52=1,J51+1,0) -> 0 | K52: =IF(G52="","",COUNTIF($N$27:$N$30,"<="&G52)) -> 2
F53: 27 | G53: =IF(ISNUMBER('記入例_年間カレンダー'!$B$4),IF('記入例_年間カレンダー'!$B$4+182<='記入例_年間カレンダー'!$B$5,'記入例_年間カレンダー'!$B$4+182,""),"") -> 46478 | H53: =IF(G53="","",SUMIF('記入例_年間カレンダー'!$H$12:$H$377,F53,'記入例_年間カレンダー'!$G$12:$G$377)) -> 40 | I53: =IF(G53="",0,IF(H53>48,1,0)) -> 0 | J53: =IF(I53=1,J52+1,0) -> 0 | K53: =IF(G53="","",COUNTIF($N$27:$N$30,"<="&G53)) -> 3
F54: 28 | G54: =IF(ISNUMBER('記入例_年間カレンダー'!$B$4),IF('記入例_年間カレンダー'!$B$4+189<='記入例_年間カレンダー'!$B$5,'記入例_年間カレンダー'!$B$4+189,""),"") -> 46485 | H54: =IF(G54="","",SUMIF('記入例_年間カレンダー'!$H$12:$H$377,F54,'記入例_年間カレンダー'!$G$12:$G$377)) -> 40 | I54: =IF(G54="",0,IF(H54>48,1,0)) -> 0 | J54: =IF(I54=1,J53+1,0) -> 0 | K54: =IF(G54="","",COUNTIF($N$27:$N$30,"<="&G54)) -> 3
F55: 29 | G55: =IF(ISNUMBER('記入例_年間カレンダー'!$B$4),IF('記入例_年間カレンダー'!$B$4+196<='記入例_年間カレンダー'!$B$5,'記入例_年間カレンダー'!$B$4+196,""),"") -> 46492 | H55: =IF(G55="","",SUMIF('記入例_年間カレンダー'!$H$12:$H$377,F55,'記入例_年間カレンダー'!$G$12:$G$377)) -> 40 | I55: =IF(G55="",0,IF(H55>48,1,0)) -> 0 | J55: =IF(I55=1,J54+1,0) -> 0 | K55: =IF(G55="","",COUNTIF($N$27:$N$30,"<="&G55)) -> 3
F56: 30 | G56: =IF(ISNUMBER('記入例_年間カレンダー'!$B$4),IF('記入例_年間カレンダー'!$B$4+203<='記入例_年間カレンダー'!$B$5,'記入例_年間カレンダー'!$B$4+203,""),"") -> 46499 | H56: =IF(G56="","",SUMIF('記入例_年間カレンダー'!$H$12:$H$377,F56,'記入例_年間カレンダー'!$G$12:$G$377)) -> 40 | I56: =IF(G56="",0,IF(H56>48,1,0)) -> 0 | J56: =IF(I56=1,J55+1,0) -> 0 | K56: =IF(G56="","",COUNTIF($N$27:$N$30,"<="&G56)) -> 3
F57: 31 | G57: =IF(ISNUMBER('記入例_年間カレンダー'!$B$4),IF('記入例_年間カレンダー'!$B$4+210<='記入例_年間カレンダー'!$B$5,'記入例_年間カレンダー'!$B$4+210,""),"") -> 46506 | H57: =IF(G57="","",SUMIF('記入例_年間カレンダー'!$H$12:$H$377,F57,'記入例_年間カレンダー'!$G$12:$G$377)) -> 8 | I57: =IF(G57="",0,IF(H57>48,1,0)) -> 0 | J57: =IF(I57=1,J56+1,0) -> 0 | K57: =IF(G57="","",COUNTIF($N$27:$N$30,"<="&G57)) -> 3
F58: 32 | G58: =IF(ISNUMBER('記入例_年間カレンダー'!$B$4),IF('記入例_年間カレンダー'!$B$4+217<='記入例_年間カレンダー'!$B$5,'記入例_年間カレンダー'!$B$4+217,""),"") -> 46513 | H58: =IF(G58="","",SUMIF('記入例_年間カレンダー'!$H$12:$H$377,F58,'記入例_年間カレンダー'!$G$12:$G$377)) -> 40 | I58: =IF(G58="",0,IF(H58>48,1,0)) -> 0 | J58: =IF(I58=1,J57+1,0) -> 0 | K58: =IF(G58="","",COUNTIF($N$27:$N$30,"<="&G58)) -> 3
F59: 33 | G59: =IF(ISNUMBER('記入例_年間カレンダー'!$B$4),IF('記入例_年間カレンダー'!$B$4+224<='記入例_年間カレンダー'!$B$5,'記入例_年間カレンダー'!$B$4+224,""),"") -> 46520 | H59: =IF(G59="","",SUMIF('記入例_年間カレンダー'!$H$12:$H$377,F59,'記入例_年間カレンダー'!$G$12:$G$377)) -> 40 | I59: =IF(G59="",0,IF(H59>48,1,0)) -> 0 | J59: =IF(I59=1,J58+1,0) -> 0 | K59: =IF(G59="","",COUNTIF($N$27:$N$30,"<="&G59)) -> 3
F60: 34 | G60: =IF(ISNUMBER('記入例_年間カレンダー'!$B$4),IF('記入例_年間カレンダー'!$B$4+231<='記入例_年間カレンダー'!$B$5,'記入例_年間カレンダー'!$B$4+231,""),"") -> 46527 | H60: =IF(G60="","",SUMIF('記入例_年間カレンダー'!$H$12:$H$377,F60,'記入例_年間カレンダー'!$G$12:$G$377)) -> 40 | I60: =IF(G60="",0,IF(H60>48,1,0)) -> 0 | J60: =IF(I60=1,J59+1,0) -> 0 | K60: =IF(G60="","",COUNTIF($N$27:$N$30,"<="&G60)) -> 3
F61: 35 | G61: =IF(ISNUMBER('記入例_年間カレンダー'!$B$4),IF('記入例_年間カレンダー'!$B$4+238<='記入例_年間カレンダー'!$B$5,'記入例_年間カレンダー'!$B$4+238,""),"") -> 46534 | H61: =IF(G61="","",SUMIF('記入例_年間カレンダー'!$H$12:$H$377,F61,'記入例_年間カレンダー'!$G$12:$G$377)) -> 40 | I61: =IF(G61="",0,IF(H61>48,1,0)) -> 0 | J61: =IF(I61=1,J60+1,0) -> 0 | K61: =IF(G61="","",COUNTIF($N$27:$N$30,"<="&G61)) -> 3
F62: 36 | G62: =IF(ISNUMBER('記入例_年間カレンダー'!$B$4),IF('記入例_年間カレンダー'!$B$4+245<='記入例_年間カレンダー'!$B$5,'記入例_年間カレンダー'!$B$4+245,""),"") -> 46541 | H62: =IF(G62="","",SUMIF('記入例_年間カレンダー'!$H$12:$H$377,F62,'記入例_年間カレンダー'!$G$12:$G$377)) -> 40 | I62: =IF(G62="",0,IF(H62>48,1,0)) -> 0 | J62: =IF(I62=1,J61+1,0) -> 0 | K62: =IF(G62="","",COUNTIF($N$27:$N$30,"<="&G62)) -> 3
F63: 37 | G63: =IF(ISNUMBER('記入例_年間カレンダー'!$B$4),IF('記入例_年間カレンダー'!$B$4+252<='記入例_年間カレンダー'!$B$5,'記入例_年間カレンダー'!$B$4+252,""),"") -> 46548 | H63: =IF(G63="","",SUMIF('記入例_年間カレンダー'!$H$12:$H$377,F63,'記入例_年間カレンダー'!$G$12:$G$377)) -> 40 | I63: =IF(G63="",0,IF(H63>48,1,0)) -> 0 | J63: =IF(I63=1,J62+1,0) -> 0 | K63: =IF(G63="","",COUNTIF($N$27:$N$30,"<="&G63)) -> 3
F64: 38 | G64: =IF(ISNUMBER('記入例_年間カレンダー'!$B$4),IF('記入例_年間カレンダー'!$B$4+259<='記入例_年間カレンダー'!$B$5,'記入例_年間カレンダー'!$B$4+259,""),"") -> 46555 | H64: =IF(G64="","",SUMIF('記入例_年間カレンダー'!$H$12:$H$377,F64,'記入例_年間カレンダー'!$G$12:$G$377)) -> 40 | I64: =IF(G64="",0,IF(H64>48,1,0)) -> 0 | J64: =IF(I64=1,J63+1,0) -> 0 | K64: =IF(G64="","",COUNTIF($N$27:$N$30,"<="&G64)) -> 3
F65: 39 | G65: =IF(ISNUMBER('記入例_年間カレンダー'!$B$4),IF('記入例_年間カレンダー'!$B$4+266<='記入例_年間カレンダー'!$B$5,'記入例_年間カレンダー'!$B$4+266,""),"") -> 46562 | H65: =IF(G65="","",SUMIF('記入例_年間カレンダー'!$H$12:$H$377,F65,'記入例_年間カレンダー'!$G$12:$G$377)) -> 40 | I65: =IF(G65="",0,IF(H65>48,1,0)) -> 0 | J65: =IF(I65=1,J64+1,0) -> 0 | K65: =IF(G65="","",COUNTIF($N$27:$N$30,"<="&G65)) -> 3
F66: 40 | G66: =IF(ISNUMBER('記入例_年間カレンダー'!$B$4),IF('記入例_年間カレンダー'!$B$4+273<='記入例_年間カレンダー'!$B$5,'記入例_年間カレンダー'!$B$4+273,""),"") -> 46569 | H66: =IF(G66="","",SUMIF('記入例_年間カレンダー'!$H$12:$H$377,F66,'記入例_年間カレンダー'!$G$12:$G$377)) -> 40 | I66: =IF(G66="",0,IF(H66>48,1,0)) -> 0 | J66: =IF(I66=1,J65+1,0) -> 0 | K66: =IF(G66="","",COUNTIF($N$27:$N$30,"<="&G66)) -> 4
F67: 41 | G67: =IF(ISNUMBER('記入例_年間カレンダー'!$B$4),IF('記入例_年間カレンダー'!$B$4+280<='記入例_年間カレンダー'!$B$5,'記入例_年間カレンダー'!$B$4+280,""),"") -> 46576 | H67: =IF(G67="","",SUMIF('記入例_年間カレンダー'!$H$12:$H$377,F67,'記入例_年間カレンダー'!$G$12:$G$377)) -> 40 | I67: =IF(G67="",0,IF(H67>48,1,0)) -> 0 | J67: =IF(I67=1,J66+1,0) -> 0 | K67: =IF(G67="","",COUNTIF($N$27:$N$30,"<="&G67)) -> 4
F68: 42 | G68: =IF(ISNUMBER('記入例_年間カレンダー'!$B$4),IF('記入例_年間カレンダー'!$B$4+287<='記入例_年間カレンダー'!$B$5,'記入例_年間カレンダー'!$B$4+287,""),"") -> 46583 | H68: =IF(G68="","",SUMIF('記入例_年間カレンダー'!$H$12:$H$377,F68,'記入例_年間カレンダー'!$G$12:$G$377)) -> 40 | I68: =IF(G68="",0,IF(H68>48,1,0)) -> 0 | J68: =IF(I68=1,J67+1,0) -> 0 | K68: =IF(G68="","",COUNTIF($N$27:$N$30,"<="&G68)) -> 4
F69: 43 | G69: =IF(ISNUMBER('記入例_年間カレンダー'!$B$4),IF('記入例_年間カレンダー'!$B$4+294<='記入例_年間カレンダー'!$B$5,'記入例_年間カレンダー'!$B$4+294,""),"") -> 46590 | H69: =IF(G69="","",SUMIF('記入例_年間カレンダー'!$H$12:$H$377,F69,'記入例_年間カレンダー'!$G$12:$G$377)) -> 40 | I69: =IF(G69="",0,IF(H69>48,1,0)) -> 0 | J69: =IF(I69=1,J68+1,0) -> 0 | K69: =IF(G69="","",COUNTIF($N$27:$N$30,"<="&G69)) -> 4
F70: 44 | G70: =IF(ISNUMBER('記入例_年間カレンダー'!$B$4),IF('記入例_年間カレンダー'!$B$4+301<='記入例_年間カレンダー'!$B$5,'記入例_年間カレンダー'!$B$4+301,""),"") -> 46597 | H70: =IF(G70="","",SUMIF('記入例_年間カレンダー'!$H$12:$H$377,F70,'記入例_年間カレンダー'!$G$12:$G$377)) -> 40 | I70: =IF(G70="",0,IF(H70>48,1,0)) -> 0 | J70: =IF(I70=1,J69+1,0) -> 0 | K70: =IF(G70="","",COUNTIF($N$27:$N$30,"<="&G70)) -> 4
F71: 45 | G71: =IF(ISNUMBER('記入例_年間カレンダー'!$B$4),IF('記入例_年間カレンダー'!$B$4+308<='記入例_年間カレンダー'!$B$5,'記入例_年間カレンダー'!$B$4+308,""),"") -> 46604 | H71: =IF(G71="","",SUMIF('記入例_年間カレンダー'!$H$12:$H$377,F71,'記入例_年間カレンダー'!$G$12:$G$377)) -> 40 | I71: =IF(G71="",0,IF(H71>48,1,0)) -> 0 | J71: =IF(I71=1,J70+1,0) -> 0 | K71: =IF(G71="","",COUNTIF($N$27:$N$30,"<="&G71)) -> 4
F72: 46 | G72: =IF(ISNUMBER('記入例_年間カレンダー'!$B$4),IF('記入例_年間カレンダー'!$B$4+315<='記入例_年間カレンダー'!$B$5,'記入例_年間カレンダー'!$B$4+315,""),"") -> 46611 | H72: =IF(G72="","",SUMIF('記入例_年間カレンダー'!$H$12:$H$377,F72,'記入例_年間カレンダー'!$G$12:$G$377)) -> 16 | I72: =IF(G72="",0,IF(H72>48,1,0)) -> 0 | J72: =IF(I72=1,J71+1,0) -> 0 | K72: =IF(G72="","",COUNTIF($N$27:$N$30,"<="&G72)) -> 4
F73: 47 | G73: =IF(ISNUMBER('記入例_年間カレンダー'!$B$4),IF('記入例_年間カレンダー'!$B$4+322<='記入例_年間カレンダー'!$B$5,'記入例_年間カレンダー'!$B$4+322,""),"") -> 46618 | H73: =IF(G73="","",SUMIF('記入例_年間カレンダー'!$H$12:$H$377,F73,'記入例_年間カレンダー'!$G$12:$G$377)) -> 40 | I73: =IF(G73="",0,IF(H73>48,1,0)) -> 0 | J73: =IF(I73=1,J72+1,0) -> 0 | K73: =IF(G73="","",COUNTIF($N$27:$N$30,"<="&G73)) -> 4
F74: 48 | G74: =IF(ISNUMBER('記入例_年間カレンダー'!$B$4),IF('記入例_年間カレンダー'!$B$4+329<='記入例_年間カレンダー'!$B$5,'記入例_年間カレンダー'!$B$4+329,""),"") -> 46625 | H74: =IF(G74="","",SUMIF('記入例_年間カレンダー'!$H$12:$H$377,F74,'記入例_年間カレンダー'!$G$12:$G$377)) -> 40 | I74: =IF(G74="",0,IF(H74>48,1,0)) -> 0 | J74: =IF(I74=1,J73+1,0) -> 0 | K74: =IF(G74="","",COUNTIF($N$27:$N$30,"<="&G74)) -> 4
F75: 49 | G75: =IF(ISNUMBER('記入例_年間カレンダー'!$B$4),IF('記入例_年間カレンダー'!$B$4+336<='記入例_年間カレンダー'!$B$5,'記入例_年間カレンダー'!$B$4+336,""),"") -> 46632 | H75: =IF(G75="","",SUMIF('記入例_年間カレンダー'!$H$12:$H$377,F75,'記入例_年間カレンダー'!$G$12:$G$377)) -> 40 | I75: =IF(G75="",0,IF(H75>48,1,0)) -> 0 | J75: =IF(I75=1,J74+1,0) -> 0 | K75: =IF(G75="","",COUNTIF($N$27:$N$30,"<="&G75)) -> 4
F76: 50 | G76: =IF(ISNUMBER('記入例_年間カレンダー'!$B$4),IF('記入例_年間カレンダー'!$B$4+343<='記入例_年間カレンダー'!$B$5,'記入例_年間カレンダー'!$B$4+343,""),"") -> 46639 | H76: =IF(G76="","",SUMIF('記入例_年間カレンダー'!$H$12:$H$377,F76,'記入例_年間カレンダー'!$G$12:$G$377)) -> 40 | I76: =IF(G76="",0,IF(H76>48,1,0)) -> 0 | J76: =IF(I76=1,J75+1,0) -> 0 | K76: =IF(G76="","",COUNTIF($N$27:$N$30,"<="&G76)) -> 4
F77: 51 | G77: =IF(ISNUMBER('記入例_年間カレンダー'!$B$4),IF('記入例_年間カレンダー'!$B$4+350<='記入例_年間カレンダー'!$B$5,'記入例_年間カレンダー'!$B$4+350,""),"") -> 46646 | H77: =IF(G77="","",SUMIF('記入例_年間カレンダー'!$H$12:$H$377,F77,'記入例_年間カレンダー'!$G$12:$G$377)) -> 40 | I77: =IF(G77="",0,IF(H77>48,1,0)) -> 0 | J77: =IF(I77=1,J76+1,0) -> 0 | K77: =IF(G77="","",COUNTIF($N$27:$N$30,"<="&G77)) -> 4
F78: 52 | G78: =IF(ISNUMBER('記入例_年間カレンダー'!$B$4),IF('記入例_年間カレンダー'!$B$4+357<='記入例_年間カレンダー'!$B$5,'記入例_年間カレンダー'!$B$4+357,""),"") -> 46653 | H78: =IF(G78="","",SUMIF('記入例_年間カレンダー'!$H$12:$H$377,F78,'記入例_年間カレンダー'!$G$12:$G$377)) -> 40 | I78: =IF(G78="",0,IF(H78>48,1,0)) -> 0 | J78: =IF(I78=1,J77+1,0) -> 0 | K78: =IF(G78="","",COUNTIF($N$27:$N$30,"<="&G78)) -> 4
F79: 53 | G79: =IF(ISNUMBER('記入例_年間カレンダー'!$B$4),IF('記入例_年間カレンダー'!$B$4+364<='記入例_年間カレンダー'!$B$5,'記入例_年間カレンダー'!$B$4+364,""),"") -> 46660 | H79: =IF(G79="","",SUMIF('記入例_年間カレンダー'!$H$12:$H$377,F79,'記入例_年間カレンダー'!$G$12:$G$377)) -> 8 | I79: =IF(G79="",0,IF(H79>48,1,0)) -> 0 | J79: =IF(I79=1,J78+1,0) -> 0 | K79: =IF(G79="","",COUNTIF($N$27:$N$30,"<="&G79)) -> 4
