Workbook

Sheet 年間カレンダー
A1: 別紙 年間カレンダー（1年単位の変形労働時間制）
A2: 黄色のセルに入力します。区分表と判定のシートは自動で計算します。
A4: 対象期間の開始日
A5: 対象期間の終了日 | B5: =IF(ISNUMBER(B4),EDATE(B4,12)-1,"") | D5: ← 1年のときは自動で入ります。1年未満のときは日付を入れ直します。
A6: 対象期間の暦日数 | B6: =IF(AND(ISNUMBER(B4),ISNUMBER(B5)),B5-B4+1,"")
A7: 特定期間（開始）
A8: 特定期間（終了） | D8: ← 特定期間を定めないときは空欄
A10: 日ごとの勤務（区分・始業・終業・休憩を入力）
A11: 日付 | B11: 曜日 | C11: 区分 | D11: 始業 | E11: 終業 | F11: 休憩（分） | G11: 労働時間 | H11: 週 | I11: 連続労働日数 | J11: 特定期間
A12: =IF(ISNUMBER($B$4),IF(ISNUMBER($B$5),IF($B$4+0<=$B$5,$B$4+0,""),""),"") | B12: =IF(A12="","",CHOOSE(WEEKDAY(A12),"日","月","火","水","木","金","土")) | G12: =IF(OR(A12="",C12<>"労働日"),0,MAX(0,MOD(E12-D12,1)*24-F12/60)) -> 0 | H12: =IF(A12="","",INT((A12-$B$4)/7)+1) | I12: =IF(AND(A12<>"",C12="労働日"),0+1,0) -> 0 | J12: =IF(AND(A12<>"",ISNUMBER($B$7),ISNUMBER($B$8)),IF(AND(A12>=$B$7,A12<=$B$8),1,0),0) -> 0
A13: =IF(ISNUMBER($B$4),IF(ISNUMBER($B$5),IF($B$4+1<=$B$5,$B$4+1,""),""),"") | B13: =IF(A13="","",CHOOSE(WEEKDAY(A13),"日","月","火","水","木","金","土")) | G13: =IF(OR(A13="",C13<>"労働日"),0,MAX(0,MOD(E13-D13,1)*24-F13/60)) -> 0 | H13: =IF(A13="","",INT((A13-$B$4)/7)+1) | I13: =IF(AND(A13<>"",C13="労働日"),I12+1,0) -> 0 | J13: =IF(AND(A13<>"",ISNUMBER($B$7),ISNUMBER($B$8)),IF(AND(A13>=$B$7,A13<=$B$8),1,0),0) -> 0
A14: =IF(ISNUMBER($B$4),IF(ISNUMBER($B$5),IF($B$4+2<=$B$5,$B$4+2,""),""),"") | B14: =IF(A14="","",CHOOSE(WEEKDAY(A14),"日","月","火","水","木","金","土")) | G14: =IF(OR(A14="",C14<>"労働日"),0,MAX(0,MOD(E14-D14,1)*24-F14/60)) -> 0 | H14: =IF(A14="","",INT((A14-$B$4)/7)+1) | I14: =IF(AND(A14<>"",C14="労働日"),I13+1,0) -> 0 | J14: =IF(AND(A14<>"",ISNUMBER($B$7),ISNUMBER($B$8)),IF(AND(A14>=$B$7,A14<=$B$8),1,0),0) -> 0
A15: =IF(ISNUMBER($B$4),IF(ISNUMBER($B$5),IF($B$4+3<=$B$5,$B$4+3,""),""),"") | B15: =IF(A15="","",CHOOSE(WEEKDAY(A15),"日","月","火","水","木","金","土")) | G15: =IF(OR(A15="",C15<>"労働日"),0,MAX(0,MOD(E15-D15,1)*24-F15/60)) -> 0 | H15: =IF(A15="","",INT((A15-$B$4)/7)+1) | I15: =IF(AND(A15<>"",C15="労働日"),I14+1,0) -> 0 | J15: =IF(AND(A15<>"",ISNUMBER($B$7),ISNUMBER($B$8)),IF(AND(A15>=$B$7,A15<=$B$8),1,0),0) -> 0
A16: =IF(ISNUMBER($B$4),IF(ISNUMBER($B$5),IF($B$4+4<=$B$5,$B$4+4,""),""),"") | B16: =IF(A16="","",CHOOSE(WEEKDAY(A16),"日","月","火","水","木","金","土")) | G16: =IF(OR(A16="",C16<>"労働日"),0,MAX(0,MOD(E16-D16,1)*24-F16/60)) -> 0 | H16: =IF(A16="","",INT((A16-$B$4)/7)+1) | I16: =IF(AND(A16<>"",C16="労働日"),I15+1,0) -> 0 | J16: =IF(AND(A16<>"",ISNUMBER($B$7),ISNUMBER($B$8)),IF(AND(A16>=$B$7,A16<=$B$8),1,0),0) -> 0
A17: =IF(ISNUMBER($B$4),IF(ISNUMBER($B$5),IF($B$4+5<=$B$5,$B$4+5,""),""),"") | B17: =IF(A17="","",CHOOSE(WEEKDAY(A17),"日","月","火","水","木","金","土")) | G17: =IF(OR(A17="",C17<>"労働日"),0,MAX(0,MOD(E17-D17,1)*24-F17/60)) -> 0 | H17: =IF(A17="","",INT((A17-$B$4)/7)+1) | I17: =IF(AND(A17<>"",C17="労働日"),I16+1,0) -> 0 | J17: =IF(AND(A17<>"",ISNUMBER($B$7),ISNUMBER($B$8)),IF(AND(A17>=$B$7,A17<=$B$8),1,0),0) -> 0
A18: =IF(ISNUMBER($B$4),IF(ISNUMBER($B$5),IF($B$4+6<=$B$5,$B$4+6,""),""),"") | B18: =IF(A18="","",CHOOSE(WEEKDAY(A18),"日","月","火","水","木","金","土")) | G18: =IF(OR(A18="",C18<>"労働日"),0,MAX(0,MOD(E18-D18,1)*24-F18/60)) -> 0 | H18: =IF(A18="","",INT((A18-$B$4)/7)+1) | I18: =IF(AND(A18<>"",C18="労働日"),I17+1,0) -> 0 | J18: =IF(AND(A18<>"",ISNUMBER($B$7),ISNUMBER($B$8)),IF(AND(A18>=$B$7,A18<=$B$8),1,0),0) -> 0
A19: =IF(ISNUMBER($B$4),IF(ISNUMBER($B$5),IF($B$4+7<=$B$5,$B$4+7,""),""),"") | B19: =IF(A19="","",CHOOSE(WEEKDAY(A19),"日","月","火","水","木","金","土")) | G19: =IF(OR(A19="",C19<>"労働日"),0,MAX(0,MOD(E19-D19,1)*24-F19/60)) -> 0 | H19: =IF(A19="","",INT((A19-$B$4)/7)+1) | I19: =IF(AND(A19<>"",C19="労働日"),I18+1,0) -> 0 | J19: =IF(AND(A19<>"",ISNUMBER($B$7),ISNUMBER($B$8)),IF(AND(A19>=$B$7,A19<=$B$8),1,0),0) -> 0
A20: =IF(ISNUMBER($B$4),IF(ISNUMBER($B$5),IF($B$4+8<=$B$5,$B$4+8,""),""),"") | B20: =IF(A20="","",CHOOSE(WEEKDAY(A20),"日","月","火","水","木","金","土")) | G20: =IF(OR(A20="",C20<>"労働日"),0,MAX(0,MOD(E20-D20,1)*24-F20/60)) -> 0 | H20: =IF(A20="","",INT((A20-$B$4)/7)+1) | I20: =IF(AND(A20<>"",C20="労働日"),I19+1,0) -> 0 | J20: =IF(AND(A20<>"",ISNUMBER($B$7),ISNUMBER($B$8)),IF(AND(A20>=$B$7,A20<=$B$8),1,0),0) -> 0
A21: =IF(ISNUMBER($B$4),IF(ISNUMBER($B$5),IF($B$4+9<=$B$5,$B$4+9,""),""),"") | B21: =IF(A21="","",CHOOSE(WEEKDAY(A21),"日","月","火","水","木","金","土")) | G21: =IF(OR(A21="",C21<>"労働日"),0,MAX(0,MOD(E21-D21,1)*24-F21/60)) -> 0 | H21: =IF(A21="","",INT((A21-$B$4)/7)+1) | I21: =IF(AND(A21<>"",C21="労働日"),I20+1,0) -> 0 | J21: =IF(AND(A21<>"",ISNUMBER($B$7),ISNUMBER($B$8)),IF(AND(A21>=$B$7,A21<=$B$8),1,0),0) -> 0
A22: =IF(ISNUMBER($B$4),IF(ISNUMBER($B$5),IF($B$4+10<=$B$5,$B$4+10,""),""),"") | B22: =IF(A22="","",CHOOSE(WEEKDAY(A22),"日","月","火","水","木","金","土")) | G22: =IF(OR(A22="",C22<>"労働日"),0,MAX(0,MOD(E22-D22,1)*24-F22/60)) -> 0 | H22: =IF(A22="","",INT((A22-$B$4)/7)+1) | I22: =IF(AND(A22<>"",C22="労働日"),I21+1,0) -> 0 | J22: =IF(AND(A22<>"",ISNUMBER($B$7),ISNUMBER($B$8)),IF(AND(A22>=$B$7,A22<=$B$8),1,0),0) -> 0
A23: =IF(ISNUMBER($B$4),IF(ISNUMBER($B$5),IF($B$4+11<=$B$5,$B$4+11,""),""),"") | B23: =IF(A23="","",CHOOSE(WEEKDAY(A23),"日","月","火","水","木","金","土")) | G23: =IF(OR(A23="",C23<>"労働日"),0,MAX(0,MOD(E23-D23,1)*24-F23/60)) -> 0 | H23: =IF(A23="","",INT((A23-$B$4)/7)+1) | I23: =IF(AND(A23<>"",C23="労働日"),I22+1,0) -> 0 | J23: =IF(AND(A23<>"",ISNUMBER($B$7),ISNUMBER($B$8)),IF(AND(A23>=$B$7,A23<=$B$8),1,0),0) -> 0
A24: =IF(ISNUMBER($B$4),IF(ISNUMBER($B$5),IF($B$4+12<=$B$5,$B$4+12,""),""),"") | B24: =IF(A24="","",CHOOSE(WEEKDAY(A24),"日","月","火","水","木","金","土")) | G24: =IF(OR(A24="",C24<>"労働日"),0,MAX(0,MOD(E24-D24,1)*24-F24/60)) -> 0 | H24: =IF(A24="","",INT((A24-$B$4)/7)+1) | I24: =IF(AND(A24<>"",C24="労働日"),I23+1,0) -> 0 | J24: =IF(AND(A24<>"",ISNUMBER($B$7),ISNUMBER($B$8)),IF(AND(A24>=$B$7,A24<=$B$8),1,0),0) -> 0
A25: =IF(ISNUMBER($B$4),IF(ISNUMBER($B$5),IF($B$4+13<=$B$5,$B$4+13,""),""),"") | B25: =IF(A25="","",CHOOSE(WEEKDAY(A25),"日","月","火","水","木","金","土")) | G25: =IF(OR(A25="",C25<>"労働日"),0,MAX(0,MOD(E25-D25,1)*24-F25/60)) -> 0 | H25: =IF(A25="","",INT((A25-$B$4)/7)+1) | I25: =IF(AND(A25<>"",C25="労働日"),I24+1,0) -> 0 | J25: =IF(AND(A25<>"",ISNUMBER($B$7),ISNUMBER($B$8)),IF(AND(A25>=$B$7,A25<=$B$8),1,0),0) -> 0
A26: =IF(ISNUMBER($B$4),IF(ISNUMBER($B$5),IF($B$4+14<=$B$5,$B$4+14,""),""),"") | B26: =IF(A26="","",CHOOSE(WEEKDAY(A26),"日","月","火","水","木","金","土")) | G26: =IF(OR(A26="",C26<>"労働日"),0,MAX(0,MOD(E26-D26,1)*24-F26/60)) -> 0 | H26: =IF(A26="","",INT((A26-$B$4)/7)+1) | I26: =IF(AND(A26<>"",C26="労働日"),I25+1,0) -> 0 | J26: =IF(AND(A26<>"",ISNUMBER($B$7),ISNUMBER($B$8)),IF(AND(A26>=$B$7,A26<=$B$8),1,0),0) -> 0
A27: =IF(ISNUMBER($B$4),IF(ISNUMBER($B$5),IF($B$4+15<=$B$5,$B$4+15,""),""),"") | B27: =IF(A27="","",CHOOSE(WEEKDAY(A27),"日","月","火","水","木","金","土")) | G27: =IF(OR(A27="",C27<>"労働日"),0,MAX(0,MOD(E27-D27,1)*24-F27/60)) -> 0 | H27: =IF(A27="","",INT((A27-$B$4)/7)+1) | I27: =IF(AND(A27<>"",C27="労働日"),I26+1,0) -> 0 | J27: =IF(AND(A27<>"",ISNUMBER($B$7),ISNUMBER($B$8)),IF(AND(A27>=$B$7,A27<=$B$8),1,0),0) -> 0
A28: =IF(ISNUMBER($B$4),IF(ISNUMBER($B$5),IF($B$4+16<=$B$5,$B$4+16,""),""),"") | B28: =IF(A28="","",CHOOSE(WEEKDAY(A28),"日","月","火","水","木","金","土")) | G28: =IF(OR(A28="",C28<>"労働日"),0,MAX(0,MOD(E28-D28,1)*24-F28/60)) -> 0 | H28: =IF(A28="","",INT((A28-$B$4)/7)+1) | I28: =IF(AND(A28<>"",C28="労働日"),I27+1,0) -> 0 | J28: =IF(AND(A28<>"",ISNUMBER($B$7),ISNUMBER($B$8)),IF(AND(A28>=$B$7,A28<=$B$8),1,0),0) -> 0
A29: =IF(ISNUMBER($B$4),IF(ISNUMBER($B$5),IF($B$4+17<=$B$5,$B$4+17,""),""),"") | B29: =IF(A29="","",CHOOSE(WEEKDAY(A29),"日","月","火","水","木","金","土")) | G29: =IF(OR(A29="",C29<>"労働日"),0,MAX(0,MOD(E29-D29,1)*24-F29/60)) -> 0 | H29: =IF(A29="","",INT((A29-$B$4)/7)+1) | I29: =IF(AND(A29<>"",C29="労働日"),I28+1,0) -> 0 | J29: =IF(AND(A29<>"",ISNUMBER($B$7),ISNUMBER($B$8)),IF(AND(A29>=$B$7,A29<=$B$8),1,0),0) -> 0
A30: =IF(ISNUMBER($B$4),IF(ISNUMBER($B$5),IF($B$4+18<=$B$5,$B$4+18,""),""),"") | B30: =IF(A30="","",CHOOSE(WEEKDAY(A30),"日","月","火","水","木","金","土")) | G30: =IF(OR(A30="",C30<>"労働日"),0,MAX(0,MOD(E30-D30,1)*24-F30/60)) -> 0 | H30: =IF(A30="","",INT((A30-$B$4)/7)+1) | I30: =IF(AND(A30<>"",C30="労働日"),I29+1,0) -> 0 | J30: =IF(AND(A30<>"",ISNUMBER($B$7),ISNUMBER($B$8)),IF(AND(A30>=$B$7,A30<=$B$8),1,0),0) -> 0
A31: =IF(ISNUMBER($B$4),IF(ISNUMBER($B$5),IF($B$4+19<=$B$5,$B$4+19,""),""),"") | B31: =IF(A31="","",CHOOSE(WEEKDAY(A31),"日","月","火","水","木","金","土")) | G31: =IF(OR(A31="",C31<>"労働日"),0,MAX(0,MOD(E31-D31,1)*24-F31/60)) -> 0 | H31: =IF(A31="","",INT((A31-$B$4)/7)+1) | I31: =IF(AND(A31<>"",C31="労働日"),I30+1,0) -> 0 | J31: =IF(AND(A31<>"",ISNUMBER($B$7),ISNUMBER($B$8)),IF(AND(A31>=$B$7,A31<=$B$8),1,0),0) -> 0
A32: =IF(ISNUMBER($B$4),IF(ISNUMBER($B$5),IF($B$4+20<=$B$5,$B$4+20,""),""),"") | B32: =IF(A32="","",CHOOSE(WEEKDAY(A32),"日","月","火","水","木","金","土")) | G32: =IF(OR(A32="",C32<>"労働日"),0,MAX(0,MOD(E32-D32,1)*24-F32/60)) -> 0 | H32: =IF(A32="","",INT((A32-$B$4)/7)+1) | I32: =IF(AND(A32<>"",C32="労働日"),I31+1,0) -> 0 | J32: =IF(AND(A32<>"",ISNUMBER($B$7),ISNUMBER($B$8)),IF(AND(A32>=$B$7,A32<=$B$8),1,0),0) -> 0
A33: =IF(ISNUMBER($B$4),IF(ISNUMBER($B$5),IF($B$4+21<=$B$5,$B$4+21,""),""),"") | B33: =IF(A33="","",CHOOSE(WEEKDAY(A33),"日","月","火","水","木","金","土")) | G33: =IF(OR(A33="",C33<>"労働日"),0,MAX(0,MOD(E33-D33,1)*24-F33/60)) -> 0 | H33: =IF(A33="","",INT((A33-$B$4)/7)+1) | I33: =IF(AND(A33<>"",C33="労働日"),I32+1,0) -> 0 | J33: =IF(AND(A33<>"",ISNUMBER($B$7),ISNUMBER($B$8)),IF(AND(A33>=$B$7,A33<=$B$8),1,0),0) -> 0
A34: =IF(ISNUMBER($B$4),IF(ISNUMBER($B$5),IF($B$4+22<=$B$5,$B$4+22,""),""),"") | B34: =IF(A34="","",CHOOSE(WEEKDAY(A34),"日","月","火","水","木","金","土")) | G34: =IF(OR(A34="",C34<>"労働日"),0,MAX(0,MOD(E34-D34,1)*24-F34/60)) -> 0 | H34: =IF(A34="","",INT((A34-$B$4)/7)+1) | I34: =IF(AND(A34<>"",C34="労働日"),I33+1,0) -> 0 | J34: =IF(AND(A34<>"",ISNUMBER($B$7),ISNUMBER($B$8)),IF(AND(A34>=$B$7,A34<=$B$8),1,0),0) -> 0
A35: =IF(ISNUMBER($B$4),IF(ISNUMBER($B$5),IF($B$4+23<=$B$5,$B$4+23,""),""),"") | B35: =IF(A35="","",CHOOSE(WEEKDAY(A35),"日","月","火","水","木","金","土")) | G35: =IF(OR(A35="",C35<>"労働日"),0,MAX(0,MOD(E35-D35,1)*24-F35/60)) -> 0 | H35: =IF(A35="","",INT((A35-$B$4)/7)+1) | I35: =IF(AND(A35<>"",C35="労働日"),I34+1,0) -> 0 | J35: =IF(AND(A35<>"",ISNUMBER($B$7),ISNUMBER($B$8)),IF(AND(A35>=$B$7,A35<=$B$8),1,0),0) -> 0
A36: =IF(ISNUMBER($B$4),IF(ISNUMBER($B$5),IF($B$4+24<=$B$5,$B$4+24,""),""),"") | B36: =IF(A36="","",CHOOSE(WEEKDAY(A36),"日","月","火","水","木","金","土")) | G36: =IF(OR(A36="",C36<>"労働日"),0,MAX(0,MOD(E36-D36,1)*24-F36/60)) -> 0 | H36: =IF(A36="","",INT((A36-$B$4)/7)+1) | I36: =IF(AND(A36<>"",C36="労働日"),I35+1,0) -> 0 | J36: =IF(AND(A36<>"",ISNUMBER($B$7),ISNUMBER($B$8)),IF(AND(A36>=$B$7,A36<=$B$8),1,0),0) -> 0
A37: =IF(ISNUMBER($B$4),IF(ISNUMBER($B$5),IF($B$4+25<=$B$5,$B$4+25,""),""),"") | B37: =IF(A37="","",CHOOSE(WEEKDAY(A37),"日","月","火","水","木","金","土")) | G37: =IF(OR(A37="",C37<>"労働日"),0,MAX(0,MOD(E37-D37,1)*24-F37/60)) -> 0 | H37: =IF(A37="","",INT((A37-$B$4)/7)+1) | I37: =IF(AND(A37<>"",C37="労働日"),I36+1,0) -> 0 | J37: =IF(AND(A37<>"",ISNUMBER($B$7),ISNUMBER($B$8)),IF(AND(A37>=$B$7,A37<=$B$8),1,0),0) -> 0
A38: =IF(ISNUMBER($B$4),IF(ISNUMBER($B$5),IF($B$4+26<=$B$5,$B$4+26,""),""),"") | B38: =IF(A38="","",CHOOSE(WEEKDAY(A38),"日","月","火","水","木","金","土")) | G38: =IF(OR(A38="",C38<>"労働日"),0,MAX(0,MOD(E38-D38,1)*24-F38/60)) -> 0 | H38: =IF(A38="","",INT((A38-$B$4)/7)+1) | I38: =IF(AND(A38<>"",C38="労働日"),I37+1,0) -> 0 | J38: =IF(AND(A38<>"",ISNUMBER($B$7),ISNUMBER($B$8)),IF(AND(A38>=$B$7,A38<=$B$8),1,0),0) -> 0
A39: =IF(ISNUMBER($B$4),IF(ISNUMBER($B$5),IF($B$4+27<=$B$5,$B$4+27,""),""),"") | B39: =IF(A39="","",CHOOSE(WEEKDAY(A39),"日","月","火","水","木","金","土")) | G39: =IF(OR(A39="",C39<>"労働日"),0,MAX(0,MOD(E39-D39,1)*24-F39/60)) -> 0 | H39: =IF(A39="","",INT((A39-$B$4)/7)+1) | I39: =IF(AND(A39<>"",C39="労働日"),I38+1,0) -> 0 | J39: =IF(AND(A39<>"",ISNUMBER($B$7),ISNUMBER($B$8)),IF(AND(A39>=$B$7,A39<=$B$8),1,0),0) -> 0
A40: =IF(ISNUMBER($B$4),IF(ISNUMBER($B$5),IF($B$4+28<=$B$5,$B$4+28,""),""),"") | B40: =IF(A40="","",CHOOSE(WEEKDAY(A40),"日","月","火","水","木","金","土")) | G40: =IF(OR(A40="",C40<>"労働日"),0,MAX(0,MOD(E40-D40,1)*24-F40/60)) -> 0 | H40: =IF(A40="","",INT((A40-$B$4)/7)+1) | I40: =IF(AND(A40<>"",C40="労働日"),I39+1,0) -> 0 | J40: =IF(AND(A40<>"",ISNUMBER($B$7),ISNUMBER($B$8)),IF(AND(A40>=$B$7,A40<=$B$8),1,0),0) -> 0
A41: =IF(ISNUMBER($B$4),IF(ISNUMBER($B$5),IF($B$4+29<=$B$5,$B$4+29,""),""),"") | B41: =IF(A41="","",CHOOSE(WEEKDAY(A41),"日","月","火","水","木","金","土")) | G41: =IF(OR(A41="",C41<>"労働日"),0,MAX(0,MOD(E41-D41,1)*24-F41/60)) -> 0 | H41: =IF(A41="","",INT((A41-$B$4)/7)+1) | I41: =IF(AND(A41<>"",C41="労働日"),I40+1,0) -> 0 | J41: =IF(AND(A41<>"",ISNUMBER($B$7),ISNUMBER($B$8)),IF(AND(A41>=$B$7,A41<=$B$8),1,0),0) -> 0
A42: =IF(ISNUMBER($B$4),IF(ISNUMBER($B$5),IF($B$4+30<=$B$5,$B$4+30,""),""),"") | B42: =IF(A42="","",CHOOSE(WEEKDAY(A42),"日","月","火","水","木","金","土")) | G42: =IF(OR(A42="",C42<>"労働日"),0,MAX(0,MOD(E42-D42,1)*24-F42/60)) -> 0 | H42: =IF(A42="","",INT((A42-$B$4)/7)+1) | I42: =IF(AND(A42<>"",C42="労働日"),I41+1,0) -> 0 | J42: =IF(AND(A42<>"",ISNUMBER($B$7),ISNUMBER($B$8)),IF(AND(A42>=$B$7,A42<=$B$8),1,0),0) -> 0
...

Sheet 区分表
A1: 別紙 区分表 （対象期間を1箇月ごとに区分した各期間の労働日数・総労働時間）
A2: 区分する場合、最初の期間を除く各期間は、この労働日数と総労働時間を協定に書き、 各期間の初日の少なくとも30日前に、 過半数代表者の同意を得て日ごとの労働日・労働時間を決めます（労基法32条の4第2項）。
A4: 区分 | B4: 最初の日 | C4: 最後の日 | D4: 労働日数 | E4: 総労働時間 | F4: 備考
A5: 1か月目 | B5: =IF(ISNUMBER('年間カレンダー'!$B$4),IF(EDATE('年間カレンダー'!$B$4,0)<='年間カレンダー'!$B$5,EDATE('年間カレンダー'!$B$4,0),""),"") | C5: =IF(B5="","",MIN(EDATE('年間カレンダー'!$B$4,1)-1,'年間カレンダー'!$B$5)) | D5: =IF(B5="","",COUNTIFS('年間カレンダー'!$A$12:$A$377,">="&B5,'年間カレンダー'!$A$12:$A$377,"<="&C5,'年間カレンダー'!$C$12:$C$377,"労働日")) | E5: =IF(B5="","",SUMIFS('年間カレンダー'!$G$12:$G$377,'年間カレンダー'!$A$12:$A$377,">="&B5,'年間カレンダー'!$A$12:$A$377,"<="&C5)) | F5: =IF(B5="","",IF(1=1,"最初の期間（日ごとに定める）","日ごとは30日前までに定める"))
A6: 2か月目 | B6: =IF(ISNUMBER('年間カレンダー'!$B$4),IF(EDATE('年間カレンダー'!$B$4,1)<='年間カレンダー'!$B$5,EDATE('年間カレンダー'!$B$4,1),""),"") | C6: =IF(B6="","",MIN(EDATE('年間カレンダー'!$B$4,2)-1,'年間カレンダー'!$B$5)) | D6: =IF(B6="","",COUNTIFS('年間カレンダー'!$A$12:$A$377,">="&B6,'年間カレンダー'!$A$12:$A$377,"<="&C6,'年間カレンダー'!$C$12:$C$377,"労働日")) | E6: =IF(B6="","",SUMIFS('年間カレンダー'!$G$12:$G$377,'年間カレンダー'!$A$12:$A$377,">="&B6,'年間カレンダー'!$A$12:$A$377,"<="&C6)) | F6: =IF(B6="","",IF(2=1,"最初の期間（日ごとに定める）","日ごとは30日前までに定める"))
A7: 3か月目 | B7: =IF(ISNUMBER('年間カレンダー'!$B$4),IF(EDATE('年間カレンダー'!$B$4,2)<='年間カレンダー'!$B$5,EDATE('年間カレンダー'!$B$4,2),""),"") | C7: =IF(B7="","",MIN(EDATE('年間カレンダー'!$B$4,3)-1,'年間カレンダー'!$B$5)) | D7: =IF(B7="","",COUNTIFS('年間カレンダー'!$A$12:$A$377,">="&B7,'年間カレンダー'!$A$12:$A$377,"<="&C7,'年間カレンダー'!$C$12:$C$377,"労働日")) | E7: =IF(B7="","",SUMIFS('年間カレンダー'!$G$12:$G$377,'年間カレンダー'!$A$12:$A$377,">="&B7,'年間カレンダー'!$A$12:$A$377,"<="&C7)) | F7: =IF(B7="","",IF(3=1,"最初の期間（日ごとに定める）","日ごとは30日前までに定める"))
A8: 4か月目 | B8: =IF(ISNUMBER('年間カレンダー'!$B$4),IF(EDATE('年間カレンダー'!$B$4,3)<='年間カレンダー'!$B$5,EDATE('年間カレンダー'!$B$4,3),""),"") | C8: =IF(B8="","",MIN(EDATE('年間カレンダー'!$B$4,4)-1,'年間カレンダー'!$B$5)) | D8: =IF(B8="","",COUNTIFS('年間カレンダー'!$A$12:$A$377,">="&B8,'年間カレンダー'!$A$12:$A$377,"<="&C8,'年間カレンダー'!$C$12:$C$377,"労働日")) | E8: =IF(B8="","",SUMIFS('年間カレンダー'!$G$12:$G$377,'年間カレンダー'!$A$12:$A$377,">="&B8,'年間カレンダー'!$A$12:$A$377,"<="&C8)) | F8: =IF(B8="","",IF(4=1,"最初の期間（日ごとに定める）","日ごとは30日前までに定める"))
A9: 5か月目 | B9: =IF(ISNUMBER('年間カレンダー'!$B$4),IF(EDATE('年間カレンダー'!$B$4,4)<='年間カレンダー'!$B$5,EDATE('年間カレンダー'!$B$4,4),""),"") | C9: =IF(B9="","",MIN(EDATE('年間カレンダー'!$B$4,5)-1,'年間カレンダー'!$B$5)) | D9: =IF(B9="","",COUNTIFS('年間カレンダー'!$A$12:$A$377,">="&B9,'年間カレンダー'!$A$12:$A$377,"<="&C9,'年間カレンダー'!$C$12:$C$377,"労働日")) | E9: =IF(B9="","",SUMIFS('年間カレンダー'!$G$12:$G$377,'年間カレンダー'!$A$12:$A$377,">="&B9,'年間カレンダー'!$A$12:$A$377,"<="&C9)) | F9: =IF(B9="","",IF(5=1,"最初の期間（日ごとに定める）","日ごとは30日前までに定める"))
A10: 6か月目 | B10: =IF(ISNUMBER('年間カレンダー'!$B$4),IF(EDATE('年間カレンダー'!$B$4,5)<='年間カレンダー'!$B$5,EDATE('年間カレンダー'!$B$4,5),""),"") | C10: =IF(B10="","",MIN(EDATE('年間カレンダー'!$B$4,6)-1,'年間カレンダー'!$B$5)) | D10: =IF(B10="","",COUNTIFS('年間カレンダー'!$A$12:$A$377,">="&B10,'年間カレンダー'!$A$12:$A$377,"<="&C10,'年間カレンダー'!$C$12:$C$377,"労働日")) | E10: =IF(B10="","",SUMIFS('年間カレンダー'!$G$12:$G$377,'年間カレンダー'!$A$12:$A$377,">="&B10,'年間カレンダー'!$A$12:$A$377,"<="&C10)) | F10: =IF(B10="","",IF(6=1,"最初の期間（日ごとに定める）","日ごとは30日前までに定める"))
A11: 7か月目 | B11: =IF(ISNUMBER('年間カレンダー'!$B$4),IF(EDATE('年間カレンダー'!$B$4,6)<='年間カレンダー'!$B$5,EDATE('年間カレンダー'!$B$4,6),""),"") | C11: =IF(B11="","",MIN(EDATE('年間カレンダー'!$B$4,7)-1,'年間カレンダー'!$B$5)) | D11: =IF(B11="","",COUNTIFS('年間カレンダー'!$A$12:$A$377,">="&B11,'年間カレンダー'!$A$12:$A$377,"<="&C11,'年間カレンダー'!$C$12:$C$377,"労働日")) | E11: =IF(B11="","",SUMIFS('年間カレンダー'!$G$12:$G$377,'年間カレンダー'!$A$12:$A$377,">="&B11,'年間カレンダー'!$A$12:$A$377,"<="&C11)) | F11: =IF(B11="","",IF(7=1,"最初の期間（日ごとに定める）","日ごとは30日前までに定める"))
A12: 8か月目 | B12: =IF(ISNUMBER('年間カレンダー'!$B$4),IF(EDATE('年間カレンダー'!$B$4,7)<='年間カレンダー'!$B$5,EDATE('年間カレンダー'!$B$4,7),""),"") | C12: =IF(B12="","",MIN(EDATE('年間カレンダー'!$B$4,8)-1,'年間カレンダー'!$B$5)) | D12: =IF(B12="","",COUNTIFS('年間カレンダー'!$A$12:$A$377,">="&B12,'年間カレンダー'!$A$12:$A$377,"<="&C12,'年間カレンダー'!$C$12:$C$377,"労働日")) | E12: =IF(B12="","",SUMIFS('年間カレンダー'!$G$12:$G$377,'年間カレンダー'!$A$12:$A$377,">="&B12,'年間カレンダー'!$A$12:$A$377,"<="&C12)) | F12: =IF(B12="","",IF(8=1,"最初の期間（日ごとに定める）","日ごとは30日前までに定める"))
A13: 9か月目 | B13: =IF(ISNUMBER('年間カレンダー'!$B$4),IF(EDATE('年間カレンダー'!$B$4,8)<='年間カレンダー'!$B$5,EDATE('年間カレンダー'!$B$4,8),""),"") | C13: =IF(B13="","",MIN(EDATE('年間カレンダー'!$B$4,9)-1,'年間カレンダー'!$B$5)) | D13: =IF(B13="","",COUNTIFS('年間カレンダー'!$A$12:$A$377,">="&B13,'年間カレンダー'!$A$12:$A$377,"<="&C13,'年間カレンダー'!$C$12:$C$377,"労働日")) | E13: =IF(B13="","",SUMIFS('年間カレンダー'!$G$12:$G$377,'年間カレンダー'!$A$12:$A$377,">="&B13,'年間カレンダー'!$A$12:$A$377,"<="&C13)) | F13: =IF(B13="","",IF(9=1,"最初の期間（日ごとに定める）","日ごとは30日前までに定める"))
A14: 10か月目 | B14: =IF(ISNUMBER('年間カレンダー'!$B$4),IF(EDATE('年間カレンダー'!$B$4,9)<='年間カレンダー'!$B$5,EDATE('年間カレンダー'!$B$4,9),""),"") | C14: =IF(B14="","",MIN(EDATE('年間カレンダー'!$B$4,10)-1,'年間カレンダー'!$B$5)) | D14: =IF(B14="","",COUNTIFS('年間カレンダー'!$A$12:$A$377,">="&B14,'年間カレンダー'!$A$12:$A$377,"<="&C14,'年間カレンダー'!$C$12:$C$377,"労働日")) | E14: =IF(B14="","",SUMIFS('年間カレンダー'!$G$12:$G$377,'年間カレンダー'!$A$12:$A$377,">="&B14,'年間カレンダー'!$A$12:$A$377,"<="&C14)) | F14: =IF(B14="","",IF(10=1,"最初の期間（日ごとに定める）","日ごとは30日前までに定める"))
A15: 11か月目 | B15: =IF(ISNUMBER('年間カレンダー'!$B$4),IF(EDATE('年間カレンダー'!$B$4,10)<='年間カレンダー'!$B$5,EDATE('年間カレンダー'!$B$4,10),""),"") | C15: =IF(B15="","",MIN(EDATE('年間カレンダー'!$B$4,11)-1,'年間カレンダー'!$B$5)) | D15: =IF(B15="","",COUNTIFS('年間カレンダー'!$A$12:$A$377,">="&B15,'年間カレンダー'!$A$12:$A$377,"<="&C15,'年間カレンダー'!$C$12:$C$377,"労働日")) | E15: =IF(B15="","",SUMIFS('年間カレンダー'!$G$12:$G$377,'年間カレンダー'!$A$12:$A$377,">="&B15,'年間カレンダー'!$A$12:$A$377,"<="&C15)) | F15: =IF(B15="","",IF(11=1,"最初の期間（日ごとに定める）","日ごとは30日前までに定める"))
A16: 12か月目 | B16: =IF(ISNUMBER('年間カレンダー'!$B$4),IF(EDATE('年間カレンダー'!$B$4,11)<='年間カレンダー'!$B$5,EDATE('年間カレンダー'!$B$4,11),""),"") | C16: =IF(B16="","",MIN(EDATE('年間カレンダー'!$B$4,12)-1,'年間カレンダー'!$B$5)) | D16: =IF(B16="","",COUNTIFS('年間カレンダー'!$A$12:$A$377,">="&B16,'年間カレンダー'!$A$12:$A$377,"<="&C16,'年間カレンダー'!$C$12:$C$377,"労働日")) | E16: =IF(B16="","",SUMIFS('年間カレンダー'!$G$12:$G$377,'年間カレンダー'!$A$12:$A$377,">="&B16,'年間カレンダー'!$A$12:$A$377,"<="&C16)) | F16: =IF(B16="","",IF(12=1,"最初の期間（日ごとに定める）","日ごとは30日前までに定める"))
A17: 合計 | D17: =SUM(D5:D16) -> 0 | E17: =SUM(E5:E16) -> 0

Sheet 判定
A1: 限度基準の判定（労基法32条の4・施行規則12条の4）
A2: 週は、対象期間の開始日から7日ごとに区切って数えています。就業規則等で週の起算日を定めている場合は、その区切りで確かめてください。
A4: 対象期間の暦日数 | B4: ='年間カレンダー'!B6
A5: 対象期間の長さ | B5: =IF(B4="","未入力",IF(OR('年間カレンダー'!B5<EDATE('年間カレンダー'!B4,1),'年間カレンダー'!B5>EDATE('年間カレンダー'!B4,12)-1),"範囲外",IF('年間カレンダー'!B5>EDATE('年間カレンダー'!B4,3)-1,"3箇月超","3箇月以内"))) -> 未入力
A6: 区分が空の日の数 | B6: =SUMPRODUCT(('年間カレンダー'!$A$12:$A$377<>"")*('年間カレンダー'!$C$12:$C$377="")) -> 0
A8: 項目 | B8: あなたの値 | C8: 限度 | D8: 判定
A9: 労働日数（対象期間3箇月超のとき） | B9: =SUMPRODUCT(('年間カレンダー'!$C$12:$C$377="労働日")*('年間カレンダー'!$A$12:$A$377<>"")) -> 0 | C9: 280日以内（1年当たり） | D9: =IF(B4="","未入力",IF(B5="3箇月以内","対象外(3箇月以内)",IF(B5<>"3箇月超","対象期間を確認",IF(B9>280,"超過",IF('年間カレンダー'!B5>=EDATE('年間カレンダー'!B4,12)-1,"範囲内","要確認(1年未満は数え方を確認)"))))) -> 未入力
A10: 対象期間の総労働時間の上限（40時間×暦日数÷7） | B10: =IF(B4="","",40*B4/7) | C10: この値が上限です
A11: 総所定労働時間（平均して週40時間以内か） | B11: =SUM('年間カレンダー'!$G$12:$G$377) -> 0 | C11: 上限以内（法32条の4第1項） | D11: =IF(OR(B4="",B6>0),"未入力",IF(B11<=B10,"範囲内","超過")) -> 未入力
A12: 1日の最長労働時間 | B12: =MAX('年間カレンダー'!$G$12:$G$377) -> 0 | C12: 10時間以内 | D12: =IF(B6>0,"未入力",IF(B12<=10,"範囲内","超過")) -> 範囲内
A13: 1週間の最長労働時間 | B13: =MAX(H27:H79) -> 0 | C13: 52時間以内 | D13: =IF(B6>0,"未入力",IF(B13<=52,"範囲内","超過")) -> 範囲内
A14: 週48時間を超える週の連続（最大・週） | B14: =MAX(J27:J79) -> 0 | C14: 3週以下（3箇月超のとき） | D14: =IF(B5<>"3箇月超","対象外(3箇月以内)",IF(B6>0,"未入力",IF(B14<=3,"範囲内","超過"))) -> 対象外(3箇月以内)
A15: 3箇月ごとの区分で48時間超の週の初日の数（最大） | B15: =MAX(O27:O30) -> 0 | C15: 3以下（3箇月超のとき） | D15: =IF(B5<>"3箇月超","対象外(3箇月以内)",IF(B6>0,"未入力",IF(B15<=3,"範囲内","超過"))) -> 対象外(3箇月以内)
A16: 連続労働日数の最大（特定期間を除く） | B16: =SUMPRODUCT(MAX(('年間カレンダー'!$J$12:$J$377=0)*'年間カレンダー'!$I$12:$I$377)) -> 0 | C16: 6日以内 | D16: =IF(B6>0,"未入力",IF(B16<=6,"範囲内","超過")) -> 範囲内
A17: 連続労働日数の最大（特定期間） | B17: =SUMPRODUCT(MAX(('年間カレンダー'!$J$12:$J$377=1)*'年間カレンダー'!$I$12:$I$377)) -> 0 | C17: 12日以内（条文の「1週間に1日の休日」から計算した目安） | D17: =IF(B6>0,"未入力",IF(B17<=12,"範囲内(計算上の目安)","要確認")) -> 範囲内(計算上の目安)
A19: 【根拠】 280日・1日10時間・1週52時間・週48時間超（連続3週以下・初日から3箇月ごとに区分した各期間で週の初日が3以下）・連続労働日数6日＝施行規則12条の4第3項〜第5項。平均して週40時間以内＝労働基準法32条の4第1項。特定期間の連続労働日数は、条文が「一週間に一日の休日が確保できる日数」とだけ定めているため、休日を週の最初の日と次の週の最後の日に置いた計算値の12日を目安にしています（条文に12日という数字はありません）。対象期間が1年未満のときの280日の数え方は条文に書いていないので、280日を超えていなければ「要確認」と表示します。特定期間に入った日の連続労働日数は特定期間の欄で数えます。この表はセルフチェック用の簡易ツールです。
F26: 週 | G26: 週の初日 | H26: 労働時間 | I26: 48時間超 | J26: 48超の連続 | K26: 3箇月区分 | M26: 区分 | N26: 最初の日 | O26: 48超の週の初日の数
F27: 1 | G27: =IF(ISNUMBER('年間カレンダー'!$B$4),IF('年間カレンダー'!$B$4+0<='年間カレンダー'!$B$5,'年間カレンダー'!$B$4+0,""),"") | H27: =IF(G27="","",SUMIF('年間カレンダー'!$H$12:$H$377,F27,'年間カレンダー'!$G$12:$G$377)) | I27: =IF(G27="",0,IF(H27>48,1,0)) -> 0 | J27: =IF(I27=1,0+1,0) -> 0 | K27: =IF(G27="","",COUNTIF($N$27:$N$30,"<="&G27)) | M27: 1 | N27: =IF(ISNUMBER('年間カレンダー'!$B$4),EDATE('年間カレンダー'!$B$4,0),"") | O27: =SUMIF($K$27:$K$79,M27,$I$27:$I$79) -> 0
F28: 2 | G28: =IF(ISNUMBER('年間カレンダー'!$B$4),IF('年間カレンダー'!$B$4+7<='年間カレンダー'!$B$5,'年間カレンダー'!$B$4+7,""),"") | H28: =IF(G28="","",SUMIF('年間カレンダー'!$H$12:$H$377,F28,'年間カレンダー'!$G$12:$G$377)) | I28: =IF(G28="",0,IF(H28>48,1,0)) -> 0 | J28: =IF(I28=1,J27+1,0) -> 0 | K28: =IF(G28="","",COUNTIF($N$27:$N$30,"<="&G28)) | M28: 2 | N28: =IF(ISNUMBER('年間カレンダー'!$B$4),EDATE('年間カレンダー'!$B$4,3),"") | O28: =SUMIF($K$27:$K$79,M28,$I$27:$I$79) -> 0
F29: 3 | G29: =IF(ISNUMBER('年間カレンダー'!$B$4),IF('年間カレンダー'!$B$4+14<='年間カレンダー'!$B$5,'年間カレンダー'!$B$4+14,""),"") | H29: =IF(G29="","",SUMIF('年間カレンダー'!$H$12:$H$377,F29,'年間カレンダー'!$G$12:$G$377)) | I29: =IF(G29="",0,IF(H29>48,1,0)) -> 0 | J29: =IF(I29=1,J28+1,0) -> 0 | K29: =IF(G29="","",COUNTIF($N$27:$N$30,"<="&G29)) | M29: 3 | N29: =IF(ISNUMBER('年間カレンダー'!$B$4),EDATE('年間カレンダー'!$B$4,6),"") | O29: =SUMIF($K$27:$K$79,M29,$I$27:$I$79) -> 0
F30: 4 | G30: =IF(ISNUMBER('年間カレンダー'!$B$4),IF('年間カレンダー'!$B$4+21<='年間カレンダー'!$B$5,'年間カレンダー'!$B$4+21,""),"") | H30: =IF(G30="","",SUMIF('年間カレンダー'!$H$12:$H$377,F30,'年間カレンダー'!$G$12:$G$377)) | I30: =IF(G30="",0,IF(H30>48,1,0)) -> 0 | J30: =IF(I30=1,J29+1,0) -> 0 | K30: =IF(G30="","",COUNTIF($N$27:$N$30,"<="&G30)) | M30: 4 | N30: =IF(ISNUMBER('年間カレンダー'!$B$4),EDATE('年間カレンダー'!$B$4,9),"") | O30: =SUMIF($K$27:$K$79,M30,$I$27:$I$79) -> 0
F31: 5 | G31: =IF(ISNUMBER('年間カレンダー'!$B$4),IF('年間カレンダー'!$B$4+28<='年間カレンダー'!$B$5,'年間カレンダー'!$B$4+28,""),"") | H31: =IF(G31="","",SUMIF('年間カレンダー'!$H$12:$H$377,F31,'年間カレンダー'!$G$12:$G$377)) | I31: =IF(G31="",0,IF(H31>48,1,0)) -> 0 | J31: =IF(I31=1,J30+1,0) -> 0 | K31: =IF(G31="","",COUNTIF($N$27:$N$30,"<="&G31))
F32: 6 | G32: =IF(ISNUMBER('年間カレンダー'!$B$4),IF('年間カレンダー'!$B$4+35<='年間カレンダー'!$B$5,'年間カレンダー'!$B$4+35,""),"") | H32: =IF(G32="","",SUMIF('年間カレンダー'!$H$12:$H$377,F32,'年間カレンダー'!$G$12:$G$377)) | I32: =IF(G32="",0,IF(H32>48,1,0)) -> 0 | J32: =IF(I32=1,J31+1,0) -> 0 | K32: =IF(G32="","",COUNTIF($N$27:$N$30,"<="&G32))
F33: 7 | G33: =IF(ISNUMBER('年間カレンダー'!$B$4),IF('年間カレンダー'!$B$4+42<='年間カレンダー'!$B$5,'年間カレンダー'!$B$4+42,""),"") | H33: =IF(G33="","",SUMIF('年間カレンダー'!$H$12:$H$377,F33,'年間カレンダー'!$G$12:$G$377)) | I33: =IF(G33="",0,IF(H33>48,1,0)) -> 0 | J33: =IF(I33=1,J32+1,0) -> 0 | K33: =IF(G33="","",COUNTIF($N$27:$N$30,"<="&G33))
F34: 8 | G34: =IF(ISNUMBER('年間カレンダー'!$B$4),IF('年間カレンダー'!$B$4+49<='年間カレンダー'!$B$5,'年間カレンダー'!$B$4+49,""),"") | H34: =IF(G34="","",SUMIF('年間カレンダー'!$H$12:$H$377,F34,'年間カレンダー'!$G$12:$G$377)) | I34: =IF(G34="",0,IF(H34>48,1,0)) -> 0 | J34: =IF(I34=1,J33+1,0) -> 0 | K34: =IF(G34="","",COUNTIF($N$27:$N$30,"<="&G34))
F35: 9 | G35: =IF(ISNUMBER('年間カレンダー'!$B$4),IF('年間カレンダー'!$B$4+56<='年間カレンダー'!$B$5,'年間カレンダー'!$B$4+56,""),"") | H35: =IF(G35="","",SUMIF('年間カレンダー'!$H$12:$H$377,F35,'年間カレンダー'!$G$12:$G$377)) | I35: =IF(G35="",0,IF(H35>48,1,0)) -> 0 | J35: =IF(I35=1,J34+1,0) -> 0 | K35: =IF(G35="","",COUNTIF($N$27:$N$30,"<="&G35))
F36: 10 | G36: =IF(ISNUMBER('年間カレンダー'!$B$4),IF('年間カレンダー'!$B$4+63<='年間カレンダー'!$B$5,'年間カレンダー'!$B$4+63,""),"") | H36: =IF(G36="","",SUMIF('年間カレンダー'!$H$12:$H$377,F36,'年間カレンダー'!$G$12:$G$377)) | I36: =IF(G36="",0,IF(H36>48,1,0)) -> 0 | J36: =IF(I36=1,J35+1,0) -> 0 | K36: =IF(G36="","",COUNTIF($N$27:$N$30,"<="&G36))
F37: 11 | G37: =IF(ISNUMBER('年間カレンダー'!$B$4),IF('年間カレンダー'!$B$4+70<='年間カレンダー'!$B$5,'年間カレンダー'!$B$4+70,""),"") | H37: =IF(G37="","",SUMIF('年間カレンダー'!$H$12:$H$377,F37,'年間カレンダー'!$G$12:$G$377)) | I37: =IF(G37="",0,IF(H37>48,1,0)) -> 0 | J37: =IF(I37=1,J36+1,0) -> 0 | K37: =IF(G37="","",COUNTIF($N$27:$N$30,"<="&G37))
F38: 12 | G38: =IF(ISNUMBER('年間カレンダー'!$B$4),IF('年間カレンダー'!$B$4+77<='年間カレンダー'!$B$5,'年間カレンダー'!$B$4+77,""),"") | H38: =IF(G38="","",SUMIF('年間カレンダー'!$H$12:$H$377,F38,'年間カレンダー'!$G$12:$G$377)) | I38: =IF(G38="",0,IF(H38>48,1,0)) -> 0 | J38: =IF(I38=1,J37+1,0) -> 0 | K38: =IF(G38="","",COUNTIF($N$27:$N$30,"<="&G38))
F39: 13 | G39: =IF(ISNUMBER('年間カレンダー'!$B$4),IF('年間カレンダー'!$B$4+84<='年間カレンダー'!$B$5,'年間カレンダー'!$B$4+84,""),"") | H39: =IF(G39="","",SUMIF('年間カレンダー'!$H$12:$H$377,F39,'年間カレンダー'!$G$12:$G$377)) | I39: =IF(G39="",0,IF(H39>48,1,0)) -> 0 | J39: =IF(I39=1,J38+1,0) -> 0 | K39: =IF(G39="","",COUNTIF($N$27:$N$30,"<="&G39))
F40: 14 | G40: =IF(ISNUMBER('年間カレンダー'!$B$4),IF('年間カレンダー'!$B$4+91<='年間カレンダー'!$B$5,'年間カレンダー'!$B$4+91,""),"") | H40: =IF(G40="","",SUMIF('年間カレンダー'!$H$12:$H$377,F40,'年間カレンダー'!$G$12:$G$377)) | I40: =IF(G40="",0,IF(H40>48,1,0)) -> 0 | J40: =IF(I40=1,J39+1,0) -> 0 | K40: =IF(G40="","",COUNTIF($N$27:$N$30,"<="&G40))
F41: 15 | G41: =IF(ISNUMBER('年間カレンダー'!$B$4),IF('年間カレンダー'!$B$4+98<='年間カレンダー'!$B$5,'年間カレンダー'!$B$4+98,""),"") | H41: =IF(G41="","",SUMIF('年間カレンダー'!$H$12:$H$377,F41,'年間カレンダー'!$G$12:$G$377)) | I41: =IF(G41="",0,IF(H41>48,1,0)) -> 0 | J41: =IF(I41=1,J40+1,0) -> 0 | K41: =IF(G41="","",COUNTIF($N$27:$N$30,"<="&G41))
F42: 16 | G42: =IF(ISNUMBER('年間カレンダー'!$B$4),IF('年間カレンダー'!$B$4+105<='年間カレンダー'!$B$5,'年間カレンダー'!$B$4+105,""),"") | H42: =IF(G42="","",SUMIF('年間カレンダー'!$H$12:$H$377,F42,'年間カレンダー'!$G$12:$G$377)) | I42: =IF(G42="",0,IF(H42>48,1,0)) -> 0 | J42: =IF(I42=1,J41+1,0) -> 0 | K42: =IF(G42="","",COUNTIF($N$27:$N$30,"<="&G42))
F43: 17 | G43: =IF(ISNUMBER('年間カレンダー'!$B$4),IF('年間カレンダー'!$B$4+112<='年間カレンダー'!$B$5,'年間カレンダー'!$B$4+112,""),"") | H43: =IF(G43="","",SUMIF('年間カレンダー'!$H$12:$H$377,F43,'年間カレンダー'!$G$12:$G$377)) | I43: =IF(G43="",0,IF(H43>48,1,0)) -> 0 | J43: =IF(I43=1,J42+1,0) -> 0 | K43: =IF(G43="","",COUNTIF($N$27:$N$30,"<="&G43))
F44: 18 | G44: =IF(ISNUMBER('年間カレンダー'!$B$4),IF('年間カレンダー'!$B$4+119<='年間カレンダー'!$B$5,'年間カレンダー'!$B$4+119,""),"") | H44: =IF(G44="","",SUMIF('年間カレンダー'!$H$12:$H$377,F44,'年間カレンダー'!$G$12:$G$377)) | I44: =IF(G44="",0,IF(H44>48,1,0)) -> 0 | J44: =IF(I44=1,J43+1,0) -> 0 | K44: =IF(G44="","",COUNTIF($N$27:$N$30,"<="&G44))
F45: 19 | G45: =IF(ISNUMBER('年間カレンダー'!$B$4),IF('年間カレンダー'!$B$4+126<='年間カレンダー'!$B$5,'年間カレンダー'!$B$4+126,""),"") | H45: =IF(G45="","",SUMIF('年間カレンダー'!$H$12:$H$377,F45,'年間カレンダー'!$G$12:$G$377)) | I45: =IF(G45="",0,IF(H45>48,1,0)) -> 0 | J45: =IF(I45=1,J44+1,0) -> 0 | K45: =IF(G45="","",COUNTIF($N$27:$N$30,"<="&G45))
F46: 20 | G46: =IF(ISNUMBER('年間カレンダー'!$B$4),IF('年間カレンダー'!$B$4+133<='年間カレンダー'!$B$5,'年間カレンダー'!$B$4+133,""),"") | H46: =IF(G46="","",SUMIF('年間カレンダー'!$H$12:$H$377,F46,'年間カレンダー'!$G$12:$G$377)) | I46: =IF(G46="",0,IF(H46>48,1,0)) -> 0 | J46: =IF(I46=1,J45+1,0) -> 0 | K46: =IF(G46="","",COUNTIF($N$27:$N$30,"<="&G46))
F47: 21 | G47: =IF(ISNUMBER('年間カレンダー'!$B$4),IF('年間カレンダー'!$B$4+140<='年間カレンダー'!$B$5,'年間カレンダー'!$B$4+140,""),"") | H47: =IF(G47="","",SUMIF('年間カレンダー'!$H$12:$H$377,F47,'年間カレンダー'!$G$12:$G$377)) | I47: =IF(G47="",0,IF(H47>48,1,0)) -> 0 | J47: =IF(I47=1,J46+1,0) -> 0 | K47: =IF(G47="","",COUNTIF($N$27:$N$30,"<="&G47))
F48: 22 | G48: =IF(ISNUMBER('年間カレンダー'!$B$4),IF('年間カレンダー'!$B$4+147<='年間カレンダー'!$B$5,'年間カレンダー'!$B$4+147,""),"") | H48: =IF(G48="","",SUMIF('年間カレンダー'!$H$12:$H$377,F48,'年間カレンダー'!$G$12:$G$377)) | I48: =IF(G48="",0,IF(H48>48,1,0)) -> 0 | J48: =IF(I48=1,J47+1,0) -> 0 | K48: =IF(G48="","",COUNTIF($N$27:$N$30,"<="&G48))
F49: 23 | G49: =IF(ISNUMBER('年間カレンダー'!$B$4),IF('年間カレンダー'!$B$4+154<='年間カレンダー'!$B$5,'年間カレンダー'!$B$4+154,""),"") | H49: =IF(G49="","",SUMIF('年間カレンダー'!$H$12:$H$377,F49,'年間カレンダー'!$G$12:$G$377)) | I49: =IF(G49="",0,IF(H49>48,1,0)) -> 0 | J49: =IF(I49=1,J48+1,0) -> 0 | K49: =IF(G49="","",COUNTIF($N$27:$N$30,"<="&G49))
...

Sheet 記入例_年間カレンダー
A1: 別紙 年間カレンダー（1年単位の変形労働時間制）・記入例
A2: 黄色のセルに入力します。区分表と判定のシートは自動で計算します。
A4: 対象期間の開始日 | B4: 46296
A5: 対象期間の終了日 | B5: 46660 | D5: ← 1年のときは自動で入ります。1年未満のときは日付を入れ直します。
A6: 対象期間の暦日数 | B6: =IF(AND(ISNUMBER(B4),ISNUMBER(B5)),B5-B4+1,"") -> 365
A7: 特定期間（開始） | B7: 46357
A8: 特定期間（終了） | B8: 46384 | D8: ← 特定期間を定めないときは空欄
A10: 日ごとの勤務（区分・始業・終業・休憩を入力）
A11: 日付 | B11: 曜日 | C11: 区分 | D11: 始業 | E11: 終業 | F11: 休憩（分） | G11: 労働時間 | H11: 週 | I11: 連続労働日数 | J11: 特定期間
A12: =IF(ISNUMBER($B$4),IF(ISNUMBER($B$5),IF($B$4+0<=$B$5,$B$4+0,""),""),"") -> 46296 | B12: =IF(A12="","",CHOOSE(WEEKDAY(A12),"日","月","火","水","木","金","土")) -> 木 | C12: 労働日 | D12: 0.375 | E12: 0.75 | F12: 60 | G12: =IF(OR(A12="",C12<>"労働日"),0,MAX(0,MOD(E12-D12,1)*24-F12/60)) -> 8 | H12: =IF(A12="","",INT((A12-$B$4)/7)+1) -> 1 | I12: =IF(AND(A12<>"",C12="労働日"),0+1,0) -> 1 | J12: =IF(AND(A12<>"",ISNUMBER($B$7),ISNUMBER($B$8)),IF(AND(A12>=$B$7,A12<=$B$8),1,0),0) -> 0
A13: =IF(ISNUMBER($B$4),IF(ISNUMBER($B$5),IF($B$4+1<=$B$5,$B$4+1,""),""),"") -> 46297 | B13: =IF(A13="","",CHOOSE(WEEKDAY(A13),"日","月","火","水","木","金","土")) -> 金 | C13: 労働日 | D13: 0.375 | E13: 0.75 | F13: 60 | G13: =IF(OR(A13="",C13<>"労働日"),0,MAX(0,MOD(E13-D13,1)*24-F13/60)) -> 8 | H13: =IF(A13="","",INT((A13-$B$4)/7)+1) -> 1 | I13: =IF(AND(A13<>"",C13="労働日"),I12+1,0) -> 2 | J13: =IF(AND(A13<>"",ISNUMBER($B$7),ISNUMBER($B$8)),IF(AND(A13>=$B$7,A13<=$B$8),1,0),0) -> 0
A14: =IF(ISNUMBER($B$4),IF(ISNUMBER($B$5),IF($B$4+2<=$B$5,$B$4+2,""),""),"") -> 46298 | B14: =IF(A14="","",CHOOSE(WEEKDAY(A14),"日","月","火","水","木","金","土")) -> 土 | C14: 休日 | G14: =IF(OR(A14="",C14<>"労働日"),0,MAX(0,MOD(E14-D14,1)*24-F14/60)) -> 0 | H14: =IF(A14="","",INT((A14-$B$4)/7)+1) -> 1 | I14: =IF(AND(A14<>"",C14="労働日"),I13+1,0) -> 0 | J14: =IF(AND(A14<>"",ISNUMBER($B$7),ISNUMBER($B$8)),IF(AND(A14>=$B$7,A14<=$B$8),1,0),0) -> 0
A15: =IF(ISNUMBER($B$4),IF(ISNUMBER($B$5),IF($B$4+3<=$B$5,$B$4+3,""),""),"") -> 46299 | B15: =IF(A15="","",CHOOSE(WEEKDAY(A15),"日","月","火","水","木","金","土")) -> 日 | C15: 休日 | G15: =IF(OR(A15="",C15<>"労働日"),0,MAX(0,MOD(E15-D15,1)*24-F15/60)) -> 0 | H15: =IF(A15="","",INT((A15-$B$4)/7)+1) -> 1 | I15: =IF(AND(A15<>"",C15="労働日"),I14+1,0) -> 0 | J15: =IF(AND(A15<>"",ISNUMBER($B$7),ISNUMBER($B$8)),IF(AND(A15>=$B$7,A15<=$B$8),1,0),0) -> 0
A16: =IF(ISNUMBER($B$4),IF(ISNUMBER($B$5),IF($B$4+4<=$B$5,$B$4+4,""),""),"") -> 46300 | B16: =IF(A16="","",CHOOSE(WEEKDAY(A16),"日","月","火","水","木","金","土")) -> 月 | C16: 労働日 | D16: 0.375 | E16: 0.75 | F16: 60 | G16: =IF(OR(A16="",C16<>"労働日"),0,MAX(0,MOD(E16-D16,1)*24-F16/60)) -> 8 | H16: =IF(A16="","",INT((A16-$B$4)/7)+1) -> 1 | I16: =IF(AND(A16<>"",C16="労働日"),I15+1,0) -> 1 | J16: =IF(AND(A16<>"",ISNUMBER($B$7),ISNUMBER($B$8)),IF(AND(A16>=$B$7,A16<=$B$8),1,0),0) -> 0
A17: =IF(ISNUMBER($B$4),IF(ISNUMBER($B$5),IF($B$4+5<=$B$5,$B$4+5,""),""),"") -> 46301 | B17: =IF(A17="","",CHOOSE(WEEKDAY(A17),"日","月","火","水","木","金","土")) -> 火 | C17: 労働日 | D17: 0.375 | E17: 0.75 | F17: 60 | G17: =IF(OR(A17="",C17<>"労働日"),0,MAX(0,MOD(E17-D17,1)*24-F17/60)) -> 8 | H17: =IF(A17="","",INT((A17-$B$4)/7)+1) -> 1 | I17: =IF(AND(A17<>"",C17="労働日"),I16+1,0) -> 2 | J17: =IF(AND(A17<>"",ISNUMBER($B$7),ISNUMBER($B$8)),IF(AND(A17>=$B$7,A17<=$B$8),1,0),0) -> 0
A18: =IF(ISNUMBER($B$4),IF(ISNUMBER($B$5),IF($B$4+6<=$B$5,$B$4+6,""),""),"") -> 46302 | B18: =IF(A18="","",CHOOSE(WEEKDAY(A18),"日","月","火","水","木","金","土")) -> 水 | C18: 労働日 | D18: 0.375 | E18: 0.75 | F18: 60 | G18: =IF(OR(A18="",C18<>"労働日"),0,MAX(0,MOD(E18-D18,1)*24-F18/60)) -> 8 | H18: =IF(A18="","",INT((A18-$B$4)/7)+1) -> 1 | I18: =IF(AND(A18<>"",C18="労働日"),I17+1,0) -> 3 | J18: =IF(AND(A18<>"",ISNUMBER($B$7),ISNUMBER($B$8)),IF(AND(A18>=$B$7,A18<=$B$8),1,0),0) -> 0
A19: =IF(ISNUMBER($B$4),IF(ISNUMBER($B$5),IF($B$4+7<=$B$5,$B$4+7,""),""),"") -> 46303 | B19: =IF(A19="","",CHOOSE(WEEKDAY(A19),"日","月","火","水","木","金","土")) -> 木 | C19: 労働日 | D19: 0.375 | E19: 0.75 | F19: 60 | G19: =IF(OR(A19="",C19<>"労働日"),0,MAX(0,MOD(E19-D19,1)*24-F19/60)) -> 8 | H19: =IF(A19="","",INT((A19-$B$4)/7)+1) -> 2 | I19: =IF(AND(A19<>"",C19="労働日"),I18+1,0) -> 4 | J19: =IF(AND(A19<>"",ISNUMBER($B$7),ISNUMBER($B$8)),IF(AND(A19>=$B$7,A19<=$B$8),1,0),0) -> 0
A20: =IF(ISNUMBER($B$4),IF(ISNUMBER($B$5),IF($B$4+8<=$B$5,$B$4+8,""),""),"") -> 46304 | B20: =IF(A20="","",CHOOSE(WEEKDAY(A20),"日","月","火","水","木","金","土")) -> 金 | C20: 労働日 | D20: 0.375 | E20: 0.75 | F20: 60 | G20: =IF(OR(A20="",C20<>"労働日"),0,MAX(0,MOD(E20-D20,1)*24-F20/60)) -> 8 | H20: =IF(A20="","",INT((A20-$B$4)/7)+1) -> 2 | I20: =IF(AND(A20<>"",C20="労働日"),I19+1,0) -> 5 | J20: =IF(AND(A20<>"",ISNUMBER($B$7),ISNUMBER($B$8)),IF(AND(A20>=$B$7,A20<=$B$8),1,0),0) -> 0
A21: =IF(ISNUMBER($B$4),IF(ISNUMBER($B$5),IF($B$4+9<=$B$5,$B$4+9,""),""),"") -> 46305 | B21: =IF(A21="","",CHOOSE(WEEKDAY(A21),"日","月","火","水","木","金","土")) -> 土 | C21: 休日 | G21: =IF(OR(A21="",C21<>"労働日"),0,MAX(0,MOD(E21-D21,1)*24-F21/60)) -> 0 | H21: =IF(A21="","",INT((A21-$B$4)/7)+1) -> 2 | I21: =IF(AND(A21<>"",C21="労働日"),I20+1,0) -> 0 | J21: =IF(AND(A21<>"",ISNUMBER($B$7),ISNUMBER($B$8)),IF(AND(A21>=$B$7,A21<=$B$8),1,0),0) -> 0
A22: =IF(ISNUMBER($B$4),IF(ISNUMBER($B$5),IF($B$4+10<=$B$5,$B$4+10,""),""),"") -> 46306 | B22: =IF(A22="","",CHOOSE(WEEKDAY(A22),"日","月","火","水","木","金","土")) -> 日 | C22: 休日 | G22: =IF(OR(A22="",C22<>"労働日"),0,MAX(0,MOD(E22-D22,1)*24-F22/60)) -> 0 | H22: =IF(A22="","",INT((A22-$B$4)/7)+1) -> 2 | I22: =IF(AND(A22<>"",C22="労働日"),I21+1,0) -> 0 | J22: =IF(AND(A22<>"",ISNUMBER($B$7),ISNUMBER($B$8)),IF(AND(A22>=$B$7,A22<=$B$8),1,0),0) -> 0
A23: =IF(ISNUMBER($B$4),IF(ISNUMBER($B$5),IF($B$4+11<=$B$5,$B$4+11,""),""),"") -> 46307 | B23: =IF(A23="","",CHOOSE(WEEKDAY(A23),"日","月","火","水","木","金","土")) -> 月 | C23: 労働日 | D23: 0.375 | E23: 0.75 | F23: 60 | G23: =IF(OR(A23="",C23<>"労働日"),0,MAX(0,MOD(E23-D23,1)*24-F23/60)) -> 8 | H23: =IF(A23="","",INT((A23-$B$4)/7)+1) -> 2 | I23: =IF(AND(A23<>"",C23="労働日"),I22+1,0) -> 1 | J23: =IF(AND(A23<>"",ISNUMBER($B$7),ISNUMBER($B$8)),IF(AND(A23>=$B$7,A23<=$B$8),1,0),0) -> 0
A24: =IF(ISNUMBER($B$4),IF(ISNUMBER($B$5),IF($B$4+12<=$B$5,$B$4+12,""),""),"") -> 46308 | B24: =IF(A24="","",CHOOSE(WEEKDAY(A24),"日","月","火","水","木","金","土")) -> 火 | C24: 労働日 | D24: 0.375 | E24: 0.75 | F24: 60 | G24: =IF(OR(A24="",C24<>"労働日"),0,MAX(0,MOD(E24-D24,1)*24-F24/60)) -> 8 | H24: =IF(A24="","",INT((A24-$B$4)/7)+1) -> 2 | I24: =IF(AND(A24<>"",C24="労働日"),I23+1,0) -> 2 | J24: =IF(AND(A24<>"",ISNUMBER($B$7),ISNUMBER($B$8)),IF(AND(A24>=$B$7,A24<=$B$8),1,0),0) -> 0
A25: =IF(ISNUMBER($B$4),IF(ISNUMBER($B$5),IF($B$4+13<=$B$5,$B$4+13,""),""),"") -> 46309 | B25: =IF(A25="","",CHOOSE(WEEKDAY(A25),"日","月","火","水","木","金","土")) -> 水 | C25: 労働日 | D25: 0.375 | E25: 0.75 | F25: 60 | G25: =IF(OR(A25="",C25<>"労働日"),0,MAX(0,MOD(E25-D25,1)*24-F25/60)) -> 8 | H25: =IF(A25="","",INT((A25-$B$4)/7)+1) -> 2 | I25: =IF(AND(A25<>"",C25="労働日"),I24+1,0) -> 3 | J25: =IF(AND(A25<>"",ISNUMBER($B$7),ISNUMBER($B$8)),IF(AND(A25>=$B$7,A25<=$B$8),1,0),0) -> 0
A26: =IF(ISNUMBER($B$4),IF(ISNUMBER($B$5),IF($B$4+14<=$B$5,$B$4+14,""),""),"") -> 46310 | B26: =IF(A26="","",CHOOSE(WEEKDAY(A26),"日","月","火","水","木","金","土")) -> 木 | C26: 労働日 | D26: 0.375 | E26: 0.75 | F26: 60 | G26: =IF(OR(A26="",C26<>"労働日"),0,MAX(0,MOD(E26-D26,1)*24-F26/60)) -> 8 | H26: =IF(A26="","",INT((A26-$B$4)/7)+1) -> 3 | I26: =IF(AND(A26<>"",C26="労働日"),I25+1,0) -> 4 | J26: =IF(AND(A26<>"",ISNUMBER($B$7),ISNUMBER($B$8)),IF(AND(A26>=$B$7,A26<=$B$8),1,0),0) -> 0
A27: =IF(ISNUMBER($B$4),IF(ISNUMBER($B$5),IF($B$4+15<=$B$5,$B$4+15,""),""),"") -> 46311 | B27: =IF(A27="","",CHOOSE(WEEKDAY(A27),"日","月","火","水","木","金","土")) -> 金 | C27: 労働日 | D27: 0.375 | E27: 0.75 | F27: 60 | G27: =IF(OR(A27="",C27<>"労働日"),0,MAX(0,MOD(E27-D27,1)*24-F27/60)) -> 8 | H27: =IF(A27="","",INT((A27-$B$4)/7)+1) -> 3 | I27: =IF(AND(A27<>"",C27="労働日"),I26+1,0) -> 5 | J27: =IF(AND(A27<>"",ISNUMBER($B$7),ISNUMBER($B$8)),IF(AND(A27>=$B$7,A27<=$B$8),1,0),0) -> 0
A28: =IF(ISNUMBER($B$4),IF(ISNUMBER($B$5),IF($B$4+16<=$B$5,$B$4+16,""),""),"") -> 46312 | B28: =IF(A28="","",CHOOSE(WEEKDAY(A28),"日","月","火","水","木","金","土")) -> 土 | C28: 休日 | G28: =IF(OR(A28="",C28<>"労働日"),0,MAX(0,MOD(E28-D28,1)*24-F28/60)) -> 0 | H28: =IF(A28="","",INT((A28-$B$4)/7)+1) -> 3 | I28: =IF(AND(A28<>"",C28="労働日"),I27+1,0) -> 0 | J28: =IF(AND(A28<>"",ISNUMBER($B$7),ISNUMBER($B$8)),IF(AND(A28>=$B$7,A28<=$B$8),1,0),0) -> 0
A29: =IF(ISNUMBER($B$4),IF(ISNUMBER($B$5),IF($B$4+17<=$B$5,$B$4+17,""),""),"") -> 46313 | B29: =IF(A29="","",CHOOSE(WEEKDAY(A29),"日","月","火","水","木","金","土")) -> 日 | C29: 休日 | G29: =IF(OR(A29="",C29<>"労働日"),0,MAX(0,MOD(E29-D29,1)*24-F29/60)) -> 0 | H29: =IF(A29="","",INT((A29-$B$4)/7)+1) -> 3 | I29: =IF(AND(A29<>"",C29="労働日"),I28+1,0) -> 0 | J29: =IF(AND(A29<>"",ISNUMBER($B$7),ISNUMBER($B$8)),IF(AND(A29>=$B$7,A29<=$B$8),1,0),0) -> 0
A30: =IF(ISNUMBER($B$4),IF(ISNUMBER($B$5),IF($B$4+18<=$B$5,$B$4+18,""),""),"") -> 46314 | B30: =IF(A30="","",CHOOSE(WEEKDAY(A30),"日","月","火","水","木","金","土")) -> 月 | C30: 労働日 | D30: 0.375 | E30: 0.75 | F30: 60 | G30: =IF(OR(A30="",C30<>"労働日"),0,MAX(0,MOD(E30-D30,1)*24-F30/60)) -> 8 | H30: =IF(A30="","",INT((A30-$B$4)/7)+1) -> 3 | I30: =IF(AND(A30<>"",C30="労働日"),I29+1,0) -> 1 | J30: =IF(AND(A30<>"",ISNUMBER($B$7),ISNUMBER($B$8)),IF(AND(A30>=$B$7,A30<=$B$8),1,0),0) -> 0
A31: =IF(ISNUMBER($B$4),IF(ISNUMBER($B$5),IF($B$4+19<=$B$5,$B$4+19,""),""),"") -> 46315 | B31: =IF(A31="","",CHOOSE(WEEKDAY(A31),"日","月","火","水","木","金","土")) -> 火 | C31: 労働日 | D31: 0.375 | E31: 0.75 | F31: 60 | G31: =IF(OR(A31="",C31<>"労働日"),0,MAX(0,MOD(E31-D31,1)*24-F31/60)) -> 8 | H31: =IF(A31="","",INT((A31-$B$4)/7)+1) -> 3 | I31: =IF(AND(A31<>"",C31="労働日"),I30+1,0) -> 2 | J31: =IF(AND(A31<>"",ISNUMBER($B$7),ISNUMBER($B$8)),IF(AND(A31>=$B$7,A31<=$B$8),1,0),0) -> 0
A32: =IF(ISNUMBER($B$4),IF(ISNUMBER($B$5),IF($B$4+20<=$B$5,$B$4+20,""),""),"") -> 46316 | B32: =IF(A32="","",CHOOSE(WEEKDAY(A32),"日","月","火","水","木","金","土")) -> 水 | C32: 労働日 | D32: 0.375 | E32: 0.75 | F32: 60 | G32: =IF(OR(A32="",C32<>"労働日"),0,MAX(0,MOD(E32-D32,1)*24-F32/60)) -> 8 | H32: =IF(A32="","",INT((A32-$B$4)/7)+1) -> 3 | I32: =IF(AND(A32<>"",C32="労働日"),I31+1,0) -> 3 | J32: =IF(AND(A32<>"",ISNUMBER($B$7),ISNUMBER($B$8)),IF(AND(A32>=$B$7,A32<=$B$8),1,0),0) -> 0
A33: =IF(ISNUMBER($B$4),IF(ISNUMBER($B$5),IF($B$4+21<=$B$5,$B$4+21,""),""),"") -> 46317 | B33: =IF(A33="","",CHOOSE(WEEKDAY(A33),"日","月","火","水","木","金","土")) -> 木 | C33: 労働日 | D33: 0.375 | E33: 0.75 | F33: 60 | G33: =IF(OR(A33="",C33<>"労働日"),0,MAX(0,MOD(E33-D33,1)*24-F33/60)) -> 8 | H33: =IF(A33="","",INT((A33-$B$4)/7)+1) -> 4 | I33: =IF(AND(A33<>"",C33="労働日"),I32+1,0) -> 4 | J33: =IF(AND(A33<>"",ISNUMBER($B$7),ISNUMBER($B$8)),IF(AND(A33>=$B$7,A33<=$B$8),1,0),0) -> 0
A34: =IF(ISNUMBER($B$4),IF(ISNUMBER($B$5),IF($B$4+22<=$B$5,$B$4+22,""),""),"") -> 46318 | B34: =IF(A34="","",CHOOSE(WEEKDAY(A34),"日","月","火","水","木","金","土")) -> 金 | C34: 労働日 | D34: 0.375 | E34: 0.75 | F34: 60 | G34: =IF(OR(A34="",C34<>"労働日"),0,MAX(0,MOD(E34-D34,1)*24-F34/60)) -> 8 | H34: =IF(A34="","",INT((A34-$B$4)/7)+1) -> 4 | I34: =IF(AND(A34<>"",C34="労働日"),I33+1,0) -> 5 | J34: =IF(AND(A34<>"",ISNUMBER($B$7),ISNUMBER($B$8)),IF(AND(A34>=$B$7,A34<=$B$8),1,0),0) -> 0
A35: =IF(ISNUMBER($B$4),IF(ISNUMBER($B$5),IF($B$4+23<=$B$5,$B$4+23,""),""),"") -> 46319 | B35: =IF(A35="","",CHOOSE(WEEKDAY(A35),"日","月","火","水","木","金","土")) -> 土 | C35: 休日 | G35: =IF(OR(A35="",C35<>"労働日"),0,MAX(0,MOD(E35-D35,1)*24-F35/60)) -> 0 | H35: =IF(A35="","",INT((A35-$B$4)/7)+1) -> 4 | I35: =IF(AND(A35<>"",C35="労働日"),I34+1,0) -> 0 | J35: =IF(AND(A35<>"",ISNUMBER($B$7),ISNUMBER($B$8)),IF(AND(A35>=$B$7,A35<=$B$8),1,0),0) -> 0
A36: =IF(ISNUMBER($B$4),IF(ISNUMBER($B$5),IF($B$4+24<=$B$5,$B$4+24,""),""),"") -> 46320 | B36: =IF(A36="","",CHOOSE(WEEKDAY(A36),"日","月","火","水","木","金","土")) -> 日 | C36: 休日 | G36: =IF(OR(A36="",C36<>"労働日"),0,MAX(0,MOD(E36-D36,1)*24-F36/60)) -> 0 | H36: =IF(A36="","",INT((A36-$B$4)/7)+1) -> 4 | I36: =IF(AND(A36<>"",C36="労働日"),I35+1,0) -> 0 | J36: =IF(AND(A36<>"",ISNUMBER($B$7),ISNUMBER($B$8)),IF(AND(A36>=$B$7,A36<=$B$8),1,0),0) -> 0
A37: =IF(ISNUMBER($B$4),IF(ISNUMBER($B$5),IF($B$4+25<=$B$5,$B$4+25,""),""),"") -> 46321 | B37: =IF(A37="","",CHOOSE(WEEKDAY(A37),"日","月","火","水","木","金","土")) -> 月 | C37: 労働日 | D37: 0.375 | E37: 0.75 | F37: 60 | G37: =IF(OR(A37="",C37<>"労働日"),0,MAX(0,MOD(E37-D37,1)*24-F37/60)) -> 8 | H37: =IF(A37="","",INT((A37-$B$4)/7)+1) -> 4 | I37: =IF(AND(A37<>"",C37="労働日"),I36+1,0) -> 1 | J37: =IF(AND(A37<>"",ISNUMBER($B$7),ISNUMBER($B$8)),IF(AND(A37>=$B$7,A37<=$B$8),1,0),0) -> 0
A38: =IF(ISNUMBER($B$4),IF(ISNUMBER($B$5),IF($B$4+26<=$B$5,$B$4+26,""),""),"") -> 46322 | B38: =IF(A38="","",CHOOSE(WEEKDAY(A38),"日","月","火","水","木","金","土")) -> 火 | C38: 労働日 | D38: 0.375 | E38: 0.75 | F38: 60 | G38: =IF(OR(A38="",C38<>"労働日"),0,MAX(0,MOD(E38-D38,1)*24-F38/60)) -> 8 | H38: =IF(A38="","",INT((A38-$B$4)/7)+1) -> 4 | I38: =IF(AND(A38<>"",C38="労働日"),I37+1,0) -> 2 | J38: =IF(AND(A38<>"",ISNUMBER($B$7),ISNUMBER($B$8)),IF(AND(A38>=$B$7,A38<=$B$8),1,0),0) -> 0
A39: =IF(ISNUMBER($B$4),IF(ISNUMBER($B$5),IF($B$4+27<=$B$5,$B$4+27,""),""),"") -> 46323 | B39: =IF(A39="","",CHOOSE(WEEKDAY(A39),"日","月","火","水","木","金","土")) -> 水 | C39: 労働日 | D39: 0.375 | E39: 0.75 | F39: 60 | G39: =IF(OR(A39="",C39<>"労働日"),0,MAX(0,MOD(E39-D39,1)*24-F39/60)) -> 8 | H39: =IF(A39="","",INT((A39-$B$4)/7)+1) -> 4 | I39: =IF(AND(A39<>"",C39="労働日"),I38+1,0) -> 3 | J39: =IF(AND(A39<>"",ISNUMBER($B$7),ISNUMBER($B$8)),IF(AND(A39>=$B$7,A39<=$B$8),1,0),0) -> 0
A40: =IF(ISNUMBER($B$4),IF(ISNUMBER($B$5),IF($B$4+28<=$B$5,$B$4+28,""),""),"") -> 46324 | B40: =IF(A40="","",CHOOSE(WEEKDAY(A40),"日","月","火","水","木","金","土")) -> 木 | C40: 労働日 | D40: 0.375 | E40: 0.75 | F40: 60 | G40: =IF(OR(A40="",C40<>"労働日"),0,MAX(0,MOD(E40-D40,1)*24-F40/60)) -> 8 | H40: =IF(A40="","",INT((A40-$B$4)/7)+1) -> 5 | I40: =IF(AND(A40<>"",C40="労働日"),I39+1,0) -> 4 | J40: =IF(AND(A40<>"",ISNUMBER($B$7),ISNUMBER($B$8)),IF(AND(A40>=$B$7,A40<=$B$8),1,0),0) -> 0
A41: =IF(ISNUMBER($B$4),IF(ISNUMBER($B$5),IF($B$4+29<=$B$5,$B$4+29,""),""),"") -> 46325 | B41: =IF(A41="","",CHOOSE(WEEKDAY(A41),"日","月","火","水","木","金","土")) -> 金 | C41: 労働日 | D41: 0.375 | E41: 0.75 | F41: 60 | G41: =IF(OR(A41="",C41<>"労働日"),0,MAX(0,MOD(E41-D41,1)*24-F41/60)) -> 8 | H41: =IF(A41="","",INT((A41-$B$4)/7)+1) -> 5 | I41: =IF(AND(A41<>"",C41="労働日"),I40+1,0) -> 5 | J41: =IF(AND(A41<>"",ISNUMBER($B$7),ISNUMBER($B$8)),IF(AND(A41>=$B$7,A41<=$B$8),1,0),0) -> 0
A42: =IF(ISNUMBER($B$4),IF(ISNUMBER($B$5),IF($B$4+30<=$B$5,$B$4+30,""),""),"") -> 46326 | B42: =IF(A42="","",CHOOSE(WEEKDAY(A42),"日","月","火","水","木","金","土")) -> 土 | C42: 休日 | G42: =IF(OR(A42="",C42<>"労働日"),0,MAX(0,MOD(E42-D42,1)*24-F42/60)) -> 0 | H42: =IF(A42="","",INT((A42-$B$4)/7)+1) -> 5 | I42: =IF(AND(A42<>"",C42="労働日"),I41+1,0) -> 0 | J42: =IF(AND(A42<>"",ISNUMBER($B$7),ISNUMBER($B$8)),IF(AND(A42>=$B$7,A42<=$B$8),1,0),0) -> 0
...

Sheet 記入例_区分表
A1: 別紙 区分表・記入例 （対象期間を1箇月ごとに区分した各期間の労働日数・総労働時間）
A2: 区分する場合、最初の期間を除く各期間は、この労働日数と総労働時間を協定に書き、 各期間の初日の少なくとも30日前に、 過半数代表者の同意を得て日ごとの労働日・労働時間を決めます（労基法32条の4第2項）。
A4: 区分 | B4: 最初の日 | C4: 最後の日 | D4: 労働日数 | E4: 総労働時間 | F4: 備考
A5: 1か月目 | B5: =IF(ISNUMBER('記入例_年間カレンダー'!$B$4),IF(EDATE('記入例_年間カレンダー'!$B$4,0)<='記入例_年間カレンダー'!$B$5,EDATE('記入例_年間カレンダー'!$B$4,0),""),"") -> 46296 | C5: =IF(B5="","",MIN(EDATE('記入例_年間カレンダー'!$B$4,1)-1,'記入例_年間カレンダー'!$B$5)) -> 46326 | D5: =IF(B5="","",COUNTIFS('記入例_年間カレンダー'!$A$12:$A$377,">="&B5,'記入例_年間カレンダー'!$A$12:$A$377,"<="&C5,'記入例_年間カレンダー'!$C$12:$C$377,"労働日")) -> 22 | E5: =IF(B5="","",SUMIFS('記入例_年間カレンダー'!$G$12:$G$377,'記入例_年間カレンダー'!$A$12:$A$377,">="&B5,'記入例_年間カレンダー'!$A$12:$A$377,"<="&C5)) -> 176 | F5: =IF(B5="","",IF(1=1,"最初の期間（日ごとに定める）","日ごとは30日前までに定める")) -> 最初の期間（日ごとに定める）
A6: 2か月目 | B6: =IF(ISNUMBER('記入例_年間カレンダー'!$B$4),IF(EDATE('記入例_年間カレンダー'!$B$4,1)<='記入例_年間カレンダー'!$B$5,EDATE('記入例_年間カレンダー'!$B$4,1),""),"") -> 46327 | C6: =IF(B6="","",MIN(EDATE('記入例_年間カレンダー'!$B$4,2)-1,'記入例_年間カレンダー'!$B$5)) -> 46356 | D6: =IF(B6="","",COUNTIFS('記入例_年間カレンダー'!$A$12:$A$377,">="&B6,'記入例_年間カレンダー'!$A$12:$A$377,"<="&C6,'記入例_年間カレンダー'!$C$12:$C$377,"労働日")) -> 19 | E6: =IF(B6="","",SUMIFS('記入例_年間カレンダー'!$G$12:$G$377,'記入例_年間カレンダー'!$A$12:$A$377,">="&B6,'記入例_年間カレンダー'!$A$12:$A$377,"<="&C6)) -> 152 | F6: =IF(B6="","",IF(2=1,"最初の期間（日ごとに定める）","日ごとは30日前までに定める")) -> 日ごとは30日前までに定める
A7: 3か月目 | B7: =IF(ISNUMBER('記入例_年間カレンダー'!$B$4),IF(EDATE('記入例_年間カレンダー'!$B$4,2)<='記入例_年間カレンダー'!$B$5,EDATE('記入例_年間カレンダー'!$B$4,2),""),"") -> 46357 | C7: =IF(B7="","",MIN(EDATE('記入例_年間カレンダー'!$B$4,3)-1,'記入例_年間カレンダー'!$B$5)) -> 46387 | D7: =IF(B7="","",COUNTIFS('記入例_年間カレンダー'!$A$12:$A$377,">="&B7,'記入例_年間カレンダー'!$A$12:$A$377,"<="&C7,'記入例_年間カレンダー'!$C$12:$C$377,"労働日")) -> 20 | E7: =IF(B7="","",SUMIFS('記入例_年間カレンダー'!$G$12:$G$377,'記入例_年間カレンダー'!$A$12:$A$377,">="&B7,'記入例_年間カレンダー'!$A$12:$A$377,"<="&C7)) -> 190 | F7: =IF(B7="","",IF(3=1,"最初の期間（日ごとに定める）","日ごとは30日前までに定める")) -> 日ごとは30日前までに定める
A8: 4か月目 | B8: =IF(ISNUMBER('記入例_年間カレンダー'!$B$4),IF(EDATE('記入例_年間カレンダー'!$B$4,3)<='記入例_年間カレンダー'!$B$5,EDATE('記入例_年間カレンダー'!$B$4,3),""),"") -> 46388 | C8: =IF(B8="","",MIN(EDATE('記入例_年間カレンダー'!$B$4,4)-1,'記入例_年間カレンダー'!$B$5)) -> 46418 | D8: =IF(B8="","",COUNTIFS('記入例_年間カレンダー'!$A$12:$A$377,">="&B8,'記入例_年間カレンダー'!$A$12:$A$377,"<="&C8,'記入例_年間カレンダー'!$C$12:$C$377,"労働日")) -> 18 | E8: =IF(B8="","",SUMIFS('記入例_年間カレンダー'!$G$12:$G$377,'記入例_年間カレンダー'!$A$12:$A$377,">="&B8,'記入例_年間カレンダー'!$A$12:$A$377,"<="&C8)) -> 144 | F8: =IF(B8="","",IF(4=1,"最初の期間（日ごとに定める）","日ごとは30日前までに定める")) -> 日ごとは30日前までに定める
A9: 5か月目 | B9: =IF(ISNUMBER('記入例_年間カレンダー'!$B$4),IF(EDATE('記入例_年間カレンダー'!$B$4,4)<='記入例_年間カレンダー'!$B$5,EDATE('記入例_年間カレンダー'!$B$4,4),""),"") -> 46419 | C9: =IF(B9="","",MIN(EDATE('記入例_年間カレンダー'!$B$4,5)-1,'記入例_年間カレンダー'!$B$5)) -> 46446 | D9: =IF(B9="","",COUNTIFS('記入例_年間カレンダー'!$A$12:$A$377,">="&B9,'記入例_年間カレンダー'!$A$12:$A$377,"<="&C9,'記入例_年間カレンダー'!$C$12:$C$377,"労働日")) -> 19 | E9: =IF(B9="","",SUMIFS('記入例_年間カレンダー'!$G$12:$G$377,'記入例_年間カレンダー'!$A$12:$A$377,">="&B9,'記入例_年間カレンダー'!$A$12:$A$377,"<="&C9)) -> 152 | F9: =IF(B9="","",IF(5=1,"最初の期間（日ごとに定める）","日ごとは30日前までに定める")) -> 日ごとは30日前までに定める
A10: 6か月目 | B10: =IF(ISNUMBER('記入例_年間カレンダー'!$B$4),IF(EDATE('記入例_年間カレンダー'!$B$4,5)<='記入例_年間カレンダー'!$B$5,EDATE('記入例_年間カレンダー'!$B$4,5),""),"") -> 46447 | C10: =IF(B10="","",MIN(EDATE('記入例_年間カレンダー'!$B$4,6)-1,'記入例_年間カレンダー'!$B$5)) -> 46477 | D10: =IF(B10="","",COUNTIFS('記入例_年間カレンダー'!$A$12:$A$377,">="&B10,'記入例_年間カレンダー'!$A$12:$A$377,"<="&C10,'記入例_年間カレンダー'!$C$12:$C$377,"労働日")) -> 23 | E10: =IF(B10="","",SUMIFS('記入例_年間カレンダー'!$G$12:$G$377,'記入例_年間カレンダー'!$A$12:$A$377,">="&B10,'記入例_年間カレンダー'!$A$12:$A$377,"<="&C10)) -> 184 | F10: =IF(B10="","",IF(6=1,"最初の期間（日ごとに定める）","日ごとは30日前までに定める")) -> 日ごとは30日前までに定める
A11: 7か月目 | B11: =IF(ISNUMBER('記入例_年間カレンダー'!$B$4),IF(EDATE('記入例_年間カレンダー'!$B$4,6)<='記入例_年間カレンダー'!$B$5,EDATE('記入例_年間カレンダー'!$B$4,6),""),"") -> 46478 | C11: =IF(B11="","",MIN(EDATE('記入例_年間カレンダー'!$B$4,7)-1,'記入例_年間カレンダー'!$B$5)) -> 46507 | D11: =IF(B11="","",COUNTIFS('記入例_年間カレンダー'!$A$12:$A$377,">="&B11,'記入例_年間カレンダー'!$A$12:$A$377,"<="&C11,'記入例_年間カレンダー'!$C$12:$C$377,"労働日")) -> 21 | E11: =IF(B11="","",SUMIFS('記入例_年間カレンダー'!$G$12:$G$377,'記入例_年間カレンダー'!$A$12:$A$377,">="&B11,'記入例_年間カレンダー'!$A$12:$A$377,"<="&C11)) -> 168 | F11: =IF(B11="","",IF(7=1,"最初の期間（日ごとに定める）","日ごとは30日前までに定める")) -> 日ごとは30日前までに定める
A12: 8か月目 | B12: =IF(ISNUMBER('記入例_年間カレンダー'!$B$4),IF(EDATE('記入例_年間カレンダー'!$B$4,7)<='記入例_年間カレンダー'!$B$5,EDATE('記入例_年間カレンダー'!$B$4,7),""),"") -> 46508 | C12: =IF(B12="","",MIN(EDATE('記入例_年間カレンダー'!$B$4,8)-1,'記入例_年間カレンダー'!$B$5)) -> 46538 | D12: =IF(B12="","",COUNTIFS('記入例_年間カレンダー'!$A$12:$A$377,">="&B12,'記入例_年間カレンダー'!$A$12:$A$377,"<="&C12,'記入例_年間カレンダー'!$C$12:$C$377,"労働日")) -> 18 | E12: =IF(B12="","",SUMIFS('記入例_年間カレンダー'!$G$12:$G$377,'記入例_年間カレンダー'!$A$12:$A$377,">="&B12,'記入例_年間カレンダー'!$A$12:$A$377,"<="&C12)) -> 144 | F12: =IF(B12="","",IF(8=1,"最初の期間（日ごとに定める）","日ごとは30日前までに定める")) -> 日ごとは30日前までに定める
A13: 9か月目 | B13: =IF(ISNUMBER('記入例_年間カレンダー'!$B$4),IF(EDATE('記入例_年間カレンダー'!$B$4,8)<='記入例_年間カレンダー'!$B$5,EDATE('記入例_年間カレンダー'!$B$4,8),""),"") -> 46539 | C13: =IF(B13="","",MIN(EDATE('記入例_年間カレンダー'!$B$4,9)-1,'記入例_年間カレンダー'!$B$5)) -> 46568 | D13: =IF(B13="","",COUNTIFS('記入例_年間カレンダー'!$A$12:$A$377,">="&B13,'記入例_年間カレンダー'!$A$12:$A$377,"<="&C13,'記入例_年間カレンダー'!$C$12:$C$377,"労働日")) -> 22 | E13: =IF(B13="","",SUMIFS('記入例_年間カレンダー'!$G$12:$G$377,'記入例_年間カレンダー'!$A$12:$A$377,">="&B13,'記入例_年間カレンダー'!$A$12:$A$377,"<="&C13)) -> 176 | F13: =IF(B13="","",IF(9=1,"最初の期間（日ごとに定める）","日ごとは30日前までに定める")) -> 日ごとは30日前までに定める
A14: 10か月目 | B14: =IF(ISNUMBER('記入例_年間カレンダー'!$B$4),IF(EDATE('記入例_年間カレンダー'!$B$4,9)<='記入例_年間カレンダー'!$B$5,EDATE('記入例_年間カレンダー'!$B$4,9),""),"") -> 46569 | C14: =IF(B14="","",MIN(EDATE('記入例_年間カレンダー'!$B$4,10)-1,'記入例_年間カレンダー'!$B$5)) -> 46599 | D14: =IF(B14="","",COUNTIFS('記入例_年間カレンダー'!$A$12:$A$377,">="&B14,'記入例_年間カレンダー'!$A$12:$A$377,"<="&C14,'記入例_年間カレンダー'!$C$12:$C$377,"労働日")) -> 22 | E14: =IF(B14="","",SUMIFS('記入例_年間カレンダー'!$G$12:$G$377,'記入例_年間カレンダー'!$A$12:$A$377,">="&B14,'記入例_年間カレンダー'!$A$12:$A$377,"<="&C14)) -> 176 | F14: =IF(B14="","",IF(10=1,"最初の期間（日ごとに定める）","日ごとは30日前までに定める")) -> 日ごとは30日前までに定める
A15: 11か月目 | B15: =IF(ISNUMBER('記入例_年間カレンダー'!$B$4),IF(EDATE('記入例_年間カレンダー'!$B$4,10)<='記入例_年間カレンダー'!$B$5,EDATE('記入例_年間カレンダー'!$B$4,10),""),"") -> 46600 | C15: =IF(B15="","",MIN(EDATE('記入例_年間カレンダー'!$B$4,11)-1,'記入例_年間カレンダー'!$B$5)) -> 46630 | D15: =IF(B15="","",COUNTIFS('記入例_年間カレンダー'!$A$12:$A$377,">="&B15,'記入例_年間カレンダー'!$A$12:$A$377,"<="&C15,'記入例_年間カレンダー'!$C$12:$C$377,"労働日")) -> 19 | E15: =IF(B15="","",SUMIFS('記入例_年間カレンダー'!$G$12:$G$377,'記入例_年間カレンダー'!$A$12:$A$377,">="&B15,'記入例_年間カレンダー'!$A$12:$A$377,"<="&C15)) -> 152 | F15: =IF(B15="","",IF(11=1,"最初の期間（日ごとに定める）","日ごとは30日前までに定める")) -> 日ごとは30日前までに定める
A16: 12か月目 | B16: =IF(ISNUMBER('記入例_年間カレンダー'!$B$4),IF(EDATE('記入例_年間カレンダー'!$B$4,11)<='記入例_年間カレンダー'!$B$5,EDATE('記入例_年間カレンダー'!$B$4,11),""),"") -> 46631 | C16: =IF(B16="","",MIN(EDATE('記入例_年間カレンダー'!$B$4,12)-1,'記入例_年間カレンダー'!$B$5)) -> 46660 | D16: =IF(B16="","",COUNTIFS('記入例_年間カレンダー'!$A$12:$A$377,">="&B16,'記入例_年間カレンダー'!$A$12:$A$377,"<="&C16,'記入例_年間カレンダー'!$C$12:$C$377,"労働日")) -> 22 | E16: =IF(B16="","",SUMIFS('記入例_年間カレンダー'!$G$12:$G$377,'記入例_年間カレンダー'!$A$12:$A$377,">="&B16,'記入例_年間カレンダー'!$A$12:$A$377,"<="&C16)) -> 176 | F16: =IF(B16="","",IF(12=1,"最初の期間（日ごとに定める）","日ごとは30日前までに定める")) -> 日ごとは30日前までに定める
A17: 合計 | D17: =SUM(D5:D16) -> 245 | E17: =SUM(E5:E16) -> 1990

Sheet 記入例_判定
A1: 限度基準の判定（労基法32条の4・施行規則12条の4）・記入例
A2: 週は、対象期間の開始日から7日ごとに区切って数えています。就業規則等で週の起算日を定めている場合は、その区切りで確かめてください。
A4: 対象期間の暦日数 | B4: ='記入例_年間カレンダー'!B6 -> 365
A5: 対象期間の長さ | B5: =IF(B4="","未入力",IF(OR('記入例_年間カレンダー'!B5<EDATE('記入例_年間カレンダー'!B4,1),'記入例_年間カレンダー'!B5>EDATE('記入例_年間カレンダー'!B4,12)-1),"範囲外",IF('記入例_年間カレンダー'!B5>EDATE('記入例_年間カレンダー'!B4,3)-1,"3箇月超","3箇月以内"))) -> 3箇月超
A6: 区分が空の日の数 | B6: =SUMPRODUCT(('記入例_年間カレンダー'!$A$12:$A$377<>"")*('記入例_年間カレンダー'!$C$12:$C$377="")) -> 0
A8: 項目 | B8: あなたの値 | C8: 限度 | D8: 判定
A9: 労働日数（対象期間3箇月超のとき） | B9: =SUMPRODUCT(('記入例_年間カレンダー'!$C$12:$C$377="労働日")*('記入例_年間カレンダー'!$A$12:$A$377<>"")) -> 245 | C9: 280日以内（1年当たり） | D9: =IF(B4="","未入力",IF(B5="3箇月以内","対象外(3箇月以内)",IF(B5<>"3箇月超","対象期間を確認",IF(B9>280,"超過",IF('記入例_年間カレンダー'!B5>=EDATE('記入例_年間カレンダー'!B4,12)-1,"範囲内","要確認(1年未満は数え方を確認)"))))) -> 範囲内
A10: 対象期間の総労働時間の上限（40時間×暦日数÷7） | B10: =IF(B4="","",40*B4/7) -> 2085.7143 | C10: この値が上限です
A11: 総所定労働時間（平均して週40時間以内か） | B11: =SUM('記入例_年間カレンダー'!$G$12:$G$377) -> 1990 | C11: 上限以内（法32条の4第1項） | D11: =IF(OR(B4="",B6>0),"未入力",IF(B11<=B10,"範囲内","超過")) -> 範囲内
A12: 1日の最長労働時間 | B12: =MAX('記入例_年間カレンダー'!$G$12:$G$377) -> 9.5 | C12: 10時間以内 | D12: =IF(B6>0,"未入力",IF(B12<=10,"範囲内","超過")) -> 範囲内
A13: 1週間の最長労働時間 | B13: =MAX(H27:H79) -> 47.5 | C13: 52時間以内 | D13: =IF(B6>0,"未入力",IF(B13<=52,"範囲内","超過")) -> 範囲内
A14: 週48時間を超える週の連続（最大・週） | B14: =MAX(J27:J79) -> 0 | C14: 3週以下（3箇月超のとき） | D14: =IF(B5<>"3箇月超","対象外(3箇月以内)",IF(B6>0,"未入力",IF(B14<=3,"範囲内","超過"))) -> 範囲内
A15: 3箇月ごとの区分で48時間超の週の初日の数（最大） | B15: =MAX(O27:O30) -> 0 | C15: 3以下（3箇月超のとき） | D15: =IF(B5<>"3箇月超","対象外(3箇月以内)",IF(B6>0,"未入力",IF(B15<=3,"範囲内","超過"))) -> 範囲内
A16: 連続労働日数の最大（特定期間を除く） | B16: =SUMPRODUCT(MAX(('記入例_年間カレンダー'!$J$12:$J$377=0)*'記入例_年間カレンダー'!$I$12:$I$377)) -> 5 | C16: 6日以内 | D16: =IF(B6>0,"未入力",IF(B16<=6,"範囲内","超過")) -> 範囲内
A17: 連続労働日数の最大（特定期間） | B17: =SUMPRODUCT(MAX(('記入例_年間カレンダー'!$J$12:$J$377=1)*'記入例_年間カレンダー'!$I$12:$I$377)) -> 5 | C17: 12日以内（条文の「1週間に1日の休日」から計算した目安） | D17: =IF(B6>0,"未入力",IF(B17<=12,"範囲内(計算上の目安)","要確認")) -> 範囲内(計算上の目安)
A19: 【根拠】 280日・1日10時間・1週52時間・週48時間超（連続3週以下・初日から3箇月ごとに区分した各期間で週の初日が3以下）・連続労働日数6日＝施行規則12条の4第3項〜第5項。平均して週40時間以内＝労働基準法32条の4第1項。特定期間の連続労働日数は、条文が「一週間に一日の休日が確保できる日数」とだけ定めているため、休日を週の最初の日と次の週の最後の日に置いた計算値の12日を目安にしています（条文に12日という数字はありません）。対象期間が1年未満のときの280日の数え方は条文に書いていないので、280日を超えていなければ「要確認」と表示します。特定期間に入った日の連続労働日数は特定期間の欄で数えます。この表はセルフチェック用の簡易ツールです。
F26: 週 | G26: 週の初日 | H26: 労働時間 | I26: 48時間超 | J26: 48超の連続 | K26: 3箇月区分 | M26: 区分 | N26: 最初の日 | O26: 48超の週の初日の数
F27: 1 | G27: =IF(ISNUMBER('記入例_年間カレンダー'!$B$4),IF('記入例_年間カレンダー'!$B$4+0<='記入例_年間カレンダー'!$B$5,'記入例_年間カレンダー'!$B$4+0,""),"") -> 46296 | H27: =IF(G27="","",SUMIF('記入例_年間カレンダー'!$H$12:$H$377,F27,'記入例_年間カレンダー'!$G$12:$G$377)) -> 40 | I27: =IF(G27="",0,IF(H27>48,1,0)) -> 0 | J27: =IF(I27=1,0+1,0) -> 0 | K27: =IF(G27="","",COUNTIF($N$27:$N$30,"<="&G27)) -> 1 | M27: 1 | N27: =IF(ISNUMBER('記入例_年間カレンダー'!$B$4),EDATE('記入例_年間カレンダー'!$B$4,0),"") -> 46296 | O27: =SUMIF($K$27:$K$79,M27,$I$27:$I$79) -> 0
F28: 2 | G28: =IF(ISNUMBER('記入例_年間カレンダー'!$B$4),IF('記入例_年間カレンダー'!$B$4+7<='記入例_年間カレンダー'!$B$5,'記入例_年間カレンダー'!$B$4+7,""),"") -> 46303 | H28: =IF(G28="","",SUMIF('記入例_年間カレンダー'!$H$12:$H$377,F28,'記入例_年間カレンダー'!$G$12:$G$377)) -> 40 | I28: =IF(G28="",0,IF(H28>48,1,0)) -> 0 | J28: =IF(I28=1,J27+1,0) -> 0 | K28: =IF(G28="","",COUNTIF($N$27:$N$30,"<="&G28)) -> 1 | M28: 2 | N28: =IF(ISNUMBER('記入例_年間カレンダー'!$B$4),EDATE('記入例_年間カレンダー'!$B$4,3),"") -> 46388 | O28: =SUMIF($K$27:$K$79,M28,$I$27:$I$79) -> 0
F29: 3 | G29: =IF(ISNUMBER('記入例_年間カレンダー'!$B$4),IF('記入例_年間カレンダー'!$B$4+14<='記入例_年間カレンダー'!$B$5,'記入例_年間カレンダー'!$B$4+14,""),"") -> 46310 | H29: =IF(G29="","",SUMIF('記入例_年間カレンダー'!$H$12:$H$377,F29,'記入例_年間カレンダー'!$G$12:$G$377)) -> 40 | I29: =IF(G29="",0,IF(H29>48,1,0)) -> 0 | J29: =IF(I29=1,J28+1,0) -> 0 | K29: =IF(G29="","",COUNTIF($N$27:$N$30,"<="&G29)) -> 1 | M29: 3 | N29: =IF(ISNUMBER('記入例_年間カレンダー'!$B$4),EDATE('記入例_年間カレンダー'!$B$4,6),"") -> 46478 | O29: =SUMIF($K$27:$K$79,M29,$I$27:$I$79) -> 0
F30: 4 | G30: =IF(ISNUMBER('記入例_年間カレンダー'!$B$4),IF('記入例_年間カレンダー'!$B$4+21<='記入例_年間カレンダー'!$B$5,'記入例_年間カレンダー'!$B$4+21,""),"") -> 46317 | H30: =IF(G30="","",SUMIF('記入例_年間カレンダー'!$H$12:$H$377,F30,'記入例_年間カレンダー'!$G$12:$G$377)) -> 40 | I30: =IF(G30="",0,IF(H30>48,1,0)) -> 0 | J30: =IF(I30=1,J29+1,0) -> 0 | K30: =IF(G30="","",COUNTIF($N$27:$N$30,"<="&G30)) -> 1 | M30: 4 | N30: =IF(ISNUMBER('記入例_年間カレンダー'!$B$4),EDATE('記入例_年間カレンダー'!$B$4,9),"") -> 46569 | O30: =SUMIF($K$27:$K$79,M30,$I$27:$I$79) -> 0
F31: 5 | G31: =IF(ISNUMBER('記入例_年間カレンダー'!$B$4),IF('記入例_年間カレンダー'!$B$4+28<='記入例_年間カレンダー'!$B$5,'記入例_年間カレンダー'!$B$4+28,""),"") -> 46324 | H31: =IF(G31="","",SUMIF('記入例_年間カレンダー'!$H$12:$H$377,F31,'記入例_年間カレンダー'!$G$12:$G$377)) -> 32 | I31: =IF(G31="",0,IF(H31>48,1,0)) -> 0 | J31: =IF(I31=1,J30+1,0) -> 0 | K31: =IF(G31="","",COUNTIF($N$27:$N$30,"<="&G31)) -> 1
F32: 6 | G32: =IF(ISNUMBER('記入例_年間カレンダー'!$B$4),IF('記入例_年間カレンダー'!$B$4+35<='記入例_年間カレンダー'!$B$5,'記入例_年間カレンダー'!$B$4+35,""),"") -> 46331 | H32: =IF(G32="","",SUMIF('記入例_年間カレンダー'!$H$12:$H$377,F32,'記入例_年間カレンダー'!$G$12:$G$377)) -> 40 | I32: =IF(G32="",0,IF(H32>48,1,0)) -> 0 | J32: =IF(I32=1,J31+1,0) -> 0 | K32: =IF(G32="","",COUNTIF($N$27:$N$30,"<="&G32)) -> 1
F33: 7 | G33: =IF(ISNUMBER('記入例_年間カレンダー'!$B$4),IF('記入例_年間カレンダー'!$B$4+42<='記入例_年間カレンダー'!$B$5,'記入例_年間カレンダー'!$B$4+42,""),"") -> 46338 | H33: =IF(G33="","",SUMIF('記入例_年間カレンダー'!$H$12:$H$377,F33,'記入例_年間カレンダー'!$G$12:$G$377)) -> 40 | I33: =IF(G33="",0,IF(H33>48,1,0)) -> 0 | J33: =IF(I33=1,J32+1,0) -> 0 | K33: =IF(G33="","",COUNTIF($N$27:$N$30,"<="&G33)) -> 1
F34: 8 | G34: =IF(ISNUMBER('記入例_年間カレンダー'!$B$4),IF('記入例_年間カレンダー'!$B$4+49<='記入例_年間カレンダー'!$B$5,'記入例_年間カレンダー'!$B$4+49,""),"") -> 46345 | H34: =IF(G34="","",SUMIF('記入例_年間カレンダー'!$H$12:$H$377,F34,'記入例_年間カレンダー'!$G$12:$G$377)) -> 32 | I34: =IF(G34="",0,IF(H34>48,1,0)) -> 0 | J34: =IF(I34=1,J33+1,0) -> 0 | K34: =IF(G34="","",COUNTIF($N$27:$N$30,"<="&G34)) -> 1
F35: 9 | G35: =IF(ISNUMBER('記入例_年間カレンダー'!$B$4),IF('記入例_年間カレンダー'!$B$4+56<='記入例_年間カレンダー'!$B$5,'記入例_年間カレンダー'!$B$4+56,""),"") -> 46352 | H35: =IF(G35="","",SUMIF('記入例_年間カレンダー'!$H$12:$H$377,F35,'記入例_年間カレンダー'!$G$12:$G$377)) -> 43 | I35: =IF(G35="",0,IF(H35>48,1,0)) -> 0 | J35: =IF(I35=1,J34+1,0) -> 0 | K35: =IF(G35="","",COUNTIF($N$27:$N$30,"<="&G35)) -> 1
F36: 10 | G36: =IF(ISNUMBER('記入例_年間カレンダー'!$B$4),IF('記入例_年間カレンダー'!$B$4+63<='記入例_年間カレンダー'!$B$5,'記入例_年間カレンダー'!$B$4+63,""),"") -> 46359 | H36: =IF(G36="","",SUMIF('記入例_年間カレンダー'!$H$12:$H$377,F36,'記入例_年間カレンダー'!$G$12:$G$377)) -> 47.5 | I36: =IF(G36="",0,IF(H36>48,1,0)) -> 0 | J36: =IF(I36=1,J35+1,0) -> 0 | K36: =IF(G36="","",COUNTIF($N$27:$N$30,"<="&G36)) -> 1
F37: 11 | G37: =IF(ISNUMBER('記入例_年間カレンダー'!$B$4),IF('記入例_年間カレンダー'!$B$4+70<='記入例_年間カレンダー'!$B$5,'記入例_年間カレンダー'!$B$4+70,""),"") -> 46366 | H37: =IF(G37="","",SUMIF('記入例_年間カレンダー'!$H$12:$H$377,F37,'記入例_年間カレンダー'!$G$12:$G$377)) -> 47.5 | I37: =IF(G37="",0,IF(H37>48,1,0)) -> 0 | J37: =IF(I37=1,J36+1,0) -> 0 | K37: =IF(G37="","",COUNTIF($N$27:$N$30,"<="&G37)) -> 1
F38: 12 | G38: =IF(ISNUMBER('記入例_年間カレンダー'!$B$4),IF('記入例_年間カレンダー'!$B$4+77<='記入例_年間カレンダー'!$B$5,'記入例_年間カレンダー'!$B$4+77,""),"") -> 46373 | H38: =IF(G38="","",SUMIF('記入例_年間カレンダー'!$H$12:$H$377,F38,'記入例_年間カレンダー'!$G$12:$G$377)) -> 47.5 | I38: =IF(G38="",0,IF(H38>48,1,0)) -> 0 | J38: =IF(I38=1,J37+1,0) -> 0 | K38: =IF(G38="","",COUNTIF($N$27:$N$30,"<="&G38)) -> 1
F39: 13 | G39: =IF(ISNUMBER('記入例_年間カレンダー'!$B$4),IF('記入例_年間カレンダー'!$B$4+84<='記入例_年間カレンダー'!$B$5,'記入例_年間カレンダー'!$B$4+84,""),"") -> 46380 | H39: =IF(G39="","",SUMIF('記入例_年間カレンダー'!$H$12:$H$377,F39,'記入例_年間カレンダー'!$G$12:$G$377)) -> 28.5 | I39: =IF(G39="",0,IF(H39>48,1,0)) -> 0 | J39: =IF(I39=1,J38+1,0) -> 0 | K39: =IF(G39="","",COUNTIF($N$27:$N$30,"<="&G39)) -> 1
F40: 14 | G40: =IF(ISNUMBER('記入例_年間カレンダー'!$B$4),IF('記入例_年間カレンダー'!$B$4+91<='記入例_年間カレンダー'!$B$5,'記入例_年間カレンダー'!$B$4+91,""),"") -> 46387 | H40: =IF(G40="","",SUMIF('記入例_年間カレンダー'!$H$12:$H$377,F40,'記入例_年間カレンダー'!$G$12:$G$377)) -> 16 | I40: =IF(G40="",0,IF(H40>48,1,0)) -> 0 | J40: =IF(I40=1,J39+1,0) -> 0 | K40: =IF(G40="","",COUNTIF($N$27:$N$30,"<="&G40)) -> 1
F41: 15 | G41: =IF(ISNUMBER('記入例_年間カレンダー'!$B$4),IF('記入例_年間カレンダー'!$B$4+98<='記入例_年間カレンダー'!$B$5,'記入例_年間カレンダー'!$B$4+98,""),"") -> 46394 | H41: =IF(G41="","",SUMIF('記入例_年間カレンダー'!$H$12:$H$377,F41,'記入例_年間カレンダー'!$G$12:$G$377)) -> 32 | I41: =IF(G41="",0,IF(H41>48,1,0)) -> 0 | J41: =IF(I41=1,J40+1,0) -> 0 | K41: =IF(G41="","",COUNTIF($N$27:$N$30,"<="&G41)) -> 2
